BEGIN:VCALENDAR
VERSION:2.0
PRODID:-//VidiReo - ECPv6.15.20//NONSGML v1.0//EN
CALSCALE:GREGORIAN
METHOD:PUBLISH
X-WR-CALNAME:VidiReo
X-ORIGINAL-URL:https://vidireo.nl
X-WR-CALDESC:Evenementen voor VidiReo
REFRESH-INTERVAL;VALUE=DURATION:PT1H
X-Robots-Tag:noindex
X-PUBLISHED-TTL:PT1H
BEGIN:VTIMEZONE
TZID:UTC
BEGIN:STANDARD
TZOFFSETFROM:+0000
TZOFFSETTO:+0000
TZNAME:UTC
DTSTART:20190101T000000
END:STANDARD
END:VTIMEZONE
BEGIN:VTIMEZONE
TZID:Europe/Amsterdam
BEGIN:DAYLIGHT
TZOFFSETFROM:+0100
TZOFFSETTO:+0200
TZNAME:CEST
DTSTART:20190331T010000
END:DAYLIGHT
BEGIN:STANDARD
TZOFFSETFROM:+0200
TZOFFSETTO:+0100
TZNAME:CET
DTSTART:20191027T010000
END:STANDARD
BEGIN:DAYLIGHT
TZOFFSETFROM:+0100
TZOFFSETTO:+0200
TZNAME:CEST
DTSTART:20200329T010000
END:DAYLIGHT
BEGIN:STANDARD
TZOFFSETFROM:+0200
TZOFFSETTO:+0100
TZNAME:CET
DTSTART:20201025T010000
END:STANDARD
BEGIN:DAYLIGHT
TZOFFSETFROM:+0100
TZOFFSETTO:+0200
TZNAME:CEST
DTSTART:20210328T010000
END:DAYLIGHT
BEGIN:STANDARD
TZOFFSETFROM:+0200
TZOFFSETTO:+0100
TZNAME:CET
DTSTART:20211031T010000
END:STANDARD
END:VTIMEZONE
BEGIN:VEVENT
DTSTART;TZID=UTC:20201223T113000
DTEND;TZID=UTC:20201223T133000
DTSTAMP:20260426T023811
CREATED:20200828T061752Z
LAST-MODIFIED:20201214T201828Z
UID:10001075-1608723000-1608730200@vidireo.nl
SUMMARY:GEANNULEERD  I.V.M. LOCKDOWN                    11:30-13:30 UUR  FILM     How the Grinch stole Christmas
DESCRIPTION:Woensdag 23 december  \n\n\n\nEntree € 3\,50  alle leeftijden \n\n\n\n\n\n\n\n\n\nIn een sneeuwvlok ligt het magische land van de Who’s\, een volkje dat houdt van Kerstmis en feest vieren. Maar bovenop de berg leeft de ‘Grinch’\, een oude knorrepot die de kerstdagen haat en alleen maar wraak wil nemen op diegenen die hem kwaad hebben gedaan. Op kerstavond besluit hij naar het dorp af te zakken\, vermomd als de Kerstman\, en de cadeautjes en kerstversieringen te stelen. De kleine Cindy Lou Who kan niet begrijpen dat iemand zo stout kan zijn en probeert contact te zoeken met de ‘Grinch’..
URL:https://vidireo.nl/event/1100-1300-uur-how-the-grinch-stole-christmas/
END:VEVENT
BEGIN:VEVENT
DTSTART;TZID=Europe/Amsterdam:20201222T100000
DTEND;TZID=Europe/Amsterdam:20201222T170000
DTSTAMP:20260426T023811
CREATED:20201207T143520Z
LAST-MODIFIED:20201207T143520Z
UID:10001191-1608631200-1608656400@vidireo.nl
SUMMARY:10:30 uur krulkracht dagbesteding
DESCRIPTION:
URL:https://vidireo.nl/event/1030-uur-krulkracht-dagbesteding-12/
END:VEVENT
BEGIN:VEVENT
DTSTART;TZID=Europe/Amsterdam:20201221T193000
DTEND;TZID=Europe/Amsterdam:20201221T213000
DTSTAMP:20260426T023811
CREATED:20201208T133940Z
LAST-MODIFIED:20201208T133941Z
UID:10001193-1608579000-1608586200@vidireo.nl
SUMMARY:19:30 uur repetitie OBK
DESCRIPTION:
URL:https://vidireo.nl/event/1930-uur-repetitie-obk-8/
END:VEVENT
BEGIN:VEVENT
DTSTART;TZID=UTC:20201219T113000
DTEND;TZID=UTC:20201219T133000
DTSTAMP:20260426T023811
CREATED:20200828T060055Z
LAST-MODIFIED:20201214T201753Z
UID:10001073-1608377400-1608384600@vidireo.nl
SUMMARY:GEANNULEERD  I.V.M. LOCKDOWN    11:30 -13:30 uur FILM Paddington
DESCRIPTION:Zaterdag 19 december \n\n\n\nEntree € 3\,50 Leeftijd vanaf 6 jaar \n\n\n\n\n\n\n\n\n\nEen jonge Peruaanse beer\, die een passie heeft voor alles wat Brits is\, vertrekt naar Londen waar hij op zoek gaat naar een woning. Wanneer hij eenzaam en verloren op Paddington Station belandt\, begint hij te beseffen dat het leven in de stad niet is wat hij zich ervan had voorgesteld. Maar dan ontmoet hij de vriendelijke familie Brown\, die het label om zijn nek leest (“Pas alsjeblieft op deze beer\, dankjewel”) en hem een tijdelijk onderkomen aanbiedt. 
URL:https://vidireo.nl/event/1100-1300-uur-paddington/
END:VEVENT
BEGIN:VEVENT
DTSTART;TZID=Europe/Amsterdam:20201217T100000
DTEND;TZID=Europe/Amsterdam:20201217T170000
DTSTAMP:20260426T023811
CREATED:20201207T102608Z
LAST-MODIFIED:20201207T102608Z
UID:10001178-1608199200-1608224400@vidireo.nl
SUMMARY:10:30 uur krulkracht dagbesteding
DESCRIPTION:
URL:https://vidireo.nl/event/1030-uur-krulkracht-dagbesteding-14/
END:VEVENT
BEGIN:VEVENT
DTSTART;TZID=Europe/Amsterdam:20201215T200000
DTEND;TZID=Europe/Amsterdam:20201215T223000
DTSTAMP:20260426T023811
CREATED:20201207T100442Z
LAST-MODIFIED:20201207T100443Z
UID:10001165-1608062400-1608071400@vidireo.nl
SUMMARY:20:00 uur repetitie Bigband
DESCRIPTION:
URL:https://vidireo.nl/event/2000-uur-repetitie-bigband-6/
END:VEVENT
BEGIN:VEVENT
DTSTART;TZID=Europe/Amsterdam:20201215T170000
DTEND;TZID=Europe/Amsterdam:20201215T180000
DTSTAMP:20260426T023811
CREATED:20201207T103128Z
LAST-MODIFIED:20201207T103128Z
UID:10001180-1608051600-1608055200@vidireo.nl
SUMMARY:17:00-18:00 repetitie slagwerkgroep
DESCRIPTION:
URL:https://vidireo.nl/event/1700-1800-repetitie-slagwerkgroep-10/
END:VEVENT
BEGIN:VEVENT
DTSTART;TZID=Europe/Amsterdam:20201215T100000
DTEND;TZID=Europe/Amsterdam:20201215T170000
DTSTAMP:20260426T023811
CREATED:20201207T102236Z
LAST-MODIFIED:20201207T105400Z
UID:10001172-1608026400-1608051600@vidireo.nl
SUMMARY:10:30 krulkracht dagbesteding
DESCRIPTION:
URL:https://vidireo.nl/event/1030-krulkracht-dagbesteding/
END:VEVENT
BEGIN:VEVENT
DTSTART;TZID=Europe/Amsterdam:20201214T193000
DTEND;TZID=Europe/Amsterdam:20201214T220000
DTSTAMP:20260426T023811
CREATED:20201207T100203Z
LAST-MODIFIED:20201207T100204Z
UID:10001163-1607974200-1607983200@vidireo.nl
SUMMARY:19:30 uur Repetitie OBK
DESCRIPTION:
URL:https://vidireo.nl/event/1930-uur-repetitie-obk-7/
END:VEVENT
BEGIN:VEVENT
DTSTART;TZID=Europe/Amsterdam:20201214T163000
DTEND;TZID=Europe/Amsterdam:20201214T173000
DTSTAMP:20260426T023811
CREATED:20201207T101431Z
LAST-MODIFIED:20201207T105309Z
UID:10001167-1607963400-1607967000@vidireo.nl
SUMMARY:16:30 uur Jeugdtheater Spons
DESCRIPTION:
URL:https://vidireo.nl/event/1630-uur-jeugdtheater-spons-8/
END:VEVENT
BEGIN:VEVENT
DTSTART;TZID=Europe/Amsterdam:20201213T090000
DTEND;TZID=Europe/Amsterdam:20201213T160000
DTSTAMP:20260426T023811
CREATED:20201207T101809Z
LAST-MODIFIED:20201207T101809Z
UID:10001168-1607850000-1607875200@vidireo.nl
SUMMARY:09:15 - 16:00 uur Jeugdtheater Spons
DESCRIPTION:
URL:https://vidireo.nl/event/0915-1600-uur-jeugdtheater-spons/
END:VEVENT
BEGIN:VEVENT
DTSTART;TZID=Europe/Amsterdam:20201211T140000
DTEND;TZID=Europe/Amsterdam:20201211T170000
DTSTAMP:20260426T023811
CREATED:20201207T105614Z
LAST-MODIFIED:20201207T105614Z
UID:10001188-1607695200-1607706000@vidireo.nl
SUMMARY:14:00 uur KBO Kienen
DESCRIPTION:
URL:https://vidireo.nl/event/1400-uur-kbo-kienen/
END:VEVENT
BEGIN:VEVENT
DTSTART;TZID=Europe/Amsterdam:20201210T100000
DTEND;TZID=Europe/Amsterdam:20201210T170000
DTSTAMP:20260426T023811
CREATED:20201207T102353Z
LAST-MODIFIED:20201207T102353Z
UID:10001174-1607594400-1607619600@vidireo.nl
SUMMARY:10:30 uur Krulkracht dagbesteding
DESCRIPTION:
URL:https://vidireo.nl/event/1030-uur-krulkracht-dagbesteding-11/
END:VEVENT
BEGIN:VEVENT
DTSTART;TZID=Europe/Amsterdam:20201209T173000
DTEND;TZID=Europe/Amsterdam:20201209T190000
DTSTAMP:20260426T023811
CREATED:20201208T133543Z
LAST-MODIFIED:20201208T133543Z
UID:10001192-1607535000-1607540400@vidireo.nl
SUMMARY:17:30 uur Griepspuit
DESCRIPTION:
URL:https://vidireo.nl/event/1730-uur-griepspuit-2/
END:VEVENT
BEGIN:VEVENT
DTSTART;TZID=UTC:20201209T143000
DTEND;TZID=UTC:20201209T160000
DTSTAMP:20260426T023811
CREATED:20200714T111952Z
LAST-MODIFIED:20200715T151256Z
UID:10001013-1607524200-1607529600@vidireo.nl
SUMMARY:14.30 uur Gezellig Bij
DESCRIPTION:Maandelijkse Knutselactiviteit
URL:https://vidireo.nl/event/14-30-uur-gezellig-bij-2/
END:VEVENT
BEGIN:VEVENT
DTSTART;TZID=Europe/Amsterdam:20201208T200000
DTEND;TZID=Europe/Amsterdam:20201208T200000
DTSTAMP:20260426T023811
CREATED:20201207T100345Z
LAST-MODIFIED:20201207T100345Z
UID:10001164-1607457600-1607457600@vidireo.nl
SUMMARY:20:00 uur repetitie Bigband
DESCRIPTION:
URL:https://vidireo.nl/event/2000-uur-repetitie-bigband-5/
END:VEVENT
BEGIN:VEVENT
DTSTART;TZID=UTC:20201208T170000
DTEND;TZID=UTC:20201208T180000
DTSTAMP:20260426T023811
CREATED:20200830T075350Z
LAST-MODIFIED:20200830T075352Z
UID:10001021-1607446800-1607450400@vidireo.nl
SUMMARY:17:00-18:00 repetitie slagwerkgroep
DESCRIPTION:
URL:https://vidireo.nl/event/1700-1800-repetitie-slagwerkgroep-9/
END:VEVENT
BEGIN:VEVENT
DTSTART;TZID=Europe/Amsterdam:20201208T100000
DTEND;TZID=Europe/Amsterdam:20201208T170000
DTSTAMP:20260426T023811
CREATED:20201207T105517Z
LAST-MODIFIED:20201207T105517Z
UID:10001186-1607421600-1607446800@vidireo.nl
SUMMARY:10:30 uur krulkracht dagbesteding
DESCRIPTION:
URL:https://vidireo.nl/event/1030-uur-krulkracht-dagbesteding-10/
END:VEVENT
BEGIN:VEVENT
DTSTART;TZID=Europe/Amsterdam:20201207T193000
DTEND;TZID=Europe/Amsterdam:20201207T220000
DTSTAMP:20260426T023811
CREATED:20201207T100059Z
LAST-MODIFIED:20201207T100100Z
UID:10001162-1607369400-1607378400@vidireo.nl
SUMMARY:19:30 uur Repetitie OBK
DESCRIPTION:
URL:https://vidireo.nl/event/1930-uur-repetitie-obk-6/
END:VEVENT
BEGIN:VEVENT
DTSTART;TZID=Europe/Amsterdam:20201207T163000
DTEND;TZID=Europe/Amsterdam:20201207T173000
DTSTAMP:20260426T023811
CREATED:20201207T101334Z
LAST-MODIFIED:20201207T101334Z
UID:10001166-1607358600-1607362200@vidireo.nl
SUMMARY:16:30 uur Jeugdtheater Spons
DESCRIPTION:
URL:https://vidireo.nl/event/1630-uur-jeugdtheater-spons-7/
END:VEVENT
BEGIN:VEVENT
DTSTART;TZID=Europe/Amsterdam:20201203T100000
DTEND;TZID=Europe/Amsterdam:20201203T170000
DTSTAMP:20260426T023811
CREATED:20201207T102529Z
LAST-MODIFIED:20201207T102529Z
UID:10001176-1606989600-1607014800@vidireo.nl
SUMMARY:10:30 uur krulkracht dagbesteding
DESCRIPTION:
URL:https://vidireo.nl/event/1030-uur-krulkracht-dagbesteding-13/
END:VEVENT
BEGIN:VEVENT
DTSTART;TZID=UTC:20201202T193000
DTEND;TZID=UTC:20201202T213000
DTSTAMP:20260426T023811
CREATED:20200717T112633Z
LAST-MODIFIED:20201130T192315Z
UID:10001035-1606937400-1606944600@vidireo.nl
SUMMARY:UITVERKOCHT        FILM 19:30 uur film                    WHITE CHRISTMAS 1954
DESCRIPTION:€ 5\,00 entree \n\n\n\n\n\n\n\n\n\nVerenigde StatenKomedie / Muziek120 minuten \n\n\n\ngeregisseerd door Michael Curtizmet Bing Crosby\, Danny Kaye en Rosemary Clooney \n\n\n\nTwee oude legermakkers\, Phil en Bob\, die nu een zang- en danskoppel zijn\, ontmoeten de glamoureuze Haynes-zusters\, en besluiten ze te vergezellen naar hun volgende voorstelling in het Columbia Inn Hotel. Zij ontdekken dat het hotel eigendom is van hun oude legercommandant. Maar doordat er geen sneeuwval is en het hotel van wintergasten moet zien te overleven\, gaan de zaken slecht en is het moreel laag. Daarom besluit het duo om in het geheim een grootse show op poten te zetten.
URL:https://vidireo.nl/event/1930-uur-film-white-christmas/
END:VEVENT
BEGIN:VEVENT
DTSTART;TZID=Europe/Amsterdam:20201201T200000
DTEND;TZID=Europe/Amsterdam:20201201T223000
DTSTAMP:20260426T023811
CREATED:20201207T104333Z
LAST-MODIFIED:20201207T104333Z
UID:10001184-1606852800-1606861800@vidireo.nl
SUMMARY:20:00 uur repetitie Bigband
DESCRIPTION:
URL:https://vidireo.nl/event/2000-uur-repetitie-bigband-7/
END:VEVENT
BEGIN:VEVENT
DTSTART;TZID=UTC:20201201T170000
DTEND;TZID=UTC:20201201T180000
DTSTAMP:20260426T023811
CREATED:20200830T075235Z
LAST-MODIFIED:20200830T075237Z
UID:10001089-1606842000-1606845600@vidireo.nl
SUMMARY:17:00-18:00 repetitie slagwerkgroep
DESCRIPTION:
URL:https://vidireo.nl/event/1700-1800-repetitie-slagwerkgroep-8/
END:VEVENT
BEGIN:VEVENT
DTSTART;TZID=Europe/Amsterdam:20201201T100000
DTEND;TZID=Europe/Amsterdam:20201201T170000
DTSTAMP:20260426T023811
CREATED:20201207T102158Z
LAST-MODIFIED:20201207T102158Z
UID:10001170-1606816800-1606842000@vidireo.nl
SUMMARY:10:30 uur Krulkracht dagbesteding
DESCRIPTION:
URL:https://vidireo.nl/event/1030-uur-krulkracht-dagbesteding-9/
END:VEVENT
BEGIN:VEVENT
DTSTART;TZID=UTC:20201130T193000
DTEND;TZID=UTC:20201130T213000
DTSTAMP:20260426T023811
CREATED:20201027T084808Z
LAST-MODIFIED:20201027T084808Z
UID:10001148-1606764600-1606771800@vidireo.nl
SUMMARY:19:30 uur Repetitie OBK
DESCRIPTION:
URL:https://vidireo.nl/event/1930-uur-repetitie-obk-5/
END:VEVENT
BEGIN:VEVENT
DTSTART;TZID=UTC:20201130T163000
DTEND;TZID=UTC:20201130T173000
DTSTAMP:20260426T023811
CREATED:20201027T121525Z
LAST-MODIFIED:20201027T121525Z
UID:10001072-1606753800-1606757400@vidireo.nl
SUMMARY:16:30 uur Jeugdtheater Spons
DESCRIPTION:
URL:https://vidireo.nl/event/1630-uur-jeugdtheater-spons-6/
END:VEVENT
BEGIN:VEVENT
DTSTART;TZID=UTC:20201128T113000
DTEND;TZID=UTC:20201128T133000
DTSTAMP:20260426T023811
CREATED:20200827T174143Z
LAST-MODIFIED:20201126T154621Z
UID:10001071-1606563000-1606570200@vidireo.nl
SUMMARY:FILM      11:30-13:30 uur   De brief voor Sinterklaas
DESCRIPTION:Zaterdag 28 november 2020 \n\n\n\nEntree  € 3\,50  alle  leeftijden \n\n\n\n\n\n\n\n\n\nDe feestelijke aankomst van Sinterklaas wordt overschaduwd door een gigantisch probleem: door een groot tekort aan Pieten dreigt de traditie voor eens en altijd te verdwijnen. Sinterklaas zit met zijn handen in het haar: hoe komt hij snel aan nieuwe\, goede Pieten? Er zit niets anders op dan een auditie te organiseren\, waarbij de goedheiligman opzoek gaat naar nieuwe Pieten: een officiële ‘Pietendag’. Sem ziet zijn kans schoon en schrijft onmiddellijk een brief. Als hij een stoere\, sterke Piet kan worden dan durven zijn pesters hem vast nooit meer lastig te vallen. Maar wat niemand weet is dat Huibert Jan en zijn ‘Mammie’ middels een gemeen plan proberen om de Pietendag te saboteren. Gaat het Sem\, Patty Pepernoot en piet Bennie lukken om de Pietendag én daarmee het Sinterklaasfeest te redden? fffff
URL:https://vidireo.nl/event/1100-1230-uur-de-brief-voor-sinterklaas/
CATEGORIES:Filmavond
END:VEVENT
BEGIN:VEVENT
DTSTART;TZID=Europe/Amsterdam:20201127T183000
DTEND;TZID=Europe/Amsterdam:20201127T193000
DTSTAMP:20260426T023811
CREATED:20201126T171430Z
LAST-MODIFIED:20201126T171430Z
UID:10001161-1606501800-1606505400@vidireo.nl
SUMMARY:18:30 uur-19:30  uur Slaapkamer  Sinterklaas
DESCRIPTION:Sinterklaas komt nog één keer logeren in VidiReo. Vrijdagavond 18:30-19:30 kun je komen kijken. Superleuk 🙂
URL:https://vidireo.nl/event/1830-uur-1930-uur-slaapkamer-sinterklaas/
END:VEVENT
BEGIN:VEVENT
DTSTART;TZID=UTC:20201126T103000
DTEND;TZID=UTC:20201126T170000
DTSTAMP:20260426T023811
CREATED:20201027T123108Z
LAST-MODIFIED:20201027T123108Z
UID:10001155-1606386600-1606410000@vidireo.nl
SUMMARY:10:30 uur Krulkracht dagbesteding
DESCRIPTION:
URL:https://vidireo.nl/event/1030-uur-krulkracht-dagbesteding-8/
END:VEVENT
END:VCALENDAR