BEGIN:VCALENDAR
VERSION:2.0
PRODID:-//VidiReo - ECPv6.15.20//NONSGML v1.0//EN
CALSCALE:GREGORIAN
METHOD:PUBLISH
X-WR-CALNAME:VidiReo
X-ORIGINAL-URL:https://vidireo.nl
X-WR-CALDESC:Evenementen voor VidiReo
REFRESH-INTERVAL;VALUE=DURATION:PT1H
X-Robots-Tag:noindex
X-PUBLISHED-TTL:PT1H
BEGIN:VTIMEZONE
TZID:UTC
BEGIN:STANDARD
TZOFFSETFROM:+0000
TZOFFSETTO:+0000
TZNAME:UTC
DTSTART:20190101T000000
END:STANDARD
END:VTIMEZONE
BEGIN:VEVENT
DTSTART;TZID=UTC:20201102T193000
DTEND;TZID=UTC:20201102T213000
DTSTAMP:20260426T035847
CREATED:20201027T084404Z
LAST-MODIFIED:20201027T084404Z
UID:10001142-1604345400-1604352600@vidireo.nl
SUMMARY:19:30 uur Repetitie OBK
DESCRIPTION:
URL:https://vidireo.nl/event/1930-uur-repetitie-obk-2/
END:VEVENT
BEGIN:VEVENT
DTSTART;TZID=UTC:20201102T163000
DTEND;TZID=UTC:20201102T173000
DTSTAMP:20260426T035847
CREATED:20201027T084922Z
LAST-MODIFIED:20201027T084922Z
UID:10001062-1604334600-1604338200@vidireo.nl
SUMMARY:16:30 uur jeugdtheater Spons
DESCRIPTION:
URL:https://vidireo.nl/event/1630-uur-jeugdtheater-spons/
END:VEVENT
BEGIN:VEVENT
DTSTART;TZID=UTC:20201031T113000
DTEND;TZID=UTC:20201031T133000
DTSTAMP:20260426T035847
CREATED:20200827T173507Z
LAST-MODIFIED:20200828T064038Z
UID:10001069-1604143800-1604151000@vidireo.nl
SUMMARY:11:30 -13:30  uur FILM Ferdinand
DESCRIPTION:Zaterdag 31 oktober   \n\n\n\nEntree € 3\,50  alle leeftijden \n\n\n\n\n\n\n\n\n\n\n\nFerdinand is een kleine stier die er de voorkeur aan geeft om rustig onder een kurkboom te liggen en de geur van de bloemen op te snuiven in plaats van rond te springen en te spelen met andere stieren. Als Ferdinand opgroeit en verandert in een grote sterke stier blijft hij een zacht temperament houden. Maar wanneer op een dag vijf mannen langs komen om de grootste\, snelste en ruigste stier uit te zoeken voor een stierengevecht in Madrid wordt Ferdinand ten onrechte uitgekozen x
URL:https://vidireo.nl/event/1100-1300-uur-ferdinand/
END:VEVENT
BEGIN:VEVENT
DTSTART;TZID=UTC:20201029T200000
DTEND;TZID=UTC:20201029T220000
DTSTAMP:20260426T035847
CREATED:20200922T165438Z
LAST-MODIFIED:20200922T165438Z
UID:10001125-1604001600-1604008800@vidireo.nl
SUMMARY:20:00 uur repetitie Mix of Music
DESCRIPTION:
URL:https://vidireo.nl/event/2000-uur-repetitie-mix-of-music-6/
END:VEVENT
BEGIN:VEVENT
DTSTART;TZID=UTC:20201029T103000
DTEND;TZID=UTC:20201029T170000
DTSTAMP:20260426T035847
CREATED:20200922T163921Z
LAST-MODIFIED:20200922T163922Z
UID:10001117-1603967400-1603990800@vidireo.nl
SUMMARY:10:30 - 17:00 uur Krulkracht dagbesteding
DESCRIPTION:
URL:https://vidireo.nl/event/1030-1700-uur-krulkracht-dagbesteding-13/
END:VEVENT
BEGIN:VEVENT
DTSTART;TZID=UTC:20201027T200000
DTEND;TZID=UTC:20201027T223000
DTSTAMP:20260426T035847
CREATED:20200720T061507Z
LAST-MODIFIED:20200720T061511Z
UID:10001056-1603828800-1603837800@vidireo.nl
SUMMARY:20.00 uur repetitie Big Band
DESCRIPTION:
URL:https://vidireo.nl/event/20-00-uur-repetitie-big-band-9/
END:VEVENT
BEGIN:VEVENT
DTSTART;TZID=UTC:20201027T170000
DTEND;TZID=UTC:20201027T180000
DTSTAMP:20260426T035847
CREATED:20200830T074552Z
LAST-MODIFIED:20200830T074555Z
UID:10001085-1603818000-1603821600@vidireo.nl
SUMMARY:17:00-18:00 repetitie slagwerkgroep
DESCRIPTION:
URL:https://vidireo.nl/event/1700-1800-repetitie-slagwerkgroep-4/
END:VEVENT
BEGIN:VEVENT
DTSTART;TZID=UTC:20201027T103000
DTEND;TZID=UTC:20201027T170000
DTSTAMP:20260426T035847
CREATED:20200922T163549Z
LAST-MODIFIED:20200922T163549Z
UID:10001109-1603794600-1603818000@vidireo.nl
SUMMARY:10:30 - 17:00 Krulkracht dagbesteding
DESCRIPTION:
URL:https://vidireo.nl/event/1030-1700-krulkracht-dagbesteding-2/
END:VEVENT
BEGIN:VEVENT
DTSTART;TZID=UTC:20201026T193000
DTEND;TZID=UTC:20201026T220000
DTSTAMP:20260426T035847
CREATED:20200719T065506Z
LAST-MODIFIED:20200719T065508Z
UID:10001045-1603740600-1603749600@vidireo.nl
SUMMARY:19.30 uur repetitie OBK
DESCRIPTION:
URL:https://vidireo.nl/event/19-30-uur-repetitie-obk-7/
END:VEVENT
BEGIN:VEVENT
DTSTART;TZID=UTC:20201025T140000
DTEND;TZID=UTC:20201025T170000
DTSTAMP:20260426T035847
CREATED:20201022T181935Z
LAST-MODIFIED:20201022T181935Z
UID:10001141-1603634400-1603645200@vidireo.nl
SUMMARY:14:00 uur Film Zorg coöperatie
DESCRIPTION:
URL:https://vidireo.nl/event/1400-uur-film-zorg-cooperatie/
END:VEVENT
BEGIN:VEVENT
DTSTART;TZID=UTC:20201022T200000
DTEND;TZID=UTC:20201022T220000
DTSTAMP:20260426T035847
CREATED:20200922T165339Z
LAST-MODIFIED:20200922T165339Z
UID:10001124-1603396800-1603404000@vidireo.nl
SUMMARY:20:00 uur repetitie Mix of Music
DESCRIPTION:
URL:https://vidireo.nl/event/2000-uur-repetitie-mix-of-music-5/
END:VEVENT
BEGIN:VEVENT
DTSTART;TZID=UTC:20201022T103000
DTEND;TZID=UTC:20201022T170000
DTSTAMP:20260426T035847
CREATED:20200922T164955Z
LAST-MODIFIED:20200922T164955Z
UID:10001119-1603362600-1603386000@vidireo.nl
SUMMARY:10:30 - 17:00 uur Krulkracht dagbesteding
DESCRIPTION:
URL:https://vidireo.nl/event/1030-1700-uur-krulkracht-dagbesteding-14/
END:VEVENT
BEGIN:VEVENT
DTSTART;TZID=UTC:20201020T200000
DTEND;TZID=UTC:20201020T223000
DTSTAMP:20260426T035847
CREATED:20200720T061409Z
LAST-MODIFIED:20200720T061411Z
UID:10001055-1603224000-1603233000@vidireo.nl
SUMMARY:20.00 uur repetitie Big Band
DESCRIPTION:
URL:https://vidireo.nl/event/20-00-uur-repetitie-big-band-8/
END:VEVENT
BEGIN:VEVENT
DTSTART;TZID=UTC:20201020T103000
DTEND;TZID=UTC:20201020T170000
DTSTAMP:20260426T035847
CREATED:20200922T163448Z
LAST-MODIFIED:20200922T163449Z
UID:10001106-1603189800-1603213200@vidireo.nl
SUMMARY:10:30 - 17:00 uur Krulkracht dagbesteding
DESCRIPTION:
URL:https://vidireo.nl/event/1030-1700-uur-krulkracht-dagbesteding-10/
END:VEVENT
BEGIN:VEVENT
DTSTART;TZID=UTC:20201019T193000
DTEND;TZID=UTC:20201019T220000
DTSTAMP:20260426T035847
CREATED:20200719T065416Z
LAST-MODIFIED:20200719T065418Z
UID:10001044-1603135800-1603144800@vidireo.nl
SUMMARY:19.30 uur repetitie OBK
DESCRIPTION:
URL:https://vidireo.nl/event/19-30-uur-repetitie-obk-6/
END:VEVENT
BEGIN:VEVENT
DTSTART;TZID=UTC:20201016T130000
DTEND;TZID=UTC:20201016T170000
DTSTAMP:20260426T035847
CREATED:20200922T170440Z
LAST-MODIFIED:20200922T170440Z
UID:10001129-1602853200-1602867600@vidireo.nl
SUMMARY:13:00 uur Bijeenkomst Zonnebloem
DESCRIPTION:
URL:https://vidireo.nl/event/1300-uur-bijeenkomst-zonnebloem/
END:VEVENT
BEGIN:VEVENT
DTSTART;TZID=UTC:20201015T200000
DTEND;TZID=UTC:20201015T220000
DTSTAMP:20260426T035847
CREATED:20200922T165259Z
LAST-MODIFIED:20200922T165259Z
UID:10001123-1602792000-1602799200@vidireo.nl
SUMMARY:20:00 uur repetitie Mix of Music
DESCRIPTION:
URL:https://vidireo.nl/event/2000-uur-repetitie-mix-of-music-4/
END:VEVENT
BEGIN:VEVENT
DTSTART;TZID=UTC:20201015T103000
DTEND;TZID=UTC:20201015T170000
DTSTAMP:20260426T035847
CREATED:20200922T163824Z
LAST-MODIFIED:20200922T163824Z
UID:10001115-1602757800-1602781200@vidireo.nl
SUMMARY:10:30 -17:00 uur Krulkracht dagbesteding
DESCRIPTION:
URL:https://vidireo.nl/event/1030-1700-uur-krulkracht-dagbesteding-12/
END:VEVENT
BEGIN:VEVENT
DTSTART;TZID=UTC:20201014T173000
DTEND;TZID=UTC:20201014T200000
DTSTAMP:20260426T035847
CREATED:20201006T180926Z
LAST-MODIFIED:20201006T180926Z
UID:10001137-1602696600-1602705600@vidireo.nl
SUMMARY:17:30 uur Griep vaccinatie
DESCRIPTION:
URL:https://vidireo.nl/event/1730-uur-griep-vaccinatie/
END:VEVENT
BEGIN:VEVENT
DTSTART;TZID=UTC:20201013T200000
DTEND;TZID=UTC:20201013T223000
DTSTAMP:20260426T035847
CREATED:20200720T061032Z
LAST-MODIFIED:20200720T061035Z
UID:10001054-1602619200-1602628200@vidireo.nl
SUMMARY:20.00 uur repetitie Big Band
DESCRIPTION:
URL:https://vidireo.nl/event/20-00-uur-repetitie-big-band-7/
END:VEVENT
BEGIN:VEVENT
DTSTART;TZID=UTC:20201013T170000
DTEND;TZID=UTC:20201013T180000
DTSTAMP:20260426T035847
CREATED:20200830T074456Z
LAST-MODIFIED:20200830T074459Z
UID:10001084-1602608400-1602612000@vidireo.nl
SUMMARY:17:00-18:00 repetitie slagwerkgroep
DESCRIPTION:
URL:https://vidireo.nl/event/1700-1800-repetitie-slagwerkgroep-3/
END:VEVENT
BEGIN:VEVENT
DTSTART;TZID=UTC:20201013T103000
DTEND;TZID=UTC:20201013T170000
DTSTAMP:20260426T035847
CREATED:20200922T163349Z
LAST-MODIFIED:20200922T163350Z
UID:10001104-1602585000-1602608400@vidireo.nl
SUMMARY:10:30 - 17:00 uur krulkracht dagbesteding
DESCRIPTION:
URL:https://vidireo.nl/event/1030-1700-uur-krulkracht-dagbesteding-9/
END:VEVENT
BEGIN:VEVENT
DTSTART;TZID=UTC:20201012T193000
DTEND;TZID=UTC:20201012T220000
DTSTAMP:20260426T035847
CREATED:20200719T064725Z
LAST-MODIFIED:20200719T064728Z
UID:10001043-1602531000-1602540000@vidireo.nl
SUMMARY:19.30 uur repetitie OBK
DESCRIPTION:
URL:https://vidireo.nl/event/19-30-uur-repetitie-obk-5/
END:VEVENT
BEGIN:VEVENT
DTSTART;TZID=UTC:20201009T173000
DTEND;TZID=UTC:20201009T200000
DTSTAMP:20260426T035847
CREATED:20201006T180632Z
LAST-MODIFIED:20201006T180754Z
UID:10001135-1602264600-1602273600@vidireo.nl
SUMMARY:17:30 uur Griep vaccinatie
DESCRIPTION:
URL:https://vidireo.nl/event/1730-uur-griepspuit/
END:VEVENT
BEGIN:VEVENT
DTSTART;TZID=UTC:20201008T200000
DTEND;TZID=UTC:20201008T220000
DTSTAMP:20260426T035847
CREATED:20200922T165217Z
LAST-MODIFIED:20200922T165217Z
UID:10001122-1602187200-1602194400@vidireo.nl
SUMMARY:20:00 uur repetitie Mix of Music
DESCRIPTION:
URL:https://vidireo.nl/event/2000-uur-repetitie-mix-of-music-3/
END:VEVENT
BEGIN:VEVENT
DTSTART;TZID=UTC:20201008T103000
DTEND;TZID=UTC:20201008T170000
DTSTAMP:20260426T035847
CREATED:20200922T163731Z
LAST-MODIFIED:20200922T163732Z
UID:10001113-1602153000-1602176400@vidireo.nl
SUMMARY:10:30 - 17:00 uur Krulkracht dagbesteding
DESCRIPTION:
URL:https://vidireo.nl/event/1030-1700-uur-krulkracht-dagbesteding-11/
END:VEVENT
BEGIN:VEVENT
DTSTART;TZID=UTC:20201007T193000
DTEND;TZID=UTC:20201007T213000
DTSTAMP:20260426T035847
CREATED:20200717T105652Z
LAST-MODIFIED:20200718T064834Z
UID:10001031-1602099000-1602106200@vidireo.nl
SUMMARY:19:30 film                     Midnight in Paris
DESCRIPTION:€  5\,00 entree \n\n\n\n\n\n\n\n\n\nVerenigde Staten / Frankrijk / SpanjeKomedie / Romantiek94 minuten \n\n\n\ngeregisseerd door Woody Allenmet Owen Wilson\, Rachel McAdams en Marion Cotillard \n\n\n\n‘Midnight in Paris’ vertelt het verhaal over een jong Amerikaans koppel (Rachel McAdams & Owen Wilson) dat in het najaar zal trouwen en alvast een reis naar Parijs maakt. De stad heeft een onmiskenbare aantrekkingskracht op de twee\, maar vooral op de jongeman die verliefd wordt op de lichtstad. Al gauw neemt zijn leven een nieuwe wending…
URL:https://vidireo.nl/event/1930-film-midnight-in-paris/
END:VEVENT
BEGIN:VEVENT
DTSTART;TZID=UTC:20201007T143000
DTEND;TZID=UTC:20201007T160000
DTSTAMP:20260426T035847
CREATED:20200714T111602Z
LAST-MODIFIED:20200715T151242Z
UID:10001011-1602081000-1602086400@vidireo.nl
SUMMARY:14.30 uur Gezellig Bij
DESCRIPTION:Maandelijkse Knutselactiviteit
URL:https://vidireo.nl/event/14-30-uur-gezellig-bij/
END:VEVENT
BEGIN:VEVENT
DTSTART;TZID=UTC:20201006T200000
DTEND;TZID=UTC:20201006T223000
DTSTAMP:20260426T035847
CREATED:20200720T060934Z
LAST-MODIFIED:20200720T060937Z
UID:10001053-1602014400-1602023400@vidireo.nl
SUMMARY:20.00 uur repetitie Big Band
DESCRIPTION:
URL:https://vidireo.nl/event/20-00-uur-repetitie-big-band-6/
END:VEVENT
BEGIN:VEVENT
DTSTART;TZID=UTC:20201006T170000
DTEND;TZID=UTC:20201006T180000
DTSTAMP:20260426T035847
CREATED:20200830T074345Z
LAST-MODIFIED:20200830T074348Z
UID:10001083-1602003600-1602007200@vidireo.nl
SUMMARY:17:00-18:00 repetitie slagwerkgroep
DESCRIPTION:
URL:https://vidireo.nl/event/1700-1800-repetitie-slagwerkgroep-2/
END:VEVENT
END:VCALENDAR