BEGIN:VCALENDAR
VERSION:2.0
PRODID:-//VidiReo - ECPv6.15.20//NONSGML v1.0//EN
CALSCALE:GREGORIAN
METHOD:PUBLISH
X-WR-CALNAME:VidiReo
X-ORIGINAL-URL:https://vidireo.nl
X-WR-CALDESC:Evenementen voor VidiReo
REFRESH-INTERVAL;VALUE=DURATION:PT1H
X-Robots-Tag:noindex
X-PUBLISHED-TTL:PT1H
BEGIN:VTIMEZONE
TZID:Europe/Amsterdam
BEGIN:DAYLIGHT
TZOFFSETFROM:+0100
TZOFFSETTO:+0200
TZNAME:CEST
DTSTART:20210328T010000
END:DAYLIGHT
BEGIN:STANDARD
TZOFFSETFROM:+0200
TZOFFSETTO:+0100
TZNAME:CET
DTSTART:20211031T010000
END:STANDARD
BEGIN:DAYLIGHT
TZOFFSETFROM:+0100
TZOFFSETTO:+0200
TZNAME:CEST
DTSTART:20220327T010000
END:DAYLIGHT
BEGIN:STANDARD
TZOFFSETFROM:+0200
TZOFFSETTO:+0100
TZNAME:CET
DTSTART:20221030T010000
END:STANDARD
BEGIN:DAYLIGHT
TZOFFSETFROM:+0100
TZOFFSETTO:+0200
TZNAME:CEST
DTSTART:20230326T010000
END:DAYLIGHT
BEGIN:STANDARD
TZOFFSETFROM:+0200
TZOFFSETTO:+0100
TZNAME:CET
DTSTART:20231029T010000
END:STANDARD
BEGIN:DAYLIGHT
TZOFFSETFROM:+0100
TZOFFSETTO:+0200
TZNAME:CEST
DTSTART:20240331T010000
END:DAYLIGHT
BEGIN:STANDARD
TZOFFSETFROM:+0200
TZOFFSETTO:+0100
TZNAME:CET
DTSTART:20241027T010000
END:STANDARD
END:VTIMEZONE
BEGIN:VEVENT
DTSTART;TZID=Europe/Amsterdam:20230102T163000
DTEND;TZID=Europe/Amsterdam:20230102T173000
DTSTAMP:20260422T063031
CREATED:20220815T193651Z
LAST-MODIFIED:20220815T193651Z
UID:10001700-1672677000-1672680600@vidireo.nl
SUMMARY:Jeugd Theater Spons
DESCRIPTION:
URL:https://vidireo.nl/event/jeugd-theater-spons/2023-01-02/
END:VEVENT
BEGIN:VEVENT
DTSTART;TZID=Europe/Amsterdam:20230101T140000
DTEND;TZID=Europe/Amsterdam:20230101T160000
DTSTAMP:20260422T063031
CREATED:20220826T084000Z
LAST-MODIFIED:20220826T084000Z
UID:10001329-1672581600-1672588800@vidireo.nl
SUMMARY:Ontmoeten Zorgcooperatie
DESCRIPTION:
URL:https://vidireo.nl/event/ontmoeten-zorgcooperatie/2023-01-01/
END:VEVENT
BEGIN:VEVENT
DTSTART;TZID=Europe/Amsterdam:20221230T140000
DTEND;TZID=Europe/Amsterdam:20221230T160000
DTSTAMP:20260422T063031
CREATED:20220826T084000Z
LAST-MODIFIED:20220826T084000Z
UID:10001328-1672408800-1672416000@vidireo.nl
SUMMARY:Ontmoeten Zorgcooperatie
DESCRIPTION:
URL:https://vidireo.nl/event/ontmoeten-zorgcooperatie/2022-12-30/
END:VEVENT
BEGIN:VEVENT
DTSTART;TZID=Europe/Amsterdam:20221229T103000
DTEND;TZID=Europe/Amsterdam:20221229T183000
DTSTAMP:20260422T063031
CREATED:20220815T163403Z
LAST-MODIFIED:20220815T163903Z
UID:10001568-1672309800-1672338600@vidireo.nl
SUMMARY:KrulKracht dagbeleving
DESCRIPTION:
URL:https://vidireo.nl/event/krulkracht-dagbeleving/2022-12-29/
END:VEVENT
BEGIN:VEVENT
DTSTART;TZID=Europe/Amsterdam:20221228T193000
DTEND;TZID=Europe/Amsterdam:20221228T213000
DTSTAMP:20260422T063031
CREATED:20220824T175130Z
LAST-MODIFIED:20220824T175130Z
UID:10001746-1672255800-1672263000@vidireo.nl
SUMMARY:Vrolijke Vrollie
DESCRIPTION:
URL:https://vidireo.nl/event/vrolijke-vrollie/2022-12-28/
END:VEVENT
BEGIN:VEVENT
DTSTART;TZID=Europe/Amsterdam:20221227T190000
DTEND;TZID=Europe/Amsterdam:20221227T223000
DTSTAMP:20260422T063031
CREATED:20220815T051224Z
LAST-MODIFIED:20220815T051725Z
UID:10001490-1672167600-1672180200@vidireo.nl
SUMMARY:BigBand repetitie
DESCRIPTION:wekelijkse repetitie van de BigBand
URL:https://vidireo.nl/event/bigband-repetitie/2022-12-27/
END:VEVENT
BEGIN:VEVENT
DTSTART;TZID=Europe/Amsterdam:20221227T170000
DTEND;TZID=Europe/Amsterdam:20221227T183000
DTSTAMP:20260422T063031
CREATED:20220815T170323Z
LAST-MODIFIED:20220815T170323Z
UID:10001649-1672160400-1672165800@vidireo.nl
SUMMARY:Slagwerk OBK
DESCRIPTION:
URL:https://vidireo.nl/event/slagwerk-obk/2022-12-27/
END:VEVENT
BEGIN:VEVENT
DTSTART;TZID=Europe/Amsterdam:20221227T103000
DTEND;TZID=Europe/Amsterdam:20221227T183000
DTSTAMP:20260422T063031
CREATED:20220815T163403Z
LAST-MODIFIED:20220815T163903Z
UID:10001567-1672137000-1672165800@vidireo.nl
SUMMARY:KrulKracht dagbeleving
DESCRIPTION:
URL:https://vidireo.nl/event/krulkracht-dagbeleving/2022-12-27/
END:VEVENT
BEGIN:VEVENT
DTSTART;TZID=Europe/Amsterdam:20221226T183000
DTEND;TZID=Europe/Amsterdam:20221226T223000
DTSTAMP:20260422T063031
CREATED:20220815T163644Z
LAST-MODIFIED:20220815T163645Z
UID:10001597-1672079400-1672093800@vidireo.nl
SUMMARY:Harmonie
DESCRIPTION:
URL:https://vidireo.nl/event/harmonie/2022-12-26/
END:VEVENT
BEGIN:VEVENT
DTSTART;TZID=Europe/Amsterdam:20221226T163000
DTEND;TZID=Europe/Amsterdam:20221226T173000
DTSTAMP:20260422T063031
CREATED:20220815T193651Z
LAST-MODIFIED:20220815T193651Z
UID:10001699-1672072200-1672075800@vidireo.nl
SUMMARY:Jeugd Theater Spons
DESCRIPTION:
URL:https://vidireo.nl/event/jeugd-theater-spons/2022-12-26/
END:VEVENT
BEGIN:VEVENT
DTSTART;TZID=Europe/Amsterdam:20221225T140000
DTEND;TZID=Europe/Amsterdam:20221225T160000
DTSTAMP:20260422T063031
CREATED:20220826T084000Z
LAST-MODIFIED:20220826T084000Z
UID:10001327-1671976800-1671984000@vidireo.nl
SUMMARY:Ontmoeten Zorgcooperatie
DESCRIPTION:
URL:https://vidireo.nl/event/ontmoeten-zorgcooperatie/2022-12-25/
END:VEVENT
BEGIN:VEVENT
DTSTART;TZID=Europe/Amsterdam:20221223T140000
DTEND;TZID=Europe/Amsterdam:20221223T160000
DTSTAMP:20260422T063031
CREATED:20220826T084000Z
LAST-MODIFIED:20220826T084000Z
UID:10001326-1671804000-1671811200@vidireo.nl
SUMMARY:Ontmoeten Zorgcooperatie
DESCRIPTION:
URL:https://vidireo.nl/event/ontmoeten-zorgcooperatie/2022-12-23/
END:VEVENT
BEGIN:VEVENT
DTSTART;TZID=Europe/Amsterdam:20221222T103000
DTEND;TZID=Europe/Amsterdam:20221222T183000
DTSTAMP:20260422T063031
CREATED:20220815T163403Z
LAST-MODIFIED:20220815T163903Z
UID:10001566-1671705000-1671733800@vidireo.nl
SUMMARY:KrulKracht dagbeleving
DESCRIPTION:
URL:https://vidireo.nl/event/krulkracht-dagbeleving/2022-12-22/
END:VEVENT
BEGIN:VEVENT
DTSTART;TZID=Europe/Amsterdam:20221220T190000
DTEND;TZID=Europe/Amsterdam:20221220T223000
DTSTAMP:20260422T063031
CREATED:20220815T051224Z
LAST-MODIFIED:20220815T051725Z
UID:10001489-1671562800-1671575400@vidireo.nl
SUMMARY:BigBand repetitie
DESCRIPTION:wekelijkse repetitie van de BigBand
URL:https://vidireo.nl/event/bigband-repetitie/2022-12-20/
END:VEVENT
BEGIN:VEVENT
DTSTART;TZID=Europe/Amsterdam:20221220T170000
DTEND;TZID=Europe/Amsterdam:20221220T183000
DTSTAMP:20260422T063031
CREATED:20220815T170323Z
LAST-MODIFIED:20220815T170323Z
UID:10001648-1671555600-1671561000@vidireo.nl
SUMMARY:Slagwerk OBK
DESCRIPTION:
URL:https://vidireo.nl/event/slagwerk-obk/2022-12-20/
END:VEVENT
BEGIN:VEVENT
DTSTART;TZID=Europe/Amsterdam:20221220T103000
DTEND;TZID=Europe/Amsterdam:20221220T183000
DTSTAMP:20260422T063031
CREATED:20220815T163403Z
LAST-MODIFIED:20220815T163903Z
UID:10001565-1671532200-1671561000@vidireo.nl
SUMMARY:KrulKracht dagbeleving
DESCRIPTION:
URL:https://vidireo.nl/event/krulkracht-dagbeleving/2022-12-20/
END:VEVENT
BEGIN:VEVENT
DTSTART;TZID=Europe/Amsterdam:20221219T183000
DTEND;TZID=Europe/Amsterdam:20221219T223000
DTSTAMP:20260422T063031
CREATED:20220815T163644Z
LAST-MODIFIED:20220815T163645Z
UID:10001596-1671474600-1671489000@vidireo.nl
SUMMARY:Harmonie
DESCRIPTION:
URL:https://vidireo.nl/event/harmonie/2022-12-19/
END:VEVENT
BEGIN:VEVENT
DTSTART;TZID=Europe/Amsterdam:20221219T163000
DTEND;TZID=Europe/Amsterdam:20221219T173000
DTSTAMP:20260422T063031
CREATED:20220815T193651Z
LAST-MODIFIED:20220815T193651Z
UID:10001698-1671467400-1671471000@vidireo.nl
SUMMARY:Jeugd Theater Spons
DESCRIPTION:
URL:https://vidireo.nl/event/jeugd-theater-spons/2022-12-19/
END:VEVENT
BEGIN:VEVENT
DTSTART;TZID=Europe/Amsterdam:20221218T140000
DTEND;TZID=Europe/Amsterdam:20221218T160000
DTSTAMP:20260422T063031
CREATED:20220826T084000Z
LAST-MODIFIED:20220826T084000Z
UID:10001325-1671372000-1671379200@vidireo.nl
SUMMARY:Ontmoeten Zorgcooperatie
DESCRIPTION:
URL:https://vidireo.nl/event/ontmoeten-zorgcooperatie/2022-12-18/
END:VEVENT
BEGIN:VEVENT
DTSTART;TZID=Europe/Amsterdam:20221216T140000
DTEND;TZID=Europe/Amsterdam:20221216T160000
DTSTAMP:20260422T063031
CREATED:20220826T084000Z
LAST-MODIFIED:20220826T084000Z
UID:10001324-1671199200-1671206400@vidireo.nl
SUMMARY:Ontmoeten Zorgcooperatie
DESCRIPTION:
URL:https://vidireo.nl/event/ontmoeten-zorgcooperatie/2022-12-16/
END:VEVENT
BEGIN:VEVENT
DTSTART;TZID=Europe/Amsterdam:20221215T103000
DTEND;TZID=Europe/Amsterdam:20221215T183000
DTSTAMP:20260422T063031
CREATED:20220815T163403Z
LAST-MODIFIED:20220815T163903Z
UID:10001564-1671100200-1671129000@vidireo.nl
SUMMARY:KrulKracht dagbeleving
DESCRIPTION:
URL:https://vidireo.nl/event/krulkracht-dagbeleving/2022-12-15/
END:VEVENT
BEGIN:VEVENT
DTSTART;TZID=Europe/Amsterdam:20221214T193000
DTEND;TZID=Europe/Amsterdam:20221214T213000
DTSTAMP:20260422T063031
CREATED:20220824T175130Z
LAST-MODIFIED:20220824T175130Z
UID:10001745-1671046200-1671053400@vidireo.nl
SUMMARY:Vrolijke Vrollie
DESCRIPTION:
URL:https://vidireo.nl/event/vrolijke-vrollie/2022-12-14/
END:VEVENT
BEGIN:VEVENT
DTSTART;TZID=Europe/Amsterdam:20221213T190000
DTEND;TZID=Europe/Amsterdam:20221213T223000
DTSTAMP:20260422T063031
CREATED:20220815T051224Z
LAST-MODIFIED:20220815T051725Z
UID:10001488-1670958000-1670970600@vidireo.nl
SUMMARY:BigBand repetitie
DESCRIPTION:wekelijkse repetitie van de BigBand
URL:https://vidireo.nl/event/bigband-repetitie/2022-12-13/
END:VEVENT
BEGIN:VEVENT
DTSTART;TZID=Europe/Amsterdam:20221213T170000
DTEND;TZID=Europe/Amsterdam:20221213T183000
DTSTAMP:20260422T063031
CREATED:20220815T170323Z
LAST-MODIFIED:20220815T170323Z
UID:10001647-1670950800-1670956200@vidireo.nl
SUMMARY:Slagwerk OBK
DESCRIPTION:
URL:https://vidireo.nl/event/slagwerk-obk/2022-12-13/
END:VEVENT
BEGIN:VEVENT
DTSTART;TZID=Europe/Amsterdam:20221213T103000
DTEND;TZID=Europe/Amsterdam:20221213T183000
DTSTAMP:20260422T063031
CREATED:20220815T163403Z
LAST-MODIFIED:20220815T163903Z
UID:10001563-1670927400-1670956200@vidireo.nl
SUMMARY:KrulKracht dagbeleving
DESCRIPTION:
URL:https://vidireo.nl/event/krulkracht-dagbeleving/2022-12-13/
END:VEVENT
BEGIN:VEVENT
DTSTART;TZID=Europe/Amsterdam:20221212T183000
DTEND;TZID=Europe/Amsterdam:20221212T223000
DTSTAMP:20260422T063031
CREATED:20220815T163644Z
LAST-MODIFIED:20220815T163645Z
UID:10001595-1670869800-1670884200@vidireo.nl
SUMMARY:Harmonie
DESCRIPTION:
URL:https://vidireo.nl/event/harmonie/2022-12-12/
END:VEVENT
BEGIN:VEVENT
DTSTART;TZID=Europe/Amsterdam:20221212T163000
DTEND;TZID=Europe/Amsterdam:20221212T173000
DTSTAMP:20260422T063031
CREATED:20220815T193651Z
LAST-MODIFIED:20220815T193651Z
UID:10001697-1670862600-1670866200@vidireo.nl
SUMMARY:Jeugd Theater Spons
DESCRIPTION:
URL:https://vidireo.nl/event/jeugd-theater-spons/2022-12-12/
END:VEVENT
BEGIN:VEVENT
DTSTART;TZID=Europe/Amsterdam:20221211T140000
DTEND;TZID=Europe/Amsterdam:20221211T160000
DTSTAMP:20260422T063031
CREATED:20220826T084000Z
LAST-MODIFIED:20220826T084000Z
UID:10001323-1670767200-1670774400@vidireo.nl
SUMMARY:Ontmoeten Zorgcooperatie
DESCRIPTION:
URL:https://vidireo.nl/event/ontmoeten-zorgcooperatie/2022-12-11/
END:VEVENT
BEGIN:VEVENT
DTSTART;TZID=Europe/Amsterdam:20221209T140000
DTEND;TZID=Europe/Amsterdam:20221209T160000
DTSTAMP:20260422T063031
CREATED:20220826T084000Z
LAST-MODIFIED:20220826T084000Z
UID:10001322-1670594400-1670601600@vidireo.nl
SUMMARY:Ontmoeten Zorgcooperatie
DESCRIPTION:
URL:https://vidireo.nl/event/ontmoeten-zorgcooperatie/2022-12-09/
END:VEVENT
BEGIN:VEVENT
DTSTART;TZID=Europe/Amsterdam:20221208T103000
DTEND;TZID=Europe/Amsterdam:20221208T183000
DTSTAMP:20260422T063031
CREATED:20220815T163403Z
LAST-MODIFIED:20220815T163903Z
UID:10001562-1670495400-1670524200@vidireo.nl
SUMMARY:KrulKracht dagbeleving
DESCRIPTION:
URL:https://vidireo.nl/event/krulkracht-dagbeleving/2022-12-08/
END:VEVENT
END:VCALENDAR