BEGIN:VCALENDAR
VERSION:2.0
PRODID:-//VidiReo - ECPv6.15.20//NONSGML v1.0//EN
CALSCALE:GREGORIAN
METHOD:PUBLISH
X-WR-CALNAME:VidiReo
X-ORIGINAL-URL:https://vidireo.nl
X-WR-CALDESC:Evenementen voor VidiReo
REFRESH-INTERVAL;VALUE=DURATION:PT1H
X-Robots-Tag:noindex
X-PUBLISHED-TTL:PT1H
BEGIN:VTIMEZONE
TZID:Europe/Amsterdam
BEGIN:DAYLIGHT
TZOFFSETFROM:+0100
TZOFFSETTO:+0200
TZNAME:CEST
DTSTART:20210328T010000
END:DAYLIGHT
BEGIN:STANDARD
TZOFFSETFROM:+0200
TZOFFSETTO:+0100
TZNAME:CET
DTSTART:20211031T010000
END:STANDARD
BEGIN:DAYLIGHT
TZOFFSETFROM:+0100
TZOFFSETTO:+0200
TZNAME:CEST
DTSTART:20220327T010000
END:DAYLIGHT
BEGIN:STANDARD
TZOFFSETFROM:+0200
TZOFFSETTO:+0100
TZNAME:CET
DTSTART:20221030T010000
END:STANDARD
BEGIN:DAYLIGHT
TZOFFSETFROM:+0100
TZOFFSETTO:+0200
TZNAME:CEST
DTSTART:20230326T010000
END:DAYLIGHT
BEGIN:STANDARD
TZOFFSETFROM:+0200
TZOFFSETTO:+0100
TZNAME:CET
DTSTART:20231029T010000
END:STANDARD
END:VTIMEZONE
BEGIN:VEVENT
DTSTART;TZID=Europe/Amsterdam:20221122T170000
DTEND;TZID=Europe/Amsterdam:20221122T183000
DTSTAMP:20260423T091454
CREATED:20220815T170323Z
LAST-MODIFIED:20220815T170323Z
UID:10001644-1669136400-1669141800@vidireo.nl
SUMMARY:Slagwerk OBK
DESCRIPTION:
URL:https://vidireo.nl/event/slagwerk-obk/2022-11-22/
END:VEVENT
BEGIN:VEVENT
DTSTART;TZID=Europe/Amsterdam:20221122T103000
DTEND;TZID=Europe/Amsterdam:20221122T183000
DTSTAMP:20260423T091454
CREATED:20220815T163403Z
LAST-MODIFIED:20220815T163903Z
UID:10001557-1669113000-1669141800@vidireo.nl
SUMMARY:KrulKracht dagbeleving
DESCRIPTION:
URL:https://vidireo.nl/event/krulkracht-dagbeleving/2022-11-22/
END:VEVENT
BEGIN:VEVENT
DTSTART;TZID=Europe/Amsterdam:20221121T183000
DTEND;TZID=Europe/Amsterdam:20221121T223000
DTSTAMP:20260423T091454
CREATED:20220815T163644Z
LAST-MODIFIED:20220815T163645Z
UID:10001592-1669055400-1669069800@vidireo.nl
SUMMARY:Harmonie
DESCRIPTION:
URL:https://vidireo.nl/event/harmonie/2022-11-21/
END:VEVENT
BEGIN:VEVENT
DTSTART;TZID=Europe/Amsterdam:20221121T163000
DTEND;TZID=Europe/Amsterdam:20221121T173000
DTSTAMP:20260423T091454
CREATED:20220815T193651Z
LAST-MODIFIED:20220815T193651Z
UID:10001694-1669048200-1669051800@vidireo.nl
SUMMARY:Jeugd Theater Spons
DESCRIPTION:
URL:https://vidireo.nl/event/jeugd-theater-spons/2022-11-21/
END:VEVENT
BEGIN:VEVENT
DTSTART;TZID=Europe/Amsterdam:20221120T140000
DTEND;TZID=Europe/Amsterdam:20221120T160000
DTSTAMP:20260423T091454
CREATED:20220826T084000Z
LAST-MODIFIED:20220826T084000Z
UID:10001317-1668952800-1668960000@vidireo.nl
SUMMARY:Ontmoeten Zorgcooperatie
DESCRIPTION:
URL:https://vidireo.nl/event/ontmoeten-zorgcooperatie/2022-11-20/
END:VEVENT
BEGIN:VEVENT
DTSTART;TZID=Europe/Amsterdam:20221118T140000
DTEND;TZID=Europe/Amsterdam:20221118T160000
DTSTAMP:20260423T091454
CREATED:20220826T084000Z
LAST-MODIFIED:20220826T084000Z
UID:10001316-1668780000-1668787200@vidireo.nl
SUMMARY:Ontmoeten Zorgcooperatie
DESCRIPTION:
URL:https://vidireo.nl/event/ontmoeten-zorgcooperatie/2022-11-18/
END:VEVENT
BEGIN:VEVENT
DTSTART;TZID=Europe/Amsterdam:20221117T103000
DTEND;TZID=Europe/Amsterdam:20221117T183000
DTSTAMP:20260423T091454
CREATED:20220815T163403Z
LAST-MODIFIED:20220815T163903Z
UID:10001556-1668681000-1668709800@vidireo.nl
SUMMARY:KrulKracht dagbeleving
DESCRIPTION:
URL:https://vidireo.nl/event/krulkracht-dagbeleving/2022-11-17/
END:VEVENT
BEGIN:VEVENT
DTSTART;TZID=Europe/Amsterdam:20221116T193000
DTEND;TZID=Europe/Amsterdam:20221116T213000
DTSTAMP:20260423T091454
CREATED:20220824T175130Z
LAST-MODIFIED:20220824T175130Z
UID:10001743-1668627000-1668634200@vidireo.nl
SUMMARY:Vrolijke Vrollie
DESCRIPTION:
URL:https://vidireo.nl/event/vrolijke-vrollie/2022-11-16/
END:VEVENT
BEGIN:VEVENT
DTSTART;TZID=Europe/Amsterdam:20221115T190000
DTEND;TZID=Europe/Amsterdam:20221115T223000
DTSTAMP:20260423T091454
CREATED:20220815T051224Z
LAST-MODIFIED:20220815T051725Z
UID:10001484-1668538800-1668551400@vidireo.nl
SUMMARY:BigBand repetitie
DESCRIPTION:wekelijkse repetitie van de BigBand
URL:https://vidireo.nl/event/bigband-repetitie/2022-11-15/
END:VEVENT
BEGIN:VEVENT
DTSTART;TZID=Europe/Amsterdam:20221115T170000
DTEND;TZID=Europe/Amsterdam:20221115T183000
DTSTAMP:20260423T091454
CREATED:20220815T170323Z
LAST-MODIFIED:20220815T170323Z
UID:10001643-1668531600-1668537000@vidireo.nl
SUMMARY:Slagwerk OBK
DESCRIPTION:
URL:https://vidireo.nl/event/slagwerk-obk/2022-11-15/
END:VEVENT
BEGIN:VEVENT
DTSTART;TZID=Europe/Amsterdam:20221115T103000
DTEND;TZID=Europe/Amsterdam:20221115T183000
DTSTAMP:20260423T091454
CREATED:20220815T163403Z
LAST-MODIFIED:20220815T163903Z
UID:10001555-1668508200-1668537000@vidireo.nl
SUMMARY:KrulKracht dagbeleving
DESCRIPTION:
URL:https://vidireo.nl/event/krulkracht-dagbeleving/2022-11-15/
END:VEVENT
BEGIN:VEVENT
DTSTART;TZID=Europe/Amsterdam:20221114T183000
DTEND;TZID=Europe/Amsterdam:20221114T223000
DTSTAMP:20260423T091454
CREATED:20220815T163644Z
LAST-MODIFIED:20220815T163645Z
UID:10001591-1668450600-1668465000@vidireo.nl
SUMMARY:Harmonie
DESCRIPTION:
URL:https://vidireo.nl/event/harmonie/2022-11-14/
END:VEVENT
BEGIN:VEVENT
DTSTART;TZID=Europe/Amsterdam:20221114T163000
DTEND;TZID=Europe/Amsterdam:20221114T173000
DTSTAMP:20260423T091454
CREATED:20220815T193651Z
LAST-MODIFIED:20220815T193651Z
UID:10001693-1668443400-1668447000@vidireo.nl
SUMMARY:Jeugd Theater Spons
DESCRIPTION:
URL:https://vidireo.nl/event/jeugd-theater-spons/2022-11-14/
END:VEVENT
BEGIN:VEVENT
DTSTART;TZID=Europe/Amsterdam:20221113T140000
DTEND;TZID=Europe/Amsterdam:20221113T160000
DTSTAMP:20260423T091454
CREATED:20220826T084000Z
LAST-MODIFIED:20220826T084000Z
UID:10001315-1668348000-1668355200@vidireo.nl
SUMMARY:Ontmoeten Zorgcooperatie
DESCRIPTION:
URL:https://vidireo.nl/event/ontmoeten-zorgcooperatie/2022-11-13/
END:VEVENT
BEGIN:VEVENT
DTSTART;TZID=Europe/Amsterdam:20221111T140000
DTEND;TZID=Europe/Amsterdam:20221111T160000
DTSTAMP:20260423T091454
CREATED:20220826T084000Z
LAST-MODIFIED:20220826T084000Z
UID:10001314-1668175200-1668182400@vidireo.nl
SUMMARY:Ontmoeten Zorgcooperatie
DESCRIPTION:
URL:https://vidireo.nl/event/ontmoeten-zorgcooperatie/2022-11-11/
END:VEVENT
BEGIN:VEVENT
DTSTART;TZID=Europe/Amsterdam:20221110T103000
DTEND;TZID=Europe/Amsterdam:20221110T183000
DTSTAMP:20260423T091454
CREATED:20220815T163403Z
LAST-MODIFIED:20220815T163903Z
UID:10001554-1668076200-1668105000@vidireo.nl
SUMMARY:KrulKracht dagbeleving
DESCRIPTION:
URL:https://vidireo.nl/event/krulkracht-dagbeleving/2022-11-10/
END:VEVENT
BEGIN:VEVENT
DTSTART;TZID=Europe/Amsterdam:20221108T190000
DTEND;TZID=Europe/Amsterdam:20221108T223000
DTSTAMP:20260423T091454
CREATED:20220815T051224Z
LAST-MODIFIED:20220815T051725Z
UID:10001483-1667934000-1667946600@vidireo.nl
SUMMARY:BigBand repetitie
DESCRIPTION:wekelijkse repetitie van de BigBand
URL:https://vidireo.nl/event/bigband-repetitie/2022-11-08/
END:VEVENT
BEGIN:VEVENT
DTSTART;TZID=Europe/Amsterdam:20221108T170000
DTEND;TZID=Europe/Amsterdam:20221108T183000
DTSTAMP:20260423T091454
CREATED:20220815T170323Z
LAST-MODIFIED:20220815T170323Z
UID:10001642-1667926800-1667932200@vidireo.nl
SUMMARY:Slagwerk OBK
DESCRIPTION:
URL:https://vidireo.nl/event/slagwerk-obk/2022-11-08/
END:VEVENT
BEGIN:VEVENT
DTSTART;TZID=Europe/Amsterdam:20221108T103000
DTEND;TZID=Europe/Amsterdam:20221108T183000
DTSTAMP:20260423T091454
CREATED:20220815T163403Z
LAST-MODIFIED:20220815T163903Z
UID:10001553-1667903400-1667932200@vidireo.nl
SUMMARY:KrulKracht dagbeleving
DESCRIPTION:
URL:https://vidireo.nl/event/krulkracht-dagbeleving/2022-11-08/
END:VEVENT
BEGIN:VEVENT
DTSTART;TZID=Europe/Amsterdam:20221107T183000
DTEND;TZID=Europe/Amsterdam:20221107T223000
DTSTAMP:20260423T091454
CREATED:20220815T163644Z
LAST-MODIFIED:20220815T163645Z
UID:10001590-1667845800-1667860200@vidireo.nl
SUMMARY:Harmonie
DESCRIPTION:
URL:https://vidireo.nl/event/harmonie/2022-11-07/
END:VEVENT
BEGIN:VEVENT
DTSTART;TZID=Europe/Amsterdam:20221107T163000
DTEND;TZID=Europe/Amsterdam:20221107T173000
DTSTAMP:20260423T091454
CREATED:20220815T193651Z
LAST-MODIFIED:20220815T193651Z
UID:10001692-1667838600-1667842200@vidireo.nl
SUMMARY:Jeugd Theater Spons
DESCRIPTION:
URL:https://vidireo.nl/event/jeugd-theater-spons/2022-11-07/
END:VEVENT
BEGIN:VEVENT
DTSTART;TZID=Europe/Amsterdam:20221106T140000
DTEND;TZID=Europe/Amsterdam:20221106T160000
DTSTAMP:20260423T091454
CREATED:20220826T084000Z
LAST-MODIFIED:20220826T084000Z
UID:10001313-1667743200-1667750400@vidireo.nl
SUMMARY:Ontmoeten Zorgcooperatie
DESCRIPTION:
URL:https://vidireo.nl/event/ontmoeten-zorgcooperatie/2022-11-06/
END:VEVENT
BEGIN:VEVENT
DTSTART;TZID=Europe/Amsterdam:20221104T140000
DTEND;TZID=Europe/Amsterdam:20221104T160000
DTSTAMP:20260423T091454
CREATED:20220826T084000Z
LAST-MODIFIED:20220826T084000Z
UID:10001312-1667570400-1667577600@vidireo.nl
SUMMARY:Ontmoeten Zorgcooperatie
DESCRIPTION:
URL:https://vidireo.nl/event/ontmoeten-zorgcooperatie/2022-11-04/
END:VEVENT
BEGIN:VEVENT
DTSTART;TZID=Europe/Amsterdam:20221103T103000
DTEND;TZID=Europe/Amsterdam:20221103T183000
DTSTAMP:20260423T091454
CREATED:20220815T163403Z
LAST-MODIFIED:20220815T163903Z
UID:10001552-1667471400-1667500200@vidireo.nl
SUMMARY:KrulKracht dagbeleving
DESCRIPTION:
URL:https://vidireo.nl/event/krulkracht-dagbeleving/2022-11-03/
END:VEVENT
BEGIN:VEVENT
DTSTART;TZID=Europe/Amsterdam:20221102T193000
DTEND;TZID=Europe/Amsterdam:20221102T220000
DTSTAMP:20260423T091454
CREATED:20220815T053110Z
LAST-MODIFIED:20220815T060823Z
UID:10001525-1667417400-1667426400@vidireo.nl
SUMMARY:Film Intouchables
DESCRIPTION:Entree € 5\,00 p.p. \n\n\n\n\n\nAls gevolg van een ongeval tijdens het paragliding moet Philippe\, een rijke aristocraat\, op zoek naar iemand om hem te helpen in het huis. Hij neemt Driss in dienst\, een jongeman uit de voorsteden die net uit de gevangenis komt. Kortom\, de minst geschikte persoon voor de job. Samen zullen ze een middenweg moeten vinden tussen Vivaldi en Earth Wind and Fire\, tussen het kostuum en het trainingspak…
URL:https://vidireo.nl/event/film-intouchables/
END:VEVENT
BEGIN:VEVENT
DTSTART;TZID=Europe/Amsterdam:20221102T193000
DTEND;TZID=Europe/Amsterdam:20221102T213000
DTSTAMP:20260423T091454
CREATED:20220824T175130Z
LAST-MODIFIED:20220824T175130Z
UID:10001742-1667417400-1667424600@vidireo.nl
SUMMARY:Vrolijke Vrollie
DESCRIPTION:
URL:https://vidireo.nl/event/vrolijke-vrollie/2022-11-02/
END:VEVENT
BEGIN:VEVENT
DTSTART;TZID=Europe/Amsterdam:20221101T190000
DTEND;TZID=Europe/Amsterdam:20221101T223000
DTSTAMP:20260423T091454
CREATED:20220815T051224Z
LAST-MODIFIED:20220815T051725Z
UID:10001482-1667329200-1667341800@vidireo.nl
SUMMARY:BigBand repetitie
DESCRIPTION:wekelijkse repetitie van de BigBand
URL:https://vidireo.nl/event/bigband-repetitie/2022-11-01/
END:VEVENT
BEGIN:VEVENT
DTSTART;TZID=Europe/Amsterdam:20221101T170000
DTEND;TZID=Europe/Amsterdam:20221101T183000
DTSTAMP:20260423T091454
CREATED:20220815T170323Z
LAST-MODIFIED:20220815T170323Z
UID:10001641-1667322000-1667327400@vidireo.nl
SUMMARY:Slagwerk OBK
DESCRIPTION:
URL:https://vidireo.nl/event/slagwerk-obk/2022-11-01/
END:VEVENT
BEGIN:VEVENT
DTSTART;TZID=Europe/Amsterdam:20221101T103000
DTEND;TZID=Europe/Amsterdam:20221101T183000
DTSTAMP:20260423T091454
CREATED:20220815T163403Z
LAST-MODIFIED:20220815T163903Z
UID:10001551-1667298600-1667327400@vidireo.nl
SUMMARY:KrulKracht dagbeleving
DESCRIPTION:
URL:https://vidireo.nl/event/krulkracht-dagbeleving/2022-11-01/
END:VEVENT
BEGIN:VEVENT
DTSTART;TZID=Europe/Amsterdam:20221031T183000
DTEND;TZID=Europe/Amsterdam:20221031T223000
DTSTAMP:20260423T091454
CREATED:20220815T163644Z
LAST-MODIFIED:20220815T163645Z
UID:10001589-1667241000-1667255400@vidireo.nl
SUMMARY:Harmonie
DESCRIPTION:
URL:https://vidireo.nl/event/harmonie/2022-10-31/
END:VEVENT
END:VCALENDAR