BEGIN:VCALENDAR
VERSION:2.0
PRODID:-//VidiReo - ECPv6.15.20//NONSGML v1.0//EN
CALSCALE:GREGORIAN
METHOD:PUBLISH
X-WR-CALNAME:VidiReo
X-ORIGINAL-URL:https://vidireo.nl
X-WR-CALDESC:Evenementen voor VidiReo
REFRESH-INTERVAL;VALUE=DURATION:PT1H
X-Robots-Tag:noindex
X-PUBLISHED-TTL:PT1H
BEGIN:VTIMEZONE
TZID:UTC
BEGIN:STANDARD
TZOFFSETFROM:+0000
TZOFFSETTO:+0000
TZNAME:UTC
DTSTART:20190101T000000
END:STANDARD
END:VTIMEZONE
BEGIN:VEVENT
DTSTART;TZID=UTC:20200908T200000
DTEND;TZID=UTC:20200908T220000
DTSTAMP:20260425T151512
CREATED:20200719T070257Z
LAST-MODIFIED:20200719T070259Z
UID:10001047-1599595200-1599602400@vidireo.nl
SUMMARY:20.00 uur repetitie Big Band
DESCRIPTION:
URL:https://vidireo.nl/event/20-00-uur-repetitie-big-band-2/
END:VEVENT
BEGIN:VEVENT
DTSTART;TZID=UTC:20200908T170000
DTEND;TZID=UTC:20200908T180000
DTSTAMP:20260425T151512
CREATED:20200830T073500Z
LAST-MODIFIED:20200830T073502Z
UID:10001079-1599584400-1599588000@vidireo.nl
SUMMARY:17:00 - 18:00 uur repetitie slagwerkgroep
DESCRIPTION:
URL:https://vidireo.nl/event/1700-1800-uur-repetitie-slagwerkgroep/
END:VEVENT
BEGIN:VEVENT
DTSTART;TZID=UTC:20200908T103000
DTEND;TZID=UTC:20200908T170000
DTSTAMP:20260425T151512
CREATED:20200913T093727Z
LAST-MODIFIED:20200913T093727Z
UID:10001093-1599561000-1599584400@vidireo.nl
SUMMARY:10:30 - 17:00 Krulkracht Dagbesteding
DESCRIPTION:
URL:https://vidireo.nl/event/1030-1700-krulkracht-dagbesteding/
END:VEVENT
BEGIN:VEVENT
DTSTART;TZID=UTC:20200907T193000
DTEND;TZID=UTC:20200907T220000
DTSTAMP:20260425T151512
CREATED:20200719T060922Z
LAST-MODIFIED:20200719T060922Z
UID:10001037-1599507000-1599516000@vidireo.nl
SUMMARY:19:30 uur repetitie OBK
DESCRIPTION:Wekelijkse repetitie
URL:https://vidireo.nl/event/1930-uur-repetitie-obk/
LOCATION:VidiReo\, grote zaal
END:VEVENT
BEGIN:VEVENT
DTSTART;TZID=UTC:20200906T140000
DTEND;TZID=UTC:20200906T170000
DTSTAMP:20260425T151512
CREATED:20200905T112953Z
LAST-MODIFIED:20200905T155120Z
UID:10001036-1599400800-1599411600@vidireo.nl
SUMMARY:14:00 uur en 15:00 uur optreden Mix of Music
DESCRIPTION:
URL:https://vidireo.nl/event/optreden-mix-of-music/
END:VEVENT
BEGIN:VEVENT
DTSTART;TZID=UTC:20200905T133000
DTEND;TZID=UTC:20200905T160000
DTSTAMP:20260425T151512
CREATED:20200714T110831Z
LAST-MODIFIED:20200715T151227Z
UID:10001010-1599312600-1599321600@vidireo.nl
SUMMARY:13.30 uur Gezellig Bij
DESCRIPTION:Maandelijkse Knutselactiviteit
URL:https://vidireo.nl/event/13-30-uur-gezellig-bij/
END:VEVENT
BEGIN:VEVENT
DTSTART;TZID=UTC:20200903T200000
DTEND;TZID=UTC:20200903T213000
DTSTAMP:20260425T151512
CREATED:20200830T084804Z
LAST-MODIFIED:20200830T084807Z
UID:10001029-1599163200-1599168600@vidireo.nl
SUMMARY:20:00 uur repetitie Mix of Music
DESCRIPTION:
URL:https://vidireo.nl/event/2000-uur-repetitie-mix-of-music/
END:VEVENT
BEGIN:VEVENT
DTSTART;TZID=UTC:20200903T103000
DTEND;TZID=UTC:20200903T170000
DTSTAMP:20260425T151512
CREATED:20200913T093549Z
LAST-MODIFIED:20200913T093550Z
UID:10001092-1599129000-1599152400@vidireo.nl
SUMMARY:10:30 - 17:00 uur Krulkracht Dagbesteding
DESCRIPTION:
URL:https://vidireo.nl/event/1030-1700-uur-krulkracht-dagbesteding/
END:VEVENT
BEGIN:VEVENT
DTSTART;TZID=UTC:20200902T193000
DTEND;TZID=UTC:20200902T213000
DTSTAMP:20260425T151512
CREATED:20200717T105155Z
LAST-MODIFIED:20200831T151523Z
UID:10001028-1599075000-1599082200@vidireo.nl
SUMMARY:19:30 uur film AMY
DESCRIPTION:€ 5\,00 entree \n\n\n\n\n\n\n\n\n\nVerenigd KoninkrijkDocumentaire / Biografie128 minuten \n\n\n\ngeregisseerd door Asif Kapadiamet Amy Winehouse\, Lauren Gilbert en Juliette Ashby \n\n\n\nHet verhaal van zesvoudig Grammy-winnares Amy Winehouse\, in haar eigen woorden. Aan de hand van nooit eerder vertoonde archiefbeelden en nooit eerder gehoorde nummers wordt een beeld geschetst van de wereld waarin we leven op een manier die maar weinig anderen kunnen. Amy Winehouse zong vanuit haar hart en door haar muzikale talenten probeerde ze haar eigen problemen te analyseren. De combinatie van rauwe eerlijkheid en groot talent resulteerde in een aantal van de meest originele en geliefde nummers van onze moderne tijd. Haar enorme succes had echter ook een keerzijde: een meedogenloze en overweldigende media-aandacht in combinatie met haar stormachtige relaties en wisselvallige levensstijl zorgden voor een tragische afloop van haar leven.
URL:https://vidireo.nl/event/1930-uur-film-amy/
END:VEVENT
BEGIN:VEVENT
DTSTART;TZID=UTC:20200901T200000
DTEND;TZID=UTC:20200901T223000
DTSTAMP:20260425T151512
CREATED:20200719T065706Z
LAST-MODIFIED:20200719T065708Z
UID:10001046-1598990400-1598999400@vidireo.nl
SUMMARY:20.00 uur repetitie Big Band
DESCRIPTION:
URL:https://vidireo.nl/event/20-00-uur-repetitie-big-band/
END:VEVENT
BEGIN:VEVENT
DTSTART;TZID=UTC:20200901T170000
DTEND;TZID=UTC:20200901T180000
DTSTAMP:20260425T151512
CREATED:20200830T073040Z
LAST-MODIFIED:20200830T104144Z
UID:10001077-1598979600-1598983200@vidireo.nl
SUMMARY:17:00-18:00 uur repetitie Slagwerkgroep
DESCRIPTION:
URL:https://vidireo.nl/event/slagwerkgroep/
END:VEVENT
BEGIN:VEVENT
DTSTART;TZID=UTC:20200901T120000
DTEND;TZID=UTC:20200901T120000
DTSTAMP:20260425T151512
CREATED:20200913T093415Z
LAST-MODIFIED:20200913T093415Z
UID:10001091-1598961600-1598961600@vidireo.nl
SUMMARY:10.30 - 17.00 uur krulkracht dagbesteding
DESCRIPTION:
URL:https://vidireo.nl/event/10-30-17-00-uur-krulkracht-dagbesteding/
END:VEVENT
BEGIN:VEVENT
DTSTART;TZID=UTC:20200831T190000
DTEND;TZID=UTC:20200831T203000
DTSTAMP:20260425T151512
CREATED:20200802T134030Z
LAST-MODIFIED:20200830T103942Z
UID:10001059-1598900400-1598905800@vidireo.nl
SUMMARY:19:00 uur infoavond hooghuis locatie genodigden
DESCRIPTION:
URL:https://vidireo.nl/event/infoavond-hooghuis-locatie-genodigden/
END:VEVENT
BEGIN:VEVENT
DTSTART;TZID=UTC:20200828T140000
DTEND;TZID=UTC:20200828T170000
DTSTAMP:20260425T151512
CREATED:20200802T135114Z
LAST-MODIFIED:20200802T135117Z
UID:10001061-1598623200-1598634000@vidireo.nl
SUMMARY:jaarvergadering KBO
DESCRIPTION:
URL:https://vidireo.nl/event/jaarvergadering-kbo/
END:VEVENT
BEGIN:VEVENT
DTSTART;TZID=UTC:20200827T200000
DTEND;TZID=UTC:20200827T213000
DTSTAMP:20260425T151512
CREATED:20200830T083644Z
LAST-MODIFIED:20200830T084141Z
UID:10001026-1598558400-1598563800@vidireo.nl
SUMMARY:20:00 uur repetitie Mix of Music
DESCRIPTION:
URL:https://vidireo.nl/event/1900-uur-repetitie-mix-of-music/
END:VEVENT
BEGIN:VEVENT
DTSTART;TZID=UTC:20200827T090000
DTEND;TZID=UTC:20200827T100000
DTSTAMP:20260425T151512
CREATED:20200712T095648Z
LAST-MODIFIED:20200712T095651Z
UID:10001009-1598518800-1598522400@vidireo.nl
SUMMARY:09.00 uur Ons Welzijn Gymclub
DESCRIPTION:
URL:https://vidireo.nl/event/09-00-uur-ons-welzijn-gymclub-3/
END:VEVENT
BEGIN:VEVENT
DTSTART;TZID=UTC:20200825T200000
DTEND;TZID=UTC:20200825T223000
DTSTAMP:20260425T151512
CREATED:20200707T143133Z
LAST-MODIFIED:20200715T151140Z
UID:10001003-1598385600-1598394600@vidireo.nl
SUMMARY:20:00 repetitie Big Band
DESCRIPTION:
URL:https://vidireo.nl/event/big-band/
CATEGORIES:Repetitie vereniging
END:VEVENT
BEGIN:VEVENT
DTSTART;TZID=UTC:20200824T193000
DTEND;TZID=UTC:20200824T220000
DTSTAMP:20260425T151512
CREATED:20200714T124055Z
LAST-MODIFIED:20200715T111724Z
UID:10001016-1598297400-1598306400@vidireo.nl
SUMMARY:19.30 repetitie OBK
DESCRIPTION:
URL:https://vidireo.nl/event/19-00-repetitie-obk/
END:VEVENT
BEGIN:VEVENT
DTSTART;TZID=UTC:20200820T090000
DTEND;TZID=UTC:20200820T100000
DTSTAMP:20260425T151512
CREATED:20200712T095449Z
LAST-MODIFIED:20200715T113231Z
UID:10001008-1597914000-1597917600@vidireo.nl
SUMMARY:09.00 Ons Welzijn Gymclub
DESCRIPTION:
URL:https://vidireo.nl/event/09-00-ons-welzijn-gymclub/
END:VEVENT
BEGIN:VEVENT
DTSTART;TZID=UTC:20200816T130000
DTEND;TZID=UTC:20200816T180000
DTSTAMP:20260425T151512
CREATED:20200815T070643Z
LAST-MODIFIED:20200815T070645Z
UID:10001065-1597582800-1597600800@vidireo.nl
SUMMARY:Terras geopend
DESCRIPTION:
URL:https://vidireo.nl/event/terras-geopend-2/
END:VEVENT
BEGIN:VEVENT
DTSTART;TZID=UTC:20200815T130000
DTEND;TZID=UTC:20200815T170000
DTSTAMP:20260425T151512
CREATED:20200815T070335Z
LAST-MODIFIED:20200815T070337Z
UID:10001063-1597496400-1597510800@vidireo.nl
SUMMARY:Terras Geopend
DESCRIPTION:
URL:https://vidireo.nl/event/terras-geopend/
END:VEVENT
BEGIN:VEVENT
DTSTART;TZID=UTC:20200813T090000
DTEND;TZID=UTC:20200813T100000
DTSTAMP:20260425T151512
CREATED:20200712T095039Z
LAST-MODIFIED:20200712T095042Z
UID:10001007-1597309200-1597312800@vidireo.nl
SUMMARY:09.00 uur Ons Welzijn Gymclub
DESCRIPTION:
URL:https://vidireo.nl/event/09-00-uur-ons-welzijn-gymclub-2/
END:VEVENT
BEGIN:VEVENT
DTSTART;TZID=UTC:20200806T090000
DTEND;TZID=UTC:20200806T100000
DTSTAMP:20260425T151512
CREATED:20200712T094744Z
LAST-MODIFIED:20200715T151055Z
UID:10001006-1596704400-1596708000@vidireo.nl
SUMMARY:09.00 uur Ons Welzijn Gymclub
DESCRIPTION:
URL:https://vidireo.nl/event/09-00-uur-ons-welzijn-gymclub/
END:VEVENT
BEGIN:VEVENT
DTSTART;TZID=UTC:20200805T193000
DTEND;TZID=UTC:20200805T213000
DTSTAMP:20260425T151512
CREATED:20200710T162705Z
LAST-MODIFIED:20200718T063641Z
UID:10001004-1596655800-1596663000@vidireo.nl
SUMMARY:19.30 uur Filmavond         Chocolat
DESCRIPTION:De entree van de film is € 5\,00 \n\n\n\n\n\n\n\n\n\n\n\nVerenigd Koninkrijk / Verenigde StatenDrama / Romantiek121 minuten \n\n\n\ngeregisseerd door Lasse Hallströmmet Juliette Binoche\, Alfred Molina en Johnny Depp \n\n\n\nIn het Franse dorpje Lansquenet heeft de tijd stilgestaan\, totdat de mooie jonge Vianne Rocher en haar dochtertje in dit vriendelijke maar ingedutte plaatsje een chocolaterie opent. Ze blijkt over een magische gaven te beschikken door voor elke inwoner de juiste soort chocolade te kiezen. De streng gelovige\, stugge dorpelingen smelten voor haar. Hun verborgen verlangens komen naar buiten en iedereen lijkt opener en vrijer te worden. De conservatieve burgemeester ziet zijn macht verdwijnen en spant de strijd aan tegen deze vernieuwing. Als dan ineens ook een knappe vreemdeling in het dorp verschijnt\, die bij Vianne zelf van alles losmaakt\, is dit nog maar het begin van een zeer passionele relatie.
URL:https://vidireo.nl/event/filmavond-chocolat/
END:VEVENT
BEGIN:VEVENT
DTSTART;TZID=UTC:20200730T090000
DTEND;TZID=UTC:20200730T103000
DTSTAMP:20260425T151512
CREATED:20200707T142720Z
LAST-MODIFIED:20200715T113415Z
UID:10001001-1596099600-1596105000@vidireo.nl
SUMMARY:09.00 uur Ons Welzijn  Gymclub
DESCRIPTION:
URL:https://vidireo.nl/event/ons-welzijn-gymclub-5/
LOCATION:VidiReo\, grote zaal
END:VEVENT
BEGIN:VEVENT
DTSTART;TZID=UTC:20200727T140000
DTEND;TZID=UTC:20200727T153000
DTSTAMP:20260425T151512
CREATED:20200720T071711Z
LAST-MODIFIED:20200720T071711Z
UID:10001058-1595858400-1595863800@vidireo.nl
SUMMARY:14:00 ICE AGE 3 NEDERLANDS GESPROKEN (dawn of the Dinosaurs)
DESCRIPTION:Entree € 2\,50 \n\n\n\nVerenigde StatenAnimatie / Familie94 minuten \n\n\n\ngeregisseerd door Carlos Saldanha en Mike Thurmeiermet de stemmen van John Leguizamo\, Denis Leary en Ray Romano \n\n\n\nIn dit nieuwe ”Ice Age avontuur” jaagt Scrat nog steeds de beruchte eikel na\, terwijl hij ondertussen misschien wel zijn ware liefde vindt. Daarnaast verwachten Manny en Ellie hun eerste baby-mammoet\, probeert Sid een eigen familie te creëren door een paar dinosaurus-eieren te pikken en Diego vraagt zich af of hij door zijn zachtaardige vrienden niet te lief wordt voor een sabeltand-tijger. Op een missie om Sid te redden\, komt de groep in een mysterieuze ondergrondse wereld terecht\, waar ze middenin de tropische wildernis en tussen de dinosaurussen belanden. Hier ontmoeten ze de brute\, eenogige dinosaurus-jager Buck de wezel…
URL:https://vidireo.nl/event/1400-ice-age-3-nederlands-gesproken-dawn-of-the-dinosaurs/
END:VEVENT
BEGIN:VEVENT
DTSTART;TZID=UTC:20200727T080000
DTEND;TZID=UTC:20200727T220000
DTSTAMP:20260425T151512
CREATED:20200714T125031Z
LAST-MODIFIED:20200714T125033Z
UID:10001027-1595836800-1595887200@vidireo.nl
SUMMARY:zomersluiting
DESCRIPTION:
URL:https://vidireo.nl/event/zomersluiting-7/
END:VEVENT
BEGIN:VEVENT
DTSTART;TZID=UTC:20200726T080000
DTEND;TZID=UTC:20200726T220000
DTSTAMP:20260425T151512
CREATED:20200714T125005Z
LAST-MODIFIED:20200714T125007Z
UID:10001025-1595750400-1595800800@vidireo.nl
SUMMARY:zomersluiting
DESCRIPTION:
URL:https://vidireo.nl/event/zomersluiting-6/
END:VEVENT
BEGIN:VEVENT
DTSTART;TZID=UTC:20200725T080000
DTEND;TZID=UTC:20200725T220000
DTSTAMP:20260425T151512
CREATED:20200714T124935Z
LAST-MODIFIED:20200714T124938Z
UID:10001022-1595664000-1595714400@vidireo.nl
SUMMARY:zomersluiting
DESCRIPTION:
URL:https://vidireo.nl/event/zomersluiting-5/
END:VEVENT
BEGIN:VEVENT
DTSTART;TZID=UTC:20200724T080000
DTEND;TZID=UTC:20200724T220000
DTSTAMP:20260425T151512
CREATED:20200714T124905Z
LAST-MODIFIED:20200714T124907Z
UID:10001020-1595577600-1595628000@vidireo.nl
SUMMARY:zomersluiting
DESCRIPTION:
URL:https://vidireo.nl/event/zomersluiting-4/
END:VEVENT
END:VCALENDAR