BEGIN:VCALENDAR
VERSION:2.0
PRODID:-//VidiReo - ECPv6.15.20//NONSGML v1.0//EN
CALSCALE:GREGORIAN
METHOD:PUBLISH
X-ORIGINAL-URL:https://vidireo.nl
X-WR-CALDESC:Evenementen voor VidiReo
REFRESH-INTERVAL;VALUE=DURATION:PT1H
X-Robots-Tag:noindex
X-PUBLISHED-TTL:PT1H
BEGIN:VTIMEZONE
TZID:UTC
BEGIN:STANDARD
TZOFFSETFROM:+0000
TZOFFSETTO:+0000
TZNAME:UTC
DTSTART:20190101T000000
END:STANDARD
END:VTIMEZONE
BEGIN:VEVENT
DTSTART;TZID=UTC:20200927T140000
DTEND;TZID=UTC:20200927T170000
DTSTAMP:20260425T121741
CREATED:20200922T165638Z
LAST-MODIFIED:20200922T165639Z
UID:10001126-1601215200-1601226000@vidireo.nl
SUMMARY:14:00 uur aanvang film zorgcooperatie
DESCRIPTION:
URL:https://vidireo.nl/event/1400-uur-aanvang-film-zorgcooperatie/
END:VEVENT
BEGIN:VEVENT
DTSTART;TZID=UTC:20200927T094500
DTEND;TZID=UTC:20200927T113000
DTSTAMP:20260425T121741
CREATED:20200830T080311Z
LAST-MODIFIED:20200830T080344Z
UID:10001024-1601199900-1601206200@vidireo.nl
SUMMARY:09:45-11:30 uur repetitie TEASE
DESCRIPTION:
URL:https://vidireo.nl/event/0945-1130-uur-repetitie-tease/
END:VEVENT
BEGIN:VEVENT
DTSTART;TZID=UTC:20200926T140000
DTEND;TZID=UTC:20200926T170000
DTSTAMP:20260425T121741
CREATED:20200922T165801Z
LAST-MODIFIED:20200922T165801Z
UID:10001127-1601128800-1601139600@vidireo.nl
SUMMARY:14:00 - 17:00 uur aanvang Burendag VidiReo
DESCRIPTION:
URL:https://vidireo.nl/event/1400-1700-uur-aanvang-burendag-vidireo/
END:VEVENT
BEGIN:VEVENT
DTSTART;TZID=UTC:20200926T113000
DTEND;TZID=UTC:20200926T133000
DTSTAMP:20260425T121741
CREATED:20200912T115915Z
LAST-MODIFIED:20200914T114918Z
UID:10001090-1601119800-1601127000@vidireo.nl
SUMMARY:11:30 uur film De Avonturen van Kuifje
DESCRIPTION:Entree 3\,50 vanaf 6 jaar \n\n\n\n\n\n\n\n\n\nDe nieuwsgierige reporter Kuifje en zijn trouwe hondje Bobbie ontdekken dat een model van het prachtige oude zeilschip ‘De Eenhoorn’ een geheim met zich meedraagt. Meegevoerd in een eeuwenoud mysterie\, krijgt hij het aan de stok met de boosaardige Sacharin\, die weet dat Kuifje een belangrijke aanwijzing bezit naar de grote schat van de snode piraat Scharlaken Rackham. Geholpen door de moedige Bobbie\, de onstuimige kapitein Haddock en de stuntelige detectives Jansen en Janssen\, reist Kuifje de halve wereld af\, constant op de hielen gezeten door de vijand. Hij moet slimmer en sneller zijn dan de rest om het Geheim van de Eenhoorn te ontrafelen
URL:https://vidireo.nl/event/1130-uur-film-de-avonturen-van-kuifje/
END:VEVENT
BEGIN:VEVENT
DTSTART;TZID=UTC:20200924T200000
DTEND;TZID=UTC:20200924T213000
DTSTAMP:20260425T121741
CREATED:20200905T112814Z
LAST-MODIFIED:20200905T112814Z
UID:10001034-1600977600-1600983000@vidireo.nl
SUMMARY:repetitie Mix of Music
DESCRIPTION:
URL:https://vidireo.nl/event/repetitie-mix-of-music-2/
END:VEVENT
BEGIN:VEVENT
DTSTART;TZID=UTC:20200924T103000
DTEND;TZID=UTC:20200924T170000
DTSTAMP:20260425T121741
CREATED:20200913T094441Z
LAST-MODIFIED:20200913T094441Z
UID:10001098-1600943400-1600966800@vidireo.nl
SUMMARY:10:30 - 17:00 uur Krulkracht Dagbesteding
DESCRIPTION:
URL:https://vidireo.nl/event/1030-1700-uur-krulkracht-dagbesteding-6/
END:VEVENT
BEGIN:VEVENT
DTSTART;TZID=UTC:20200922T200000
DTEND;TZID=UTC:20200922T223000
DTSTAMP:20260425T121741
CREATED:20200719T071125Z
LAST-MODIFIED:20200719T071127Z
UID:10001049-1600804800-1600813800@vidireo.nl
SUMMARY:20.00 uur repetitie Big Band
DESCRIPTION:
URL:https://vidireo.nl/event/20-00-uur-repetitie-big-band-4/
END:VEVENT
BEGIN:VEVENT
DTSTART;TZID=UTC:20200922T170000
DTEND;TZID=UTC:20200922T180000
DTSTAMP:20260425T121741
CREATED:20200830T074105Z
LAST-MODIFIED:20200830T074107Z
UID:10001082-1600794000-1600797600@vidireo.nl
SUMMARY:17:00-18:00 repetitie slagwerkgroep
DESCRIPTION:
URL:https://vidireo.nl/event/1700-1800-repetitie-slagwerkgroep/
END:VEVENT
BEGIN:VEVENT
DTSTART;TZID=UTC:20200922T103000
DTEND;TZID=UTC:20200922T170000
DTSTAMP:20260425T121741
CREATED:20200913T094139Z
LAST-MODIFIED:20200913T094139Z
UID:10001097-1600770600-1600794000@vidireo.nl
SUMMARY:10:30 - 17:00 uur Krulkracht Dagbesteding
DESCRIPTION:
URL:https://vidireo.nl/event/1030-1700-uur-krulkracht-dagbesteding-5/
END:VEVENT
BEGIN:VEVENT
DTSTART;TZID=UTC:20200921T193000
DTEND;TZID=UTC:20200921T220000
DTSTAMP:20260425T121741
CREATED:20200719T062842Z
LAST-MODIFIED:20200719T062845Z
UID:10001040-1600716600-1600725600@vidireo.nl
SUMMARY:19.30 uur repetitie OBK
DESCRIPTION:
URL:https://vidireo.nl/event/19-30-uur-repetitie-obk-2/
END:VEVENT
BEGIN:VEVENT
DTSTART;TZID=UTC:20200920T130000
DTEND;TZID=UTC:20200920T170000
DTSTAMP:20260425T121741
CREATED:20200913T100032Z
LAST-MODIFIED:20200913T100032Z
UID:10001101-1600606800-1600621200@vidireo.nl
SUMMARY:13:00 uur Terras Geopend
DESCRIPTION:
URL:https://vidireo.nl/event/1300-uur-terras-geopend/
END:VEVENT
BEGIN:VEVENT
DTSTART;TZID=UTC:20200917T200000
DTEND;TZID=UTC:20200917T213000
DTSTAMP:20260425T121741
CREATED:20200905T100129Z
LAST-MODIFIED:20200915T172705Z
UID:10001033-1600372800-1600378200@vidireo.nl
SUMMARY:repetitie Mix of Music
DESCRIPTION:
URL:https://vidireo.nl/event/repetitie-mis-of-music/
END:VEVENT
BEGIN:VEVENT
DTSTART;TZID=UTC:20200917T103000
DTEND;TZID=UTC:20200917T170000
DTSTAMP:20260425T121741
CREATED:20200913T094037Z
LAST-MODIFIED:20200913T094037Z
UID:10001096-1600338600-1600362000@vidireo.nl
SUMMARY:10:30 - 17:00 uur Krulkracht Dagbesteding
DESCRIPTION:
URL:https://vidireo.nl/event/1030-1700-uur-krulkracht-dagbesteding-4/
END:VEVENT
BEGIN:VEVENT
DTSTART;TZID=UTC:20200915T200000
DTEND;TZID=UTC:20200915T223000
DTSTAMP:20260425T121741
CREATED:20200719T070812Z
LAST-MODIFIED:20200719T070815Z
UID:10001048-1600200000-1600209000@vidireo.nl
SUMMARY:20.00 uur repetitie Big Band
DESCRIPTION:
URL:https://vidireo.nl/event/20-00-uur-repetitie-big-band-3/
END:VEVENT
BEGIN:VEVENT
DTSTART;TZID=UTC:20200915T170000
DTEND;TZID=UTC:20200915T180000
DTSTAMP:20260425T121741
CREATED:20200830T073948Z
LAST-MODIFIED:20200830T073951Z
UID:10001081-1600189200-1600192800@vidireo.nl
SUMMARY:17:00-18:00 uur repetitie slagwerkgroep
DESCRIPTION:
URL:https://vidireo.nl/event/1700-1800-uur-repetitie-slagwerkgroep-2/
END:VEVENT
BEGIN:VEVENT
DTSTART;TZID=UTC:20200915T103000
DTEND;TZID=UTC:20200915T170000
DTSTAMP:20260425T121741
CREATED:20200913T093935Z
LAST-MODIFIED:20200913T093936Z
UID:10001095-1600165800-1600189200@vidireo.nl
SUMMARY:10:30 - 17:00 uur Krulkracht Dagbesteding
DESCRIPTION:
URL:https://vidireo.nl/event/1030-1700-uur-krulkracht-dagbesteding-3/
END:VEVENT
BEGIN:VEVENT
DTSTART;TZID=UTC:20200914T193000
DTEND;TZID=UTC:20200914T220000
DTSTAMP:20260425T121741
CREATED:20200719T062724Z
LAST-MODIFIED:20200719T062726Z
UID:10001039-1600111800-1600120800@vidireo.nl
SUMMARY:19.30 uur repetitie OBK
DESCRIPTION:
URL:https://vidireo.nl/event/19-30-uur-repetitie-obk/
END:VEVENT
BEGIN:VEVENT
DTSTART;TZID=UTC:20200913T120000
DTEND;TZID=UTC:20200913T170000
DTSTAMP:20260425T121741
CREATED:20200913T095855Z
LAST-MODIFIED:20200913T095856Z
UID:10001100-1599998400-1600016400@vidireo.nl
SUMMARY:12:00 uur Terras Geopend
DESCRIPTION:
URL:https://vidireo.nl/event/1200-uur-terras-geopend/
END:VEVENT
BEGIN:VEVENT
DTSTART;TZID=UTC:20200913T094500
DTEND;TZID=UTC:20200913T113000
DTSTAMP:20260425T121741
CREATED:20200830T080202Z
LAST-MODIFIED:20200830T080204Z
UID:10001023-1599990300-1599996600@vidireo.nl
SUMMARY:09:45-11:30 repetitie TEASE
DESCRIPTION:
URL:https://vidireo.nl/event/0945-1130-repetitie-tease/
END:VEVENT
BEGIN:VEVENT
DTSTART;TZID=UTC:20200913T080000
DTEND;TZID=UTC:20200913T170000
DTSTAMP:20260425T121741
CREATED:20200714T123914Z
LAST-MODIFIED:20200715T151310Z
UID:10001015-1599984000-1600016400@vidireo.nl
SUMMARY:Open Monumenten dag
DESCRIPTION:
URL:https://vidireo.nl/event/open-monumenten-dag-2/
END:VEVENT
BEGIN:VEVENT
DTSTART;TZID=UTC:20200912T100000
DTEND;TZID=UTC:20200912T120000
DTSTAMP:20260425T121741
CREATED:20200802T134348Z
LAST-MODIFIED:20200802T134350Z
UID:10001060-1599904800-1599912000@vidireo.nl
SUMMARY:workshop veilig verkeer KBO
DESCRIPTION:
URL:https://vidireo.nl/event/workshop-veilig-verkeer-kbo/
END:VEVENT
BEGIN:VEVENT
DTSTART;TZID=UTC:20200912T080000
DTEND;TZID=UTC:20200912T170000
DTSTAMP:20260425T121741
CREATED:20200714T123815Z
LAST-MODIFIED:20200715T111138Z
UID:10001014-1599897600-1599930000@vidireo.nl
SUMMARY:Open Monumenten dag
DESCRIPTION:
URL:https://vidireo.nl/event/open-monumenten-dag/
END:VEVENT
BEGIN:VEVENT
DTSTART;TZID=UTC:20200910T200000
DTEND;TZID=UTC:20200910T213000
DTSTAMP:20260425T121741
CREATED:20200905T100039Z
LAST-MODIFIED:20200905T100039Z
UID:10001030-1599768000-1599773400@vidireo.nl
SUMMARY:repetitie Mix of Music
DESCRIPTION:
URL:https://vidireo.nl/event/repetitie-mix-of-music/
END:VEVENT
BEGIN:VEVENT
DTSTART;TZID=UTC:20200910T103000
DTEND;TZID=UTC:20200910T170000
DTSTAMP:20260425T121741
CREATED:20200913T093836Z
LAST-MODIFIED:20200913T093837Z
UID:10001094-1599733800-1599757200@vidireo.nl
SUMMARY:10:30 - 17:00 uur Krulkracht Dagbesteding
DESCRIPTION:
URL:https://vidireo.nl/event/1030-1700-uur-krulkracht-dagbesteding-2/
END:VEVENT
BEGIN:VEVENT
DTSTART;TZID=UTC:20200908T200000
DTEND;TZID=UTC:20200908T220000
DTSTAMP:20260425T121741
CREATED:20200719T070257Z
LAST-MODIFIED:20200719T070259Z
UID:10001047-1599595200-1599602400@vidireo.nl
SUMMARY:20.00 uur repetitie Big Band
DESCRIPTION:
URL:https://vidireo.nl/event/20-00-uur-repetitie-big-band-2/
END:VEVENT
BEGIN:VEVENT
DTSTART;TZID=UTC:20200908T170000
DTEND;TZID=UTC:20200908T180000
DTSTAMP:20260425T121741
CREATED:20200830T073500Z
LAST-MODIFIED:20200830T073502Z
UID:10001079-1599584400-1599588000@vidireo.nl
SUMMARY:17:00 - 18:00 uur repetitie slagwerkgroep
DESCRIPTION:
URL:https://vidireo.nl/event/1700-1800-uur-repetitie-slagwerkgroep/
END:VEVENT
BEGIN:VEVENT
DTSTART;TZID=UTC:20200908T103000
DTEND;TZID=UTC:20200908T170000
DTSTAMP:20260425T121741
CREATED:20200913T093727Z
LAST-MODIFIED:20200913T093727Z
UID:10001093-1599561000-1599584400@vidireo.nl
SUMMARY:10:30 - 17:00 Krulkracht Dagbesteding
DESCRIPTION:
URL:https://vidireo.nl/event/1030-1700-krulkracht-dagbesteding/
END:VEVENT
BEGIN:VEVENT
DTSTART;TZID=UTC:20200907T193000
DTEND;TZID=UTC:20200907T220000
DTSTAMP:20260425T121741
CREATED:20200719T060922Z
LAST-MODIFIED:20200719T060922Z
UID:10001037-1599507000-1599516000@vidireo.nl
SUMMARY:19:30 uur repetitie OBK
DESCRIPTION:Wekelijkse repetitie
URL:https://vidireo.nl/event/1930-uur-repetitie-obk/
LOCATION:VidiReo\, grote zaal
END:VEVENT
BEGIN:VEVENT
DTSTART;TZID=UTC:20200906T140000
DTEND;TZID=UTC:20200906T170000
DTSTAMP:20260425T121741
CREATED:20200905T112953Z
LAST-MODIFIED:20200905T155120Z
UID:10001036-1599400800-1599411600@vidireo.nl
SUMMARY:14:00 uur en 15:00 uur optreden Mix of Music
DESCRIPTION:
URL:https://vidireo.nl/event/optreden-mix-of-music/
END:VEVENT
BEGIN:VEVENT
DTSTART;TZID=UTC:20200905T133000
DTEND;TZID=UTC:20200905T160000
DTSTAMP:20260425T121741
CREATED:20200714T110831Z
LAST-MODIFIED:20200715T151227Z
UID:10001010-1599312600-1599321600@vidireo.nl
SUMMARY:13.30 uur Gezellig Bij
DESCRIPTION:Maandelijkse Knutselactiviteit
URL:https://vidireo.nl/event/13-30-uur-gezellig-bij/
END:VEVENT
END:VCALENDAR