BEGIN:VCALENDAR
VERSION:2.0
PRODID:-//VidiReo - ECPv6.15.20//NONSGML v1.0//EN
CALSCALE:GREGORIAN
METHOD:PUBLISH
X-ORIGINAL-URL:https://vidireo.nl
X-WR-CALDESC:Evenementen voor VidiReo
REFRESH-INTERVAL;VALUE=DURATION:PT1H
X-Robots-Tag:noindex
X-PUBLISHED-TTL:PT1H
BEGIN:VTIMEZONE
TZID:Europe/Amsterdam
BEGIN:DAYLIGHT
TZOFFSETFROM:+0100
TZOFFSETTO:+0200
TZNAME:CEST
DTSTART:20200329T010000
END:DAYLIGHT
BEGIN:STANDARD
TZOFFSETFROM:+0200
TZOFFSETTO:+0100
TZNAME:CET
DTSTART:20201025T010000
END:STANDARD
BEGIN:DAYLIGHT
TZOFFSETFROM:+0100
TZOFFSETTO:+0200
TZNAME:CEST
DTSTART:20210328T010000
END:DAYLIGHT
BEGIN:STANDARD
TZOFFSETFROM:+0200
TZOFFSETTO:+0100
TZNAME:CET
DTSTART:20211031T010000
END:STANDARD
BEGIN:DAYLIGHT
TZOFFSETFROM:+0100
TZOFFSETTO:+0200
TZNAME:CEST
DTSTART:20220327T010000
END:DAYLIGHT
BEGIN:STANDARD
TZOFFSETFROM:+0200
TZOFFSETTO:+0100
TZNAME:CET
DTSTART:20221030T010000
END:STANDARD
END:VTIMEZONE
BEGIN:VEVENT
DTSTART;TZID=Europe/Amsterdam:20210708T193000
DTEND;TZID=Europe/Amsterdam:20210708T223000
DTSTAMP:20260424T121808
CREATED:20210725T133937Z
LAST-MODIFIED:20210725T133940Z
UID:10001417-1625772600-1625783400@vidireo.nl
SUMMARY:19:30 uur Mix Of Music
DESCRIPTION:
URL:https://vidireo.nl/event/1930-uur-mix-of-music-2/
END:VEVENT
BEGIN:VEVENT
DTSTART;TZID=Europe/Amsterdam:20210708T100000
DTEND;TZID=Europe/Amsterdam:20210708T183000
DTSTAMP:20260424T121808
CREATED:20210725T131028Z
LAST-MODIFIED:20210725T131031Z
UID:10001403-1625738400-1625769000@vidireo.nl
SUMMARY:10.30 - 18.30 dagbesteding KrulKracht
DESCRIPTION:
URL:https://vidireo.nl/event/10-30-18-30-dagbesteding-krulkracht-2/
END:VEVENT
BEGIN:VEVENT
DTSTART;TZID=Europe/Amsterdam:20210707T193000
DTEND;TZID=Europe/Amsterdam:20210707T220000
DTSTAMP:20260424T121808
CREATED:20210531T135221Z
LAST-MODIFIED:20210531T135221Z
UID:10001397-1625686200-1625695200@vidireo.nl
SUMMARY:19:30 uur Film La Famille Bélier
DESCRIPTION:ENTREE € 5\,00\n\n\n\n \n\n\n\n*De Franse film La Famille Bélier vindt perfect het midden tussen komedie en drama. Zie het maar eens droog te houden.* \n\n\n\nIedereen in de familie Bélier is doof \n\n\n\nBehalve Paula\, de oudste dochter\, \n\n\n\neen jonge studente die plots ontdekt dat ze geweldig kan zingen. \n\n\n\nOndanks de pubertietsproblemen waarmee ze worstelt en ongeacht de handicap van haar familie\, blijft Paula haar droom koesteren en zal zij dit voorheen ongekende zangtalent benutten
URL:https://vidireo.nl/event/1930-uur-film-la-famille-belier/
END:VEVENT
BEGIN:VEVENT
DTSTART;TZID=Europe/Amsterdam:20210706T200000
DTEND;TZID=Europe/Amsterdam:20210706T223000
DTSTAMP:20260424T121808
CREATED:20210725T133256Z
LAST-MODIFIED:20210725T133259Z
UID:10001414-1625601600-1625610600@vidireo.nl
SUMMARY:20:00 BigBand Ravenstein
DESCRIPTION:
URL:https://vidireo.nl/event/2000-bigband-ravenstein-8/
END:VEVENT
BEGIN:VEVENT
DTSTART;TZID=Europe/Amsterdam:20210706T180000
DTEND;TZID=Europe/Amsterdam:20210706T190000
DTSTAMP:20260424T121808
CREATED:20210725T131755Z
LAST-MODIFIED:20210725T131757Z
UID:10001219-1625594400-1625598000@vidireo.nl
SUMMARY:18:00 tot 19:00 slagwerkgroep
DESCRIPTION:
URL:https://vidireo.nl/event/1800-tot-1900-slagwerkgroep/
END:VEVENT
BEGIN:VEVENT
DTSTART;TZID=Europe/Amsterdam:20210706T103000
DTEND;TZID=Europe/Amsterdam:20210706T183000
DTSTAMP:20260424T121808
CREATED:20210725T131248Z
LAST-MODIFIED:20210725T131251Z
UID:10001209-1625567400-1625596200@vidireo.nl
SUMMARY:10.30 - 18.30 dagbesteding KrulKracht
DESCRIPTION:
URL:https://vidireo.nl/event/10-30-18-30-dagbesteding-krulkracht-5/
END:VEVENT
BEGIN:VEVENT
DTSTART;TZID=Europe/Amsterdam:20210706T100000
DTEND;TZID=Europe/Amsterdam:20210706T120000
DTSTAMP:20260424T121808
CREATED:20210725T132002Z
LAST-MODIFIED:20210725T132004Z
UID:10001223-1625565600-1625572800@vidireo.nl
SUMMARY:10:00 tot 12:00 zorgcooperatie
DESCRIPTION:
URL:https://vidireo.nl/event/1000-tot-1200-zorgcooperatie/
END:VEVENT
BEGIN:VEVENT
DTSTART;TZID=Europe/Amsterdam:20210705T190000
DTEND;TZID=Europe/Amsterdam:20210705T213000
DTSTAMP:20260424T121808
CREATED:20210725T130627Z
LAST-MODIFIED:20210725T130630Z
UID:10001400-1625511600-1625520600@vidireo.nl
SUMMARY:19:00 uur repetitie OBK
DESCRIPTION:
URL:https://vidireo.nl/event/1900-uur-repetitie-obk-2/
END:VEVENT
BEGIN:VEVENT
DTSTART;TZID=Europe/Amsterdam:20210702T140000
DTEND;TZID=Europe/Amsterdam:20210702T160000
DTSTAMP:20260424T121808
CREATED:20210725T132312Z
LAST-MODIFIED:20210725T132314Z
UID:10001407-1625234400-1625241600@vidireo.nl
SUMMARY:14:00 tot 16:00 Zorg coöperatie
DESCRIPTION:
URL:https://vidireo.nl/event/1400-tot-1600-zorg-cooperatie/
END:VEVENT
BEGIN:VEVENT
DTSTART;TZID=Europe/Amsterdam:20210701T193000
DTEND;TZID=Europe/Amsterdam:20210701T223000
DTSTAMP:20260424T121808
CREATED:20210725T133857Z
LAST-MODIFIED:20210725T133900Z
UID:10001416-1625167800-1625178600@vidireo.nl
SUMMARY:19:30 uur Mix Of Music
DESCRIPTION:
URL:https://vidireo.nl/event/1930-uur-mix-of-music/
END:VEVENT
BEGIN:VEVENT
DTSTART;TZID=Europe/Amsterdam:20210701T100000
DTEND;TZID=Europe/Amsterdam:20210701T183000
DTSTAMP:20260424T121808
CREATED:20210725T130940Z
LAST-MODIFIED:20210725T130942Z
UID:10001402-1625133600-1625164200@vidireo.nl
SUMMARY:10.30 - 18.30 dagbesteding KrulKracht
DESCRIPTION:
URL:https://vidireo.nl/event/10-30-18-30-dagbesteding-krulkracht/
END:VEVENT
BEGIN:VEVENT
DTSTART;TZID=Europe/Amsterdam:20210629T220000
DTEND;TZID=Europe/Amsterdam:20210629T220000
DTSTAMP:20260424T121808
CREATED:20210530T061737Z
LAST-MODIFIED:20210530T061738Z
UID:10001396-1625004000-1625004000@vidireo.nl
SUMMARY:20:00 Bigband Ravenstein
DESCRIPTION:
URL:https://vidireo.nl/event/2000-bigband-ravenstein-7/
END:VEVENT
BEGIN:VEVENT
DTSTART;TZID=Europe/Amsterdam:20210629T170000
DTEND;TZID=Europe/Amsterdam:20210629T180000
DTSTAMP:20260424T121808
CREATED:20210521T092719Z
LAST-MODIFIED:20210521T092719Z
UID:10001383-1624986000-1624989600@vidireo.nl
SUMMARY:17:00 tot 18:00 slagwerkgroep
DESCRIPTION:
URL:https://vidireo.nl/event/1700-tot-1800-slagwerkgroep-5/
END:VEVENT
BEGIN:VEVENT
DTSTART;TZID=Europe/Amsterdam:20210629T103000
DTEND;TZID=Europe/Amsterdam:20210629T170000
DTSTAMP:20260424T121808
CREATED:20210521T082652Z
LAST-MODIFIED:20210521T082652Z
UID:10001353-1624962600-1624986000@vidireo.nl
SUMMARY:10:30 KrulKracht dagbesteding
DESCRIPTION:
URL:https://vidireo.nl/event/1030-krulkracht-dagbesteding-6/
END:VEVENT
BEGIN:VEVENT
DTSTART;TZID=Europe/Amsterdam:20210628T190000
DTEND;TZID=Europe/Amsterdam:20210628T220000
DTSTAMP:20260424T121808
CREATED:20210530T060525Z
LAST-MODIFIED:20210530T060526Z
UID:10001389-1624906800-1624917600@vidireo.nl
SUMMARY:19:00 Harmonie OBK
DESCRIPTION:
URL:https://vidireo.nl/event/1900-harmonie-obk-6/
END:VEVENT
BEGIN:VEVENT
DTSTART;TZID=Europe/Amsterdam:20210628T163000
DTEND;TZID=Europe/Amsterdam:20210628T173000
DTSTAMP:20260424T121808
CREATED:20210521T081305Z
LAST-MODIFIED:20210521T081305Z
UID:10001173-1624897800-1624901400@vidireo.nl
SUMMARY:16:30 tot 17:30 uur Jeugdtheater Spons
DESCRIPTION:
URL:https://vidireo.nl/event/1630-tot-1730-uur-jeugdtheater-spons-4/
END:VEVENT
BEGIN:VEVENT
DTSTART;TZID=Europe/Amsterdam:20210624T103000
DTEND;TZID=Europe/Amsterdam:20210624T170000
DTSTAMP:20260424T121808
CREATED:20210521T083936Z
LAST-MODIFIED:20210521T083936Z
UID:10001367-1624530600-1624554000@vidireo.nl
SUMMARY:10:30 KrulKracht dagbesteding
DESCRIPTION:
URL:https://vidireo.nl/event/1030-krulkracht-dagbesteding-10/
END:VEVENT
BEGIN:VEVENT
DTSTART;TZID=Europe/Amsterdam:20210622T200000
DTEND;TZID=Europe/Amsterdam:20210622T220000
DTSTAMP:20260424T121808
CREATED:20210530T061556Z
LAST-MODIFIED:20210530T061557Z
UID:10001395-1624392000-1624399200@vidireo.nl
SUMMARY:20:00 Bigband Ravenstein
DESCRIPTION:
URL:https://vidireo.nl/event/2000-bigband-ravenstein-6/
END:VEVENT
BEGIN:VEVENT
DTSTART;TZID=Europe/Amsterdam:20210622T200000
DTEND;TZID=Europe/Amsterdam:20210622T220000
DTSTAMP:20260424T121808
CREATED:20210530T061452Z
LAST-MODIFIED:20210530T061453Z
UID:10001394-1624392000-1624399200@vidireo.nl
SUMMARY:20:00 Bigband Ravenstein
DESCRIPTION:
URL:https://vidireo.nl/event/2000-bigband-ravenstein-5/
END:VEVENT
BEGIN:VEVENT
DTSTART;TZID=Europe/Amsterdam:20210622T170000
DTEND;TZID=Europe/Amsterdam:20210622T180000
DTSTAMP:20260424T121808
CREATED:20210521T092649Z
LAST-MODIFIED:20210521T092649Z
UID:10001382-1624381200-1624384800@vidireo.nl
SUMMARY:17:00 tot 18:00 slagwerkgroep
DESCRIPTION:
URL:https://vidireo.nl/event/1700-tot-1800-slagwerkgroep-4/
END:VEVENT
BEGIN:VEVENT
DTSTART;TZID=Europe/Amsterdam:20210622T103000
DTEND;TZID=Europe/Amsterdam:20210622T170000
DTSTAMP:20260424T121808
CREATED:20210521T082622Z
LAST-MODIFIED:20210521T082622Z
UID:10001351-1624357800-1624381200@vidireo.nl
SUMMARY:10:30 KrulKracht dagbesteding
DESCRIPTION:
URL:https://vidireo.nl/event/1030-krulkracht-dagbesteding-5/
END:VEVENT
BEGIN:VEVENT
DTSTART;TZID=Europe/Amsterdam:20210621T190000
DTEND;TZID=Europe/Amsterdam:20210621T220000
DTSTAMP:20260424T121808
CREATED:20210530T060102Z
LAST-MODIFIED:20210530T060102Z
UID:10001387-1624302000-1624312800@vidireo.nl
SUMMARY:19:00 Harmonie OBK
DESCRIPTION:
URL:https://vidireo.nl/event/1900-harmonie-obk-4/
END:VEVENT
BEGIN:VEVENT
DTSTART;TZID=Europe/Amsterdam:20210621T163000
DTEND;TZID=Europe/Amsterdam:20210621T173000
DTSTAMP:20260424T121808
CREATED:20210521T081157Z
LAST-MODIFIED:20210521T081157Z
UID:10001171-1624293000-1624296600@vidireo.nl
SUMMARY:16:30 tot 17:30 uur Jeugdtheater Spons
DESCRIPTION:
URL:https://vidireo.nl/event/1630-tot-1730-uur-jeugdtheater-spons-3/
END:VEVENT
BEGIN:VEVENT
DTSTART;TZID=Europe/Amsterdam:20210617T103000
DTEND;TZID=Europe/Amsterdam:20210617T170000
DTSTAMP:20260424T121808
CREATED:20210521T083855Z
LAST-MODIFIED:20210521T083856Z
UID:10001359-1623925800-1623949200@vidireo.nl
SUMMARY:10:30 KrulKracht dagbesteding
DESCRIPTION:
URL:https://vidireo.nl/event/1030-krulkracht-dagbesteding-9/
END:VEVENT
BEGIN:VEVENT
DTSTART;TZID=Europe/Amsterdam:20210615T200000
DTEND;TZID=Europe/Amsterdam:20210615T220000
DTSTAMP:20260424T121808
CREATED:20210530T061218Z
LAST-MODIFIED:20210530T061219Z
UID:10001393-1623787200-1623794400@vidireo.nl
SUMMARY:20:00 Bigband Ravenstein
DESCRIPTION:
URL:https://vidireo.nl/event/2000-bigband-ravenstein-4/
END:VEVENT
BEGIN:VEVENT
DTSTART;TZID=Europe/Amsterdam:20210615T200000
DTEND;TZID=Europe/Amsterdam:20210615T220000
DTSTAMP:20260424T121808
CREATED:20210530T061056Z
LAST-MODIFIED:20210530T061057Z
UID:10001392-1623787200-1623794400@vidireo.nl
SUMMARY:20:00 Bigband Ravenstein
DESCRIPTION:
URL:https://vidireo.nl/event/2000-bigband-ravenstein-3/
END:VEVENT
BEGIN:VEVENT
DTSTART;TZID=Europe/Amsterdam:20210615T170000
DTEND;TZID=Europe/Amsterdam:20210615T180000
DTSTAMP:20260424T121808
CREATED:20210521T092545Z
LAST-MODIFIED:20210521T092545Z
UID:10001381-1623776400-1623780000@vidireo.nl
SUMMARY:17:00 tot 18:00 slagwerkgroep
DESCRIPTION:
URL:https://vidireo.nl/event/1700-tot-1800-slagwerkgroep-3/
END:VEVENT
BEGIN:VEVENT
DTSTART;TZID=Europe/Amsterdam:20210615T103000
DTEND;TZID=Europe/Amsterdam:20210615T170000
DTSTAMP:20260424T121808
CREATED:20210521T082541Z
LAST-MODIFIED:20210521T082541Z
UID:10001298-1623753000-1623776400@vidireo.nl
SUMMARY:10:30 KrulKracht dagbesteding
DESCRIPTION:
URL:https://vidireo.nl/event/1030-krulkracht-dagbesteding-4/
END:VEVENT
BEGIN:VEVENT
DTSTART;TZID=Europe/Amsterdam:20210614T190000
DTEND;TZID=Europe/Amsterdam:20210614T220000
DTSTAMP:20260424T121808
CREATED:20210530T055838Z
LAST-MODIFIED:20210530T055839Z
UID:10001386-1623697200-1623708000@vidireo.nl
SUMMARY:19:00 Harmonie OBK
DESCRIPTION:
URL:https://vidireo.nl/event/1900-harmonie-obk-3/
END:VEVENT
BEGIN:VEVENT
DTSTART;TZID=Europe/Amsterdam:20210614T163000
DTEND;TZID=Europe/Amsterdam:20210614T173000
DTSTAMP:20260424T121808
CREATED:20210521T081102Z
LAST-MODIFIED:20210521T081102Z
UID:10001169-1623688200-1623691800@vidireo.nl
SUMMARY:16:30 tot 17:30 uur Jeugdtheater Spons
DESCRIPTION:
URL:https://vidireo.nl/event/1630-tot-1730-uur-jeugdtheater-spons-2/
END:VEVENT
END:VCALENDAR