BEGIN:VCALENDAR
VERSION:2.0
PRODID:-//VidiReo - ECPv6.15.20//NONSGML v1.0//EN
CALSCALE:GREGORIAN
METHOD:PUBLISH
X-WR-CALNAME:VidiReo
X-ORIGINAL-URL:https://vidireo.nl
X-WR-CALDESC:Evenementen voor VidiReo
REFRESH-INTERVAL;VALUE=DURATION:PT1H
X-Robots-Tag:noindex
X-PUBLISHED-TTL:PT1H
BEGIN:VTIMEZONE
TZID:Europe/Amsterdam
BEGIN:DAYLIGHT
TZOFFSETFROM:+0100
TZOFFSETTO:+0200
TZNAME:CEST
DTSTART:20210328T010000
END:DAYLIGHT
BEGIN:STANDARD
TZOFFSETFROM:+0200
TZOFFSETTO:+0100
TZNAME:CET
DTSTART:20211031T010000
END:STANDARD
BEGIN:DAYLIGHT
TZOFFSETFROM:+0100
TZOFFSETTO:+0200
TZNAME:CEST
DTSTART:20220327T010000
END:DAYLIGHT
BEGIN:STANDARD
TZOFFSETFROM:+0200
TZOFFSETTO:+0100
TZNAME:CET
DTSTART:20221030T010000
END:STANDARD
BEGIN:DAYLIGHT
TZOFFSETFROM:+0100
TZOFFSETTO:+0200
TZNAME:CEST
DTSTART:20230326T010000
END:DAYLIGHT
BEGIN:STANDARD
TZOFFSETFROM:+0200
TZOFFSETTO:+0100
TZNAME:CET
DTSTART:20231029T010000
END:STANDARD
END:VTIMEZONE
BEGIN:VEVENT
DTSTART;TZID=Europe/Amsterdam:20221024T163000
DTEND;TZID=Europe/Amsterdam:20221024T173000
DTSTAMP:20260423T161955
CREATED:20220815T193651Z
LAST-MODIFIED:20220815T193651Z
UID:10001690-1666629000-1666632600@vidireo.nl
SUMMARY:Jeugd Theater Spons
DESCRIPTION:
URL:https://vidireo.nl/event/jeugd-theater-spons/2022-10-24/
END:VEVENT
BEGIN:VEVENT
DTSTART;TZID=Europe/Amsterdam:20221023T140000
DTEND;TZID=Europe/Amsterdam:20221023T160000
DTSTAMP:20260423T161955
CREATED:20220826T084000Z
LAST-MODIFIED:20220826T084000Z
UID:10001309-1666533600-1666540800@vidireo.nl
SUMMARY:Ontmoeten Zorgcooperatie
DESCRIPTION:
URL:https://vidireo.nl/event/ontmoeten-zorgcooperatie/2022-10-23/
END:VEVENT
BEGIN:VEVENT
DTSTART;TZID=Europe/Amsterdam:20221021T140000
DTEND;TZID=Europe/Amsterdam:20221021T160000
DTSTAMP:20260423T161955
CREATED:20220826T084000Z
LAST-MODIFIED:20220826T084000Z
UID:10001308-1666360800-1666368000@vidireo.nl
SUMMARY:Ontmoeten Zorgcooperatie
DESCRIPTION:
URL:https://vidireo.nl/event/ontmoeten-zorgcooperatie/2022-10-21/
END:VEVENT
BEGIN:VEVENT
DTSTART;TZID=Europe/Amsterdam:20221020T103000
DTEND;TZID=Europe/Amsterdam:20221020T183000
DTSTAMP:20260423T161955
CREATED:20220815T163403Z
LAST-MODIFIED:20220815T163903Z
UID:10001548-1666261800-1666290600@vidireo.nl
SUMMARY:KrulKracht dagbeleving
DESCRIPTION:
URL:https://vidireo.nl/event/krulkracht-dagbeleving/2022-10-20/
END:VEVENT
BEGIN:VEVENT
DTSTART;TZID=Europe/Amsterdam:20221019T193000
DTEND;TZID=Europe/Amsterdam:20221019T220000
DTSTAMP:20260423T161955
CREATED:20220815T052635Z
LAST-MODIFIED:20220815T190340Z
UID:10001524-1666207800-1666216800@vidireo.nl
SUMMARY:Film A Star is Born
DESCRIPTION:Entree 5\,00 p.p. \n\n\n\nJackson Maine is een countryzanger die op de rand van de afgrond staat als hij een getalenteerde onbekende zangeres ontdekt\, genaamd Ally. Terwijl de twee een hartstochtelijke liefdesrelatie beginnen\, laat Jackson Ally debuteren tijdens zijn concert en brengt haar daarmee in de spotlights en in de wereld van de sterren. Maar als zijn eigen carrière in de schaduw komt te staan van die van Ally\, begint hij het steeds moeilijker te vinden om met zijn vergane glorie om te gaan.
URL:https://vidireo.nl/event/film-a-star-is-born/
END:VEVENT
BEGIN:VEVENT
DTSTART;TZID=Europe/Amsterdam:20221019T193000
DTEND;TZID=Europe/Amsterdam:20221019T213000
DTSTAMP:20260423T161955
CREATED:20220824T175130Z
LAST-MODIFIED:20220824T175130Z
UID:10001741-1666207800-1666215000@vidireo.nl
SUMMARY:Vrolijke Vrollie
DESCRIPTION:
URL:https://vidireo.nl/event/vrolijke-vrollie/2022-10-19/
END:VEVENT
BEGIN:VEVENT
DTSTART;TZID=Europe/Amsterdam:20221018T190000
DTEND;TZID=Europe/Amsterdam:20221018T223000
DTSTAMP:20260423T161955
CREATED:20220815T051224Z
LAST-MODIFIED:20220815T051725Z
UID:10001480-1666119600-1666132200@vidireo.nl
SUMMARY:BigBand repetitie
DESCRIPTION:wekelijkse repetitie van de BigBand
URL:https://vidireo.nl/event/bigband-repetitie/2022-10-18/
END:VEVENT
BEGIN:VEVENT
DTSTART;TZID=Europe/Amsterdam:20221018T170000
DTEND;TZID=Europe/Amsterdam:20221018T183000
DTSTAMP:20260423T161955
CREATED:20220815T170323Z
LAST-MODIFIED:20220815T170323Z
UID:10001639-1666112400-1666117800@vidireo.nl
SUMMARY:Slagwerk OBK
DESCRIPTION:
URL:https://vidireo.nl/event/slagwerk-obk/2022-10-18/
END:VEVENT
BEGIN:VEVENT
DTSTART;TZID=Europe/Amsterdam:20221018T103000
DTEND;TZID=Europe/Amsterdam:20221018T183000
DTSTAMP:20260423T161955
CREATED:20220815T163403Z
LAST-MODIFIED:20220815T163903Z
UID:10001547-1666089000-1666117800@vidireo.nl
SUMMARY:KrulKracht dagbeleving
DESCRIPTION:
URL:https://vidireo.nl/event/krulkracht-dagbeleving/2022-10-18/
END:VEVENT
BEGIN:VEVENT
DTSTART;TZID=Europe/Amsterdam:20221017T183000
DTEND;TZID=Europe/Amsterdam:20221017T223000
DTSTAMP:20260423T161955
CREATED:20220815T163644Z
LAST-MODIFIED:20220815T163645Z
UID:10001587-1666031400-1666045800@vidireo.nl
SUMMARY:Harmonie
DESCRIPTION:
URL:https://vidireo.nl/event/harmonie/2022-10-17/
END:VEVENT
BEGIN:VEVENT
DTSTART;TZID=Europe/Amsterdam:20221017T163000
DTEND;TZID=Europe/Amsterdam:20221017T173000
DTSTAMP:20260423T161955
CREATED:20220815T193651Z
LAST-MODIFIED:20220815T193651Z
UID:10001689-1666024200-1666027800@vidireo.nl
SUMMARY:Jeugd Theater Spons
DESCRIPTION:
URL:https://vidireo.nl/event/jeugd-theater-spons/2022-10-17/
END:VEVENT
BEGIN:VEVENT
DTSTART;TZID=Europe/Amsterdam:20221016T140000
DTEND;TZID=Europe/Amsterdam:20221016T160000
DTSTAMP:20260423T161955
CREATED:20220826T084000Z
LAST-MODIFIED:20220826T084000Z
UID:10001307-1665928800-1665936000@vidireo.nl
SUMMARY:Ontmoeten Zorgcooperatie
DESCRIPTION:
URL:https://vidireo.nl/event/ontmoeten-zorgcooperatie/2022-10-16/
END:VEVENT
BEGIN:VEVENT
DTSTART;TZID=Europe/Amsterdam:20221014T140000
DTEND;TZID=Europe/Amsterdam:20221014T160000
DTSTAMP:20260423T161955
CREATED:20220826T084000Z
LAST-MODIFIED:20220826T084000Z
UID:10001306-1665756000-1665763200@vidireo.nl
SUMMARY:Ontmoeten Zorgcooperatie
DESCRIPTION:
URL:https://vidireo.nl/event/ontmoeten-zorgcooperatie/2022-10-14/
END:VEVENT
BEGIN:VEVENT
DTSTART;TZID=Europe/Amsterdam:20221013T103000
DTEND;TZID=Europe/Amsterdam:20221013T183000
DTSTAMP:20260423T161955
CREATED:20220815T163403Z
LAST-MODIFIED:20220815T163903Z
UID:10001546-1665657000-1665685800@vidireo.nl
SUMMARY:KrulKracht dagbeleving
DESCRIPTION:
URL:https://vidireo.nl/event/krulkracht-dagbeleving/2022-10-13/
END:VEVENT
BEGIN:VEVENT
DTSTART;TZID=Europe/Amsterdam:20221011T190000
DTEND;TZID=Europe/Amsterdam:20221011T223000
DTSTAMP:20260423T161955
CREATED:20220815T051224Z
LAST-MODIFIED:20220815T051725Z
UID:10001479-1665514800-1665527400@vidireo.nl
SUMMARY:BigBand repetitie
DESCRIPTION:wekelijkse repetitie van de BigBand
URL:https://vidireo.nl/event/bigband-repetitie/2022-10-11/
END:VEVENT
BEGIN:VEVENT
DTSTART;TZID=Europe/Amsterdam:20221011T170000
DTEND;TZID=Europe/Amsterdam:20221011T183000
DTSTAMP:20260423T161955
CREATED:20220815T170323Z
LAST-MODIFIED:20220815T170323Z
UID:10001638-1665507600-1665513000@vidireo.nl
SUMMARY:Slagwerk OBK
DESCRIPTION:
URL:https://vidireo.nl/event/slagwerk-obk/2022-10-11/
END:VEVENT
BEGIN:VEVENT
DTSTART;TZID=Europe/Amsterdam:20221011T103000
DTEND;TZID=Europe/Amsterdam:20221011T183000
DTSTAMP:20260423T161955
CREATED:20220815T163403Z
LAST-MODIFIED:20220815T163903Z
UID:10001545-1665484200-1665513000@vidireo.nl
SUMMARY:KrulKracht dagbeleving
DESCRIPTION:
URL:https://vidireo.nl/event/krulkracht-dagbeleving/2022-10-11/
END:VEVENT
BEGIN:VEVENT
DTSTART;TZID=Europe/Amsterdam:20221010T183000
DTEND;TZID=Europe/Amsterdam:20221010T223000
DTSTAMP:20260423T161955
CREATED:20220815T163644Z
LAST-MODIFIED:20220815T163645Z
UID:10001586-1665426600-1665441000@vidireo.nl
SUMMARY:Harmonie
DESCRIPTION:
URL:https://vidireo.nl/event/harmonie/2022-10-10/
END:VEVENT
BEGIN:VEVENT
DTSTART;TZID=Europe/Amsterdam:20221010T163000
DTEND;TZID=Europe/Amsterdam:20221010T173000
DTSTAMP:20260423T161955
CREATED:20220815T193651Z
LAST-MODIFIED:20220815T193651Z
UID:10001688-1665419400-1665423000@vidireo.nl
SUMMARY:Jeugd Theater Spons
DESCRIPTION:
URL:https://vidireo.nl/event/jeugd-theater-spons/2022-10-10/
END:VEVENT
BEGIN:VEVENT
DTSTART;TZID=Europe/Amsterdam:20221009T140000
DTEND;TZID=Europe/Amsterdam:20221009T160000
DTSTAMP:20260423T161955
CREATED:20220826T084000Z
LAST-MODIFIED:20220826T084000Z
UID:10001305-1665324000-1665331200@vidireo.nl
SUMMARY:Ontmoeten Zorgcooperatie
DESCRIPTION:
URL:https://vidireo.nl/event/ontmoeten-zorgcooperatie/2022-10-09/
END:VEVENT
BEGIN:VEVENT
DTSTART;TZID=Europe/Amsterdam:20221007T140000
DTEND;TZID=Europe/Amsterdam:20221007T160000
DTSTAMP:20260423T161955
CREATED:20220826T084000Z
LAST-MODIFIED:20220826T084000Z
UID:10001304-1665151200-1665158400@vidireo.nl
SUMMARY:Ontmoeten Zorgcooperatie
DESCRIPTION:
URL:https://vidireo.nl/event/ontmoeten-zorgcooperatie/2022-10-07/
END:VEVENT
BEGIN:VEVENT
DTSTART;TZID=Europe/Amsterdam:20221006T103000
DTEND;TZID=Europe/Amsterdam:20221006T183000
DTSTAMP:20260423T161955
CREATED:20220815T163403Z
LAST-MODIFIED:20220815T163903Z
UID:10001544-1665052200-1665081000@vidireo.nl
SUMMARY:KrulKracht dagbeleving
DESCRIPTION:
URL:https://vidireo.nl/event/krulkracht-dagbeleving/2022-10-06/
END:VEVENT
BEGIN:VEVENT
DTSTART;TZID=Europe/Amsterdam:20221005T193000
DTEND;TZID=Europe/Amsterdam:20221005T213000
DTSTAMP:20260423T161955
CREATED:20220824T175130Z
LAST-MODIFIED:20220824T175130Z
UID:10001740-1664998200-1665005400@vidireo.nl
SUMMARY:Vrolijke Vrollie
DESCRIPTION:
URL:https://vidireo.nl/event/vrolijke-vrollie/2022-10-05/
END:VEVENT
BEGIN:VEVENT
DTSTART;TZID=Europe/Amsterdam:20221004T190000
DTEND;TZID=Europe/Amsterdam:20221004T223000
DTSTAMP:20260423T161955
CREATED:20220815T051224Z
LAST-MODIFIED:20220815T051725Z
UID:10001478-1664910000-1664922600@vidireo.nl
SUMMARY:BigBand repetitie
DESCRIPTION:wekelijkse repetitie van de BigBand
URL:https://vidireo.nl/event/bigband-repetitie/2022-10-04/
END:VEVENT
BEGIN:VEVENT
DTSTART;TZID=Europe/Amsterdam:20221004T170000
DTEND;TZID=Europe/Amsterdam:20221004T183000
DTSTAMP:20260423T161955
CREATED:20220815T170323Z
LAST-MODIFIED:20220815T170323Z
UID:10001637-1664902800-1664908200@vidireo.nl
SUMMARY:Slagwerk OBK
DESCRIPTION:
URL:https://vidireo.nl/event/slagwerk-obk/2022-10-04/
END:VEVENT
BEGIN:VEVENT
DTSTART;TZID=Europe/Amsterdam:20221004T103000
DTEND;TZID=Europe/Amsterdam:20221004T183000
DTSTAMP:20260423T161955
CREATED:20220815T163403Z
LAST-MODIFIED:20220815T163903Z
UID:10001543-1664879400-1664908200@vidireo.nl
SUMMARY:KrulKracht dagbeleving
DESCRIPTION:
URL:https://vidireo.nl/event/krulkracht-dagbeleving/2022-10-04/
END:VEVENT
BEGIN:VEVENT
DTSTART;TZID=Europe/Amsterdam:20221004T100000
DTEND;TZID=Europe/Amsterdam:20221004T120000
DTSTAMP:20260423T161955
CREATED:20220826T083221Z
LAST-MODIFIED:20220826T083222Z
UID:10001297-1664877600-1664884800@vidireo.nl
SUMMARY:Ontmoeten Zorg coöperatie
DESCRIPTION:
URL:https://vidireo.nl/event/ontmoeten-zorg-cooperatie-2/2022-10-04/
END:VEVENT
BEGIN:VEVENT
DTSTART;TZID=Europe/Amsterdam:20221003T183000
DTEND;TZID=Europe/Amsterdam:20221003T223000
DTSTAMP:20260423T161955
CREATED:20220815T163644Z
LAST-MODIFIED:20220815T163645Z
UID:10001585-1664821800-1664836200@vidireo.nl
SUMMARY:Harmonie
DESCRIPTION:
URL:https://vidireo.nl/event/harmonie/2022-10-03/
END:VEVENT
BEGIN:VEVENT
DTSTART;TZID=Europe/Amsterdam:20221003T163000
DTEND;TZID=Europe/Amsterdam:20221003T173000
DTSTAMP:20260423T161955
CREATED:20220815T193651Z
LAST-MODIFIED:20220815T193651Z
UID:10001687-1664814600-1664818200@vidireo.nl
SUMMARY:Jeugd Theater Spons
DESCRIPTION:
URL:https://vidireo.nl/event/jeugd-theater-spons/2022-10-03/
END:VEVENT
BEGIN:VEVENT
DTSTART;TZID=Europe/Amsterdam:20221002T140000
DTEND;TZID=Europe/Amsterdam:20221002T160000
DTSTAMP:20260423T161955
CREATED:20220826T084000Z
LAST-MODIFIED:20220826T084000Z
UID:10001303-1664719200-1664726400@vidireo.nl
SUMMARY:Ontmoeten Zorgcooperatie
DESCRIPTION:
URL:https://vidireo.nl/event/ontmoeten-zorgcooperatie/2022-10-02/
END:VEVENT
END:VCALENDAR