BEGIN:VCALENDAR
VERSION:2.0
PRODID:-//VidiReo - ECPv6.15.20//NONSGML v1.0//EN
CALSCALE:GREGORIAN
METHOD:PUBLISH
X-ORIGINAL-URL:https://vidireo.nl
X-WR-CALDESC:Evenementen voor VidiReo
REFRESH-INTERVAL;VALUE=DURATION:PT1H
X-Robots-Tag:noindex
X-PUBLISHED-TTL:PT1H
BEGIN:VTIMEZONE
TZID:Europe/Amsterdam
BEGIN:DAYLIGHT
TZOFFSETFROM:+0100
TZOFFSETTO:+0200
TZNAME:CEST
DTSTART:20220327T010000
END:DAYLIGHT
BEGIN:STANDARD
TZOFFSETFROM:+0200
TZOFFSETTO:+0100
TZNAME:CET
DTSTART:20221030T010000
END:STANDARD
BEGIN:DAYLIGHT
TZOFFSETFROM:+0100
TZOFFSETTO:+0200
TZNAME:CEST
DTSTART:20230326T010000
END:DAYLIGHT
BEGIN:STANDARD
TZOFFSETFROM:+0200
TZOFFSETTO:+0100
TZNAME:CET
DTSTART:20231029T010000
END:STANDARD
BEGIN:DAYLIGHT
TZOFFSETFROM:+0100
TZOFFSETTO:+0200
TZNAME:CEST
DTSTART:20240331T010000
END:DAYLIGHT
BEGIN:STANDARD
TZOFFSETFROM:+0200
TZOFFSETTO:+0100
TZNAME:CET
DTSTART:20241027T010000
END:STANDARD
END:VTIMEZONE
BEGIN:VEVENT
DTSTART;TZID=Europe/Amsterdam:20230606T170000
DTEND;TZID=Europe/Amsterdam:20230606T183000
DTSTAMP:20260422T050944
CREATED:20220815T170323Z
LAST-MODIFIED:20220815T170323Z
UID:10001672-1686070800-1686076200@vidireo.nl
SUMMARY:Slagwerk OBK
DESCRIPTION:
URL:https://vidireo.nl/event/slagwerk-obk/2023-06-06/
END:VEVENT
BEGIN:VEVENT
DTSTART;TZID=Europe/Amsterdam:20230605T183000
DTEND;TZID=Europe/Amsterdam:20230605T223000
DTSTAMP:20260422T050944
CREATED:20220815T163644Z
LAST-MODIFIED:20220815T163645Z
UID:10001620-1685989800-1686004200@vidireo.nl
SUMMARY:Harmonie
DESCRIPTION:
URL:https://vidireo.nl/event/harmonie/2023-06-05/
END:VEVENT
BEGIN:VEVENT
DTSTART;TZID=Europe/Amsterdam:20230605T163000
DTEND;TZID=Europe/Amsterdam:20230605T173000
DTSTAMP:20260422T050944
CREATED:20220815T193651Z
LAST-MODIFIED:20220815T193651Z
UID:10001722-1685982600-1685986200@vidireo.nl
SUMMARY:Jeugd Theater Spons
DESCRIPTION:
URL:https://vidireo.nl/event/jeugd-theater-spons/2023-06-05/
END:VEVENT
BEGIN:VEVENT
DTSTART;TZID=Europe/Amsterdam:20230601T193000
DTEND;TZID=Europe/Amsterdam:20230601T223000
DTSTAMP:20260422T050944
CREATED:20230511T143408Z
LAST-MODIFIED:20250811T035544Z
UID:10002320-1685647800-1685658600@vidireo.nl
SUMMARY:Repetitie Mix of Music
DESCRIPTION:
URL:https://vidireo.nl/event/repetitie-mix-of-music-3/2023-06-01/
ATTACH;FMTTYPE=image/png:https://vidireo.nl/wp-content/uploads/2023/05/IMG_1167.png
END:VEVENT
BEGIN:VEVENT
DTSTART;TZID=Europe/Amsterdam:20230601T120000
DTEND;TZID=Europe/Amsterdam:20230601T180000
DTSTAMP:20260422T050944
CREATED:20230511T134128Z
LAST-MODIFIED:20230511T134128Z
UID:10001366-1685620800-1685642400@vidireo.nl
SUMMARY:KrulKracht Dagbeleving
DESCRIPTION:
URL:https://vidireo.nl/event/krulkracht-dagbeleving-3/2023-06-01/
END:VEVENT
BEGIN:VEVENT
DTSTART;TZID=Europe/Amsterdam:20230531T193000
DTEND;TZID=Europe/Amsterdam:20230531T213000
DTSTAMP:20260422T050944
CREATED:20220824T175130Z
LAST-MODIFIED:20220824T175130Z
UID:10001757-1685561400-1685568600@vidireo.nl
SUMMARY:Vrolijke Vrollie
DESCRIPTION:
URL:https://vidireo.nl/event/vrolijke-vrollie/2023-05-31/
END:VEVENT
BEGIN:VEVENT
DTSTART;TZID=Europe/Amsterdam:20230530T190000
DTEND;TZID=Europe/Amsterdam:20230530T223000
DTSTAMP:20260422T050944
CREATED:20220815T051224Z
LAST-MODIFIED:20220815T051725Z
UID:10001512-1685473200-1685485800@vidireo.nl
SUMMARY:BigBand repetitie
DESCRIPTION:wekelijkse repetitie van de BigBand
URL:https://vidireo.nl/event/bigband-repetitie/2023-05-30/
END:VEVENT
BEGIN:VEVENT
DTSTART;TZID=Europe/Amsterdam:20230530T170000
DTEND;TZID=Europe/Amsterdam:20230530T183000
DTSTAMP:20260422T050944
CREATED:20220815T170323Z
LAST-MODIFIED:20220815T170323Z
UID:10001671-1685466000-1685471400@vidireo.nl
SUMMARY:Slagwerk OBK
DESCRIPTION:
URL:https://vidireo.nl/event/slagwerk-obk/2023-05-30/
END:VEVENT
BEGIN:VEVENT
DTSTART;TZID=Europe/Amsterdam:20230530T120000
DTEND;TZID=Europe/Amsterdam:20230530T180000
DTSTAMP:20260422T050944
CREATED:20230511T134128Z
LAST-MODIFIED:20230511T134128Z
UID:10001365-1685448000-1685469600@vidireo.nl
SUMMARY:KrulKracht Dagbeleving
DESCRIPTION:
URL:https://vidireo.nl/event/krulkracht-dagbeleving-3/2023-05-30/
END:VEVENT
BEGIN:VEVENT
DTSTART;TZID=Europe/Amsterdam:20230529T183000
DTEND;TZID=Europe/Amsterdam:20230529T223000
DTSTAMP:20260422T050944
CREATED:20220815T163644Z
LAST-MODIFIED:20220815T163645Z
UID:10001619-1685385000-1685399400@vidireo.nl
SUMMARY:Harmonie
DESCRIPTION:
URL:https://vidireo.nl/event/harmonie/2023-05-29/
END:VEVENT
BEGIN:VEVENT
DTSTART;TZID=Europe/Amsterdam:20230529T163000
DTEND;TZID=Europe/Amsterdam:20230529T173000
DTSTAMP:20260422T050944
CREATED:20220815T193651Z
LAST-MODIFIED:20220815T193651Z
UID:10001721-1685377800-1685381400@vidireo.nl
SUMMARY:Jeugd Theater Spons
DESCRIPTION:
URL:https://vidireo.nl/event/jeugd-theater-spons/2023-05-29/
END:VEVENT
BEGIN:VEVENT
DTSTART;TZID=Europe/Amsterdam:20230528T140000
DTEND;TZID=Europe/Amsterdam:20230528T160000
DTSTAMP:20260422T050944
CREATED:20230511T145006Z
LAST-MODIFIED:20230511T145007Z
UID:10001800-1685282400-1685289600@vidireo.nl
SUMMARY:film middag zorgcooperatie
DESCRIPTION:
URL:https://vidireo.nl/event/koffie-middag-2/
END:VEVENT
BEGIN:VEVENT
DTSTART;TZID=Europe/Amsterdam:20230525T193000
DTEND;TZID=Europe/Amsterdam:20230525T223000
DTSTAMP:20260422T050944
CREATED:20230511T143408Z
LAST-MODIFIED:20250811T035544Z
UID:10002319-1685043000-1685053800@vidireo.nl
SUMMARY:Repetitie Mix of Music
DESCRIPTION:
URL:https://vidireo.nl/event/repetitie-mix-of-music-3/2023-05-25/
ATTACH;FMTTYPE=image/png:https://vidireo.nl/wp-content/uploads/2023/05/IMG_1167.png
END:VEVENT
BEGIN:VEVENT
DTSTART;TZID=Europe/Amsterdam:20230525T120000
DTEND;TZID=Europe/Amsterdam:20230525T180000
DTSTAMP:20260422T050944
CREATED:20230511T134128Z
LAST-MODIFIED:20230511T134128Z
UID:10001364-1685016000-1685037600@vidireo.nl
SUMMARY:KrulKracht Dagbeleving
DESCRIPTION:
URL:https://vidireo.nl/event/krulkracht-dagbeleving-3/2023-05-25/
END:VEVENT
BEGIN:VEVENT
DTSTART;TZID=Europe/Amsterdam:20230523T190000
DTEND;TZID=Europe/Amsterdam:20230523T223000
DTSTAMP:20260422T050944
CREATED:20220815T051224Z
LAST-MODIFIED:20220815T051725Z
UID:10001511-1684868400-1684881000@vidireo.nl
SUMMARY:BigBand repetitie
DESCRIPTION:wekelijkse repetitie van de BigBand
URL:https://vidireo.nl/event/bigband-repetitie/2023-05-23/
END:VEVENT
BEGIN:VEVENT
DTSTART;TZID=Europe/Amsterdam:20230523T170000
DTEND;TZID=Europe/Amsterdam:20230523T183000
DTSTAMP:20260422T050944
CREATED:20220815T170323Z
LAST-MODIFIED:20220815T170323Z
UID:10001670-1684861200-1684866600@vidireo.nl
SUMMARY:Slagwerk OBK
DESCRIPTION:
URL:https://vidireo.nl/event/slagwerk-obk/2023-05-23/
END:VEVENT
BEGIN:VEVENT
DTSTART;TZID=Europe/Amsterdam:20230523T120000
DTEND;TZID=Europe/Amsterdam:20230523T180000
DTSTAMP:20260422T050944
CREATED:20230511T134128Z
LAST-MODIFIED:20230511T134128Z
UID:10001363-1684843200-1684864800@vidireo.nl
SUMMARY:KrulKracht Dagbeleving
DESCRIPTION:
URL:https://vidireo.nl/event/krulkracht-dagbeleving-3/2023-05-23/
END:VEVENT
BEGIN:VEVENT
DTSTART;TZID=Europe/Amsterdam:20230522T183000
DTEND;TZID=Europe/Amsterdam:20230522T223000
DTSTAMP:20260422T050944
CREATED:20220815T163644Z
LAST-MODIFIED:20220815T163645Z
UID:10001618-1684780200-1684794600@vidireo.nl
SUMMARY:Harmonie
DESCRIPTION:
URL:https://vidireo.nl/event/harmonie/2023-05-22/
END:VEVENT
BEGIN:VEVENT
DTSTART;TZID=Europe/Amsterdam:20230522T163000
DTEND;TZID=Europe/Amsterdam:20230522T173000
DTSTAMP:20260422T050944
CREATED:20220815T193651Z
LAST-MODIFIED:20220815T193651Z
UID:10001720-1684773000-1684776600@vidireo.nl
SUMMARY:Jeugd Theater Spons
DESCRIPTION:
URL:https://vidireo.nl/event/jeugd-theater-spons/2023-05-22/
END:VEVENT
BEGIN:VEVENT
DTSTART;TZID=Europe/Amsterdam:20230518T193000
DTEND;TZID=Europe/Amsterdam:20230518T223000
DTSTAMP:20260422T050944
CREATED:20230511T143408Z
LAST-MODIFIED:20250811T035544Z
UID:10002318-1684438200-1684449000@vidireo.nl
SUMMARY:Repetitie Mix of Music
DESCRIPTION:
URL:https://vidireo.nl/event/repetitie-mix-of-music-3/2023-05-18/
ATTACH;FMTTYPE=image/png:https://vidireo.nl/wp-content/uploads/2023/05/IMG_1167.png
END:VEVENT
BEGIN:VEVENT
DTSTART;TZID=Europe/Amsterdam:20230518T120000
DTEND;TZID=Europe/Amsterdam:20230518T180000
DTSTAMP:20260422T050944
CREATED:20230511T134128Z
LAST-MODIFIED:20230511T134128Z
UID:10001362-1684411200-1684432800@vidireo.nl
SUMMARY:KrulKracht Dagbeleving
DESCRIPTION:
URL:https://vidireo.nl/event/krulkracht-dagbeleving-3/2023-05-18/
END:VEVENT
BEGIN:VEVENT
DTSTART;TZID=Europe/Amsterdam:20230517T193000
DTEND;TZID=Europe/Amsterdam:20230517T213000
DTSTAMP:20260422T050944
CREATED:20220824T175130Z
LAST-MODIFIED:20220824T175130Z
UID:10001756-1684351800-1684359000@vidireo.nl
SUMMARY:Vrolijke Vrollie
DESCRIPTION:
URL:https://vidireo.nl/event/vrolijke-vrollie/2023-05-17/
END:VEVENT
BEGIN:VEVENT
DTSTART;TZID=Europe/Amsterdam:20230516T190000
DTEND;TZID=Europe/Amsterdam:20230516T223000
DTSTAMP:20260422T050944
CREATED:20220815T051224Z
LAST-MODIFIED:20220815T051725Z
UID:10001510-1684263600-1684276200@vidireo.nl
SUMMARY:BigBand repetitie
DESCRIPTION:wekelijkse repetitie van de BigBand
URL:https://vidireo.nl/event/bigband-repetitie/2023-05-16/
END:VEVENT
BEGIN:VEVENT
DTSTART;TZID=Europe/Amsterdam:20230516T170000
DTEND;TZID=Europe/Amsterdam:20230516T183000
DTSTAMP:20260422T050944
CREATED:20220815T170323Z
LAST-MODIFIED:20220815T170323Z
UID:10001669-1684256400-1684261800@vidireo.nl
SUMMARY:Slagwerk OBK
DESCRIPTION:
URL:https://vidireo.nl/event/slagwerk-obk/2023-05-16/
END:VEVENT
BEGIN:VEVENT
DTSTART;TZID=Europe/Amsterdam:20230516T120000
DTEND;TZID=Europe/Amsterdam:20230516T180000
DTSTAMP:20260422T050944
CREATED:20230511T134128Z
LAST-MODIFIED:20230511T134128Z
UID:10001361-1684238400-1684260000@vidireo.nl
SUMMARY:KrulKracht Dagbeleving
DESCRIPTION:
URL:https://vidireo.nl/event/krulkracht-dagbeleving-3/2023-05-16/
END:VEVENT
BEGIN:VEVENT
DTSTART;TZID=Europe/Amsterdam:20230515T183000
DTEND;TZID=Europe/Amsterdam:20230515T223000
DTSTAMP:20260422T050944
CREATED:20220815T163644Z
LAST-MODIFIED:20220815T163645Z
UID:10001617-1684175400-1684189800@vidireo.nl
SUMMARY:Harmonie
DESCRIPTION:
URL:https://vidireo.nl/event/harmonie/2023-05-15/
END:VEVENT
BEGIN:VEVENT
DTSTART;TZID=Europe/Amsterdam:20230515T163000
DTEND;TZID=Europe/Amsterdam:20230515T173000
DTSTAMP:20260422T050944
CREATED:20220815T193651Z
LAST-MODIFIED:20220815T193651Z
UID:10001719-1684168200-1684171800@vidireo.nl
SUMMARY:Jeugd Theater Spons
DESCRIPTION:
URL:https://vidireo.nl/event/jeugd-theater-spons/2023-05-15/
END:VEVENT
BEGIN:VEVENT
DTSTART;TZID=Europe/Amsterdam:20230513T100000
DTEND;TZID=Europe/Amsterdam:20230513T120000
DTSTAMP:20260422T050944
CREATED:20230511T143643Z
LAST-MODIFIED:20250929T044757Z
UID:10002579-1683972000-1683979200@vidireo.nl
SUMMARY:Repair Cafe
DESCRIPTION:
URL:https://vidireo.nl/event/repair-cafe-3/2023-05-13/
ATTACH;FMTTYPE=image/jpeg:https://vidireo.nl/wp-content/uploads/2023/05/IMG_1200.jpeg
END:VEVENT
BEGIN:VEVENT
DTSTART;TZID=Europe/Amsterdam:20230511T193000
DTEND;TZID=Europe/Amsterdam:20230511T223000
DTSTAMP:20260422T050944
CREATED:20230511T143408Z
LAST-MODIFIED:20250811T035544Z
UID:10002317-1683833400-1683844200@vidireo.nl
SUMMARY:Repetitie Mix of Music
DESCRIPTION:
URL:https://vidireo.nl/event/repetitie-mix-of-music-3/2023-05-11/
ATTACH;FMTTYPE=image/png:https://vidireo.nl/wp-content/uploads/2023/05/IMG_1167.png
END:VEVENT
BEGIN:VEVENT
DTSTART;TZID=Europe/Amsterdam:20230511T120000
DTEND;TZID=Europe/Amsterdam:20230511T180000
DTSTAMP:20260422T050944
CREATED:20230511T134128Z
LAST-MODIFIED:20230511T134128Z
UID:10001360-1683806400-1683828000@vidireo.nl
SUMMARY:KrulKracht Dagbeleving
DESCRIPTION:
URL:https://vidireo.nl/event/krulkracht-dagbeleving-3/2023-05-11/
END:VEVENT
END:VCALENDAR