BEGIN:VCALENDAR
VERSION:2.0
PRODID:-//VidiReo - ECPv6.15.20//NONSGML v1.0//EN
CALSCALE:GREGORIAN
METHOD:PUBLISH
X-WR-CALNAME:VidiReo
X-ORIGINAL-URL:https://vidireo.nl
X-WR-CALDESC:Evenementen voor VidiReo
REFRESH-INTERVAL;VALUE=DURATION:PT1H
X-Robots-Tag:noindex
X-PUBLISHED-TTL:PT1H
BEGIN:VTIMEZONE
TZID:Europe/Amsterdam
BEGIN:DAYLIGHT
TZOFFSETFROM:+0100
TZOFFSETTO:+0200
TZNAME:CEST
DTSTART:20200329T010000
END:DAYLIGHT
BEGIN:STANDARD
TZOFFSETFROM:+0200
TZOFFSETTO:+0100
TZNAME:CET
DTSTART:20201025T010000
END:STANDARD
BEGIN:DAYLIGHT
TZOFFSETFROM:+0100
TZOFFSETTO:+0200
TZNAME:CEST
DTSTART:20210328T010000
END:DAYLIGHT
BEGIN:STANDARD
TZOFFSETFROM:+0200
TZOFFSETTO:+0100
TZNAME:CET
DTSTART:20211031T010000
END:STANDARD
BEGIN:DAYLIGHT
TZOFFSETFROM:+0100
TZOFFSETTO:+0200
TZNAME:CEST
DTSTART:20220327T010000
END:DAYLIGHT
BEGIN:STANDARD
TZOFFSETFROM:+0200
TZOFFSETTO:+0100
TZNAME:CET
DTSTART:20221030T010000
END:STANDARD
END:VTIMEZONE
BEGIN:VEVENT
DTSTART;TZID=Europe/Amsterdam:20210723T140000
DTEND;TZID=Europe/Amsterdam:20210723T160000
DTSTAMP:20260425T151557
CREATED:20210725T132522Z
LAST-MODIFIED:20210725T132524Z
UID:10001410-1627048800-1627056000@vidireo.nl
SUMMARY:14:00 tot 16:00 Zorg coöperatie
DESCRIPTION:
URL:https://vidireo.nl/event/1400-tot-1600-zorg-cooperatie-4/
END:VEVENT
BEGIN:VEVENT
DTSTART;TZID=Europe/Amsterdam:20210722T193000
DTEND;TZID=Europe/Amsterdam:20210722T223000
DTSTAMP:20260425T151557
CREATED:20210725T134045Z
LAST-MODIFIED:20210725T134048Z
UID:10001419-1626982200-1626993000@vidireo.nl
SUMMARY:19:30 uur Mix Of Music
DESCRIPTION:
URL:https://vidireo.nl/event/1930-uur-mix-of-music-4/
END:VEVENT
BEGIN:VEVENT
DTSTART;TZID=Europe/Amsterdam:20210722T103000
DTEND;TZID=Europe/Amsterdam:20210722T183000
DTSTAMP:20260425T151557
CREATED:20210725T131354Z
LAST-MODIFIED:20210725T131356Z
UID:10001213-1626949800-1626978600@vidireo.nl
SUMMARY:10.30 - 18.30 dagbesteding KrulKracht
DESCRIPTION:
URL:https://vidireo.nl/event/10-30-18-30-dagbesteding-krulkracht-7/
END:VEVENT
BEGIN:VEVENT
DTSTART;TZID=Europe/Amsterdam:20210720T103000
DTEND;TZID=Europe/Amsterdam:20210720T183000
DTSTAMP:20260425T151557
CREATED:20210725T131145Z
LAST-MODIFIED:20210725T131148Z
UID:10001405-1626777000-1626805800@vidireo.nl
SUMMARY:10.30 - 18.30 dagbesteding KrulKracht
DESCRIPTION:
URL:https://vidireo.nl/event/10-30-18-30-dagbesteding-krulkracht-4/
END:VEVENT
BEGIN:VEVENT
DTSTART;TZID=Europe/Amsterdam:20210720T100000
DTEND;TZID=Europe/Amsterdam:20210720T120000
DTSTAMP:20260425T151557
CREATED:20210725T132137Z
LAST-MODIFIED:20210725T132140Z
UID:10001227-1626775200-1626782400@vidireo.nl
SUMMARY:10:00 tot 12:00 Zorgcooperatie
DESCRIPTION:
URL:https://vidireo.nl/event/1000-tot-1200-zorgcooperatie-3/
END:VEVENT
BEGIN:VEVENT
DTSTART;TZID=Europe/Amsterdam:20210719T190000
DTEND;TZID=Europe/Amsterdam:20210719T213000
DTSTAMP:20260425T151557
CREATED:20210725T130802Z
LAST-MODIFIED:20210725T130805Z
UID:10001401-1626721200-1626730200@vidireo.nl
SUMMARY:19:00 UUR repetitie OBK
DESCRIPTION:
URL:https://vidireo.nl/event/1900-uur-repetitie-obk-3/
END:VEVENT
BEGIN:VEVENT
DTSTART;TZID=Europe/Amsterdam:20210716T140000
DTEND;TZID=Europe/Amsterdam:20210716T160000
DTSTAMP:20260425T151557
CREATED:20210725T132444Z
LAST-MODIFIED:20210725T132447Z
UID:10001409-1626444000-1626451200@vidireo.nl
SUMMARY:14:00 tot 16:00 Zorg coöperatie
DESCRIPTION:
URL:https://vidireo.nl/event/1400-tot-1600-zorg-cooperatie-3/
END:VEVENT
BEGIN:VEVENT
DTSTART;TZID=Europe/Amsterdam:20210715T193000
DTEND;TZID=Europe/Amsterdam:20210715T223000
DTSTAMP:20260425T151557
CREATED:20210725T134010Z
LAST-MODIFIED:20210725T134012Z
UID:10001418-1626377400-1626388200@vidireo.nl
SUMMARY:19:30 uur Mix Of Music
DESCRIPTION:
URL:https://vidireo.nl/event/1930-uur-mix-of-music-3/
END:VEVENT
BEGIN:VEVENT
DTSTART;TZID=Europe/Amsterdam:20210715T103000
DTEND;TZID=Europe/Amsterdam:20210715T183000
DTSTAMP:20260425T151557
CREATED:20210725T131322Z
LAST-MODIFIED:20210725T131324Z
UID:10001211-1626345000-1626373800@vidireo.nl
SUMMARY:10.30 - 18.30 dagbesteding KrulKracht
DESCRIPTION:
URL:https://vidireo.nl/event/10-30-18-30-dagbesteding-krulkracht-6/
END:VEVENT
BEGIN:VEVENT
DTSTART;TZID=Europe/Amsterdam:20210714T193000
DTEND;TZID=Europe/Amsterdam:20210714T220000
DTSTAMP:20260425T151557
CREATED:20210725T132926Z
LAST-MODIFIED:20210725T133518Z
UID:10001412-1626291000-1626300000@vidireo.nl
SUMMARY:19:30 tot 22:00 Vrolijke Vrollie's
DESCRIPTION:
URL:https://vidireo.nl/event/1930-tot-2200/
END:VEVENT
BEGIN:VEVENT
DTSTART;TZID=Europe/Amsterdam:20210713T200000
DTEND;TZID=Europe/Amsterdam:20210713T220000
DTSTAMP:20260425T151557
CREATED:20210725T133402Z
LAST-MODIFIED:20210725T133404Z
UID:10001415-1626206400-1626213600@vidireo.nl
SUMMARY:20:00 BigBand Ravenstein
DESCRIPTION:
URL:https://vidireo.nl/event/2000-bigband-ravenstein-9/
END:VEVENT
BEGIN:VEVENT
DTSTART;TZID=Europe/Amsterdam:20210713T180000
DTEND;TZID=Europe/Amsterdam:20210713T190000
DTSTAMP:20260425T151557
CREATED:20210725T131824Z
LAST-MODIFIED:20210725T131826Z
UID:10001221-1626199200-1626202800@vidireo.nl
SUMMARY:18:00 tot 19:00 slagwerkgroep
DESCRIPTION:
URL:https://vidireo.nl/event/1800-tot-1900-slagwerkgroep-2/
END:VEVENT
BEGIN:VEVENT
DTSTART;TZID=Europe/Amsterdam:20210713T103000
DTEND;TZID=Europe/Amsterdam:20210713T183000
DTSTAMP:20260425T151557
CREATED:20210725T131107Z
LAST-MODIFIED:20210725T131110Z
UID:10001404-1626172200-1626201000@vidireo.nl
SUMMARY:10.30 - 18.30 dagbesteding KrulKracht
DESCRIPTION:
URL:https://vidireo.nl/event/10-30-18-30-dagbesteding-krulkracht-3/
END:VEVENT
BEGIN:VEVENT
DTSTART;TZID=Europe/Amsterdam:20210713T100000
DTEND;TZID=Europe/Amsterdam:20210713T120000
DTSTAMP:20260425T151557
CREATED:20210725T132105Z
LAST-MODIFIED:20210725T132107Z
UID:10001225-1626170400-1626177600@vidireo.nl
SUMMARY:10:00 tot 12:00 Zorgcooperatie
DESCRIPTION:
URL:https://vidireo.nl/event/1000-tot-1200-zorgcooperatie-2/
END:VEVENT
BEGIN:VEVENT
DTSTART;TZID=Europe/Amsterdam:20210712T190000
DTEND;TZID=Europe/Amsterdam:20210712T213000
DTSTAMP:20260425T151557
CREATED:20210725T125924Z
LAST-MODIFIED:20210725T130530Z
UID:10001399-1626116400-1626125400@vidireo.nl
SUMMARY:19:00 uur repetitie OBK
DESCRIPTION:
URL:https://vidireo.nl/event/1900-uur-repetitie-obk/
END:VEVENT
BEGIN:VEVENT
DTSTART;TZID=Europe/Amsterdam:20210709T140000
DTEND;TZID=Europe/Amsterdam:20210709T170000
DTSTAMP:20260425T151557
CREATED:20210521T090724Z
LAST-MODIFIED:20210521T090725Z
UID:10001378-1625839200-1625850000@vidireo.nl
SUMMARY:14:00 Kienen KBO
DESCRIPTION:
URL:https://vidireo.nl/event/1400-kienen-kbo-2/
END:VEVENT
BEGIN:VEVENT
DTSTART;TZID=Europe/Amsterdam:20210709T140000
DTEND;TZID=Europe/Amsterdam:20210709T160000
DTSTAMP:20260425T151557
CREATED:20210725T132410Z
LAST-MODIFIED:20210725T132412Z
UID:10001408-1625839200-1625846400@vidireo.nl
SUMMARY:14:00 tot 16:00 Zorg coöperatie
DESCRIPTION:
URL:https://vidireo.nl/event/1400-tot-1600-zorg-cooperatie-2/
END:VEVENT
BEGIN:VEVENT
DTSTART;TZID=Europe/Amsterdam:20210708T193000
DTEND;TZID=Europe/Amsterdam:20210708T223000
DTSTAMP:20260425T151557
CREATED:20210725T133937Z
LAST-MODIFIED:20210725T133940Z
UID:10001417-1625772600-1625783400@vidireo.nl
SUMMARY:19:30 uur Mix Of Music
DESCRIPTION:
URL:https://vidireo.nl/event/1930-uur-mix-of-music-2/
END:VEVENT
BEGIN:VEVENT
DTSTART;TZID=Europe/Amsterdam:20210708T100000
DTEND;TZID=Europe/Amsterdam:20210708T183000
DTSTAMP:20260425T151557
CREATED:20210725T131028Z
LAST-MODIFIED:20210725T131031Z
UID:10001403-1625738400-1625769000@vidireo.nl
SUMMARY:10.30 - 18.30 dagbesteding KrulKracht
DESCRIPTION:
URL:https://vidireo.nl/event/10-30-18-30-dagbesteding-krulkracht-2/
END:VEVENT
BEGIN:VEVENT
DTSTART;TZID=Europe/Amsterdam:20210707T193000
DTEND;TZID=Europe/Amsterdam:20210707T220000
DTSTAMP:20260425T151557
CREATED:20210531T135221Z
LAST-MODIFIED:20210531T135221Z
UID:10001397-1625686200-1625695200@vidireo.nl
SUMMARY:19:30 uur Film La Famille Bélier
DESCRIPTION:ENTREE € 5\,00\n\n\n\n \n\n\n\n*De Franse film La Famille Bélier vindt perfect het midden tussen komedie en drama. Zie het maar eens droog te houden.* \n\n\n\nIedereen in de familie Bélier is doof \n\n\n\nBehalve Paula\, de oudste dochter\, \n\n\n\neen jonge studente die plots ontdekt dat ze geweldig kan zingen. \n\n\n\nOndanks de pubertietsproblemen waarmee ze worstelt en ongeacht de handicap van haar familie\, blijft Paula haar droom koesteren en zal zij dit voorheen ongekende zangtalent benutten
URL:https://vidireo.nl/event/1930-uur-film-la-famille-belier/
END:VEVENT
BEGIN:VEVENT
DTSTART;TZID=Europe/Amsterdam:20210706T200000
DTEND;TZID=Europe/Amsterdam:20210706T223000
DTSTAMP:20260425T151557
CREATED:20210725T133256Z
LAST-MODIFIED:20210725T133259Z
UID:10001414-1625601600-1625610600@vidireo.nl
SUMMARY:20:00 BigBand Ravenstein
DESCRIPTION:
URL:https://vidireo.nl/event/2000-bigband-ravenstein-8/
END:VEVENT
BEGIN:VEVENT
DTSTART;TZID=Europe/Amsterdam:20210706T180000
DTEND;TZID=Europe/Amsterdam:20210706T190000
DTSTAMP:20260425T151557
CREATED:20210725T131755Z
LAST-MODIFIED:20210725T131757Z
UID:10001219-1625594400-1625598000@vidireo.nl
SUMMARY:18:00 tot 19:00 slagwerkgroep
DESCRIPTION:
URL:https://vidireo.nl/event/1800-tot-1900-slagwerkgroep/
END:VEVENT
BEGIN:VEVENT
DTSTART;TZID=Europe/Amsterdam:20210706T103000
DTEND;TZID=Europe/Amsterdam:20210706T183000
DTSTAMP:20260425T151557
CREATED:20210725T131248Z
LAST-MODIFIED:20210725T131251Z
UID:10001209-1625567400-1625596200@vidireo.nl
SUMMARY:10.30 - 18.30 dagbesteding KrulKracht
DESCRIPTION:
URL:https://vidireo.nl/event/10-30-18-30-dagbesteding-krulkracht-5/
END:VEVENT
BEGIN:VEVENT
DTSTART;TZID=Europe/Amsterdam:20210706T100000
DTEND;TZID=Europe/Amsterdam:20210706T120000
DTSTAMP:20260425T151557
CREATED:20210725T132002Z
LAST-MODIFIED:20210725T132004Z
UID:10001223-1625565600-1625572800@vidireo.nl
SUMMARY:10:00 tot 12:00 zorgcooperatie
DESCRIPTION:
URL:https://vidireo.nl/event/1000-tot-1200-zorgcooperatie/
END:VEVENT
BEGIN:VEVENT
DTSTART;TZID=Europe/Amsterdam:20210705T190000
DTEND;TZID=Europe/Amsterdam:20210705T213000
DTSTAMP:20260425T151557
CREATED:20210725T130627Z
LAST-MODIFIED:20210725T130630Z
UID:10001400-1625511600-1625520600@vidireo.nl
SUMMARY:19:00 uur repetitie OBK
DESCRIPTION:
URL:https://vidireo.nl/event/1900-uur-repetitie-obk-2/
END:VEVENT
BEGIN:VEVENT
DTSTART;TZID=Europe/Amsterdam:20210702T140000
DTEND;TZID=Europe/Amsterdam:20210702T160000
DTSTAMP:20260425T151557
CREATED:20210725T132312Z
LAST-MODIFIED:20210725T132314Z
UID:10001407-1625234400-1625241600@vidireo.nl
SUMMARY:14:00 tot 16:00 Zorg coöperatie
DESCRIPTION:
URL:https://vidireo.nl/event/1400-tot-1600-zorg-cooperatie/
END:VEVENT
BEGIN:VEVENT
DTSTART;TZID=Europe/Amsterdam:20210701T193000
DTEND;TZID=Europe/Amsterdam:20210701T223000
DTSTAMP:20260425T151557
CREATED:20210725T133857Z
LAST-MODIFIED:20210725T133900Z
UID:10001416-1625167800-1625178600@vidireo.nl
SUMMARY:19:30 uur Mix Of Music
DESCRIPTION:
URL:https://vidireo.nl/event/1930-uur-mix-of-music/
END:VEVENT
BEGIN:VEVENT
DTSTART;TZID=Europe/Amsterdam:20210701T100000
DTEND;TZID=Europe/Amsterdam:20210701T183000
DTSTAMP:20260425T151557
CREATED:20210725T130940Z
LAST-MODIFIED:20210725T130942Z
UID:10001402-1625133600-1625164200@vidireo.nl
SUMMARY:10.30 - 18.30 dagbesteding KrulKracht
DESCRIPTION:
URL:https://vidireo.nl/event/10-30-18-30-dagbesteding-krulkracht/
END:VEVENT
BEGIN:VEVENT
DTSTART;TZID=Europe/Amsterdam:20210629T220000
DTEND;TZID=Europe/Amsterdam:20210629T220000
DTSTAMP:20260425T151557
CREATED:20210530T061737Z
LAST-MODIFIED:20210530T061738Z
UID:10001396-1625004000-1625004000@vidireo.nl
SUMMARY:20:00 Bigband Ravenstein
DESCRIPTION:
URL:https://vidireo.nl/event/2000-bigband-ravenstein-7/
END:VEVENT
BEGIN:VEVENT
DTSTART;TZID=Europe/Amsterdam:20210629T170000
DTEND;TZID=Europe/Amsterdam:20210629T180000
DTSTAMP:20260425T151557
CREATED:20210521T092719Z
LAST-MODIFIED:20210521T092719Z
UID:10001383-1624986000-1624989600@vidireo.nl
SUMMARY:17:00 tot 18:00 slagwerkgroep
DESCRIPTION:
URL:https://vidireo.nl/event/1700-tot-1800-slagwerkgroep-5/
END:VEVENT
END:VCALENDAR