BEGIN:VCALENDAR
VERSION:2.0
PRODID:-//VidiReo - ECPv6.15.20//NONSGML v1.0//EN
CALSCALE:GREGORIAN
METHOD:PUBLISH
X-ORIGINAL-URL:https://vidireo.nl
X-WR-CALDESC:Evenementen voor VidiReo
REFRESH-INTERVAL;VALUE=DURATION:PT1H
X-Robots-Tag:noindex
X-PUBLISHED-TTL:PT1H
BEGIN:VTIMEZONE
TZID:Europe/Amsterdam
BEGIN:DAYLIGHT
TZOFFSETFROM:+0100
TZOFFSETTO:+0200
TZNAME:CEST
DTSTART:20200329T010000
END:DAYLIGHT
BEGIN:STANDARD
TZOFFSETFROM:+0200
TZOFFSETTO:+0100
TZNAME:CET
DTSTART:20201025T010000
END:STANDARD
BEGIN:DAYLIGHT
TZOFFSETFROM:+0100
TZOFFSETTO:+0200
TZNAME:CEST
DTSTART:20210328T010000
END:DAYLIGHT
BEGIN:STANDARD
TZOFFSETFROM:+0200
TZOFFSETTO:+0100
TZNAME:CET
DTSTART:20211031T010000
END:STANDARD
BEGIN:DAYLIGHT
TZOFFSETFROM:+0100
TZOFFSETTO:+0200
TZNAME:CEST
DTSTART:20220327T010000
END:DAYLIGHT
BEGIN:STANDARD
TZOFFSETFROM:+0200
TZOFFSETTO:+0100
TZNAME:CET
DTSTART:20221030T010000
END:STANDARD
END:VTIMEZONE
BEGIN:VEVENT
DTSTART;TZID=Europe/Amsterdam:20210501T080000
DTEND;TZID=Europe/Amsterdam:20210501T170000
DTSTAMP:20260425T163324
CREATED:20210501T105529Z
LAST-MODIFIED:20210501T105914Z
UID:10001284-1619856000-1619888400@vidireo.nl
SUMMARY:13:30 uur Terras open
DESCRIPTION:13:30 uur Terras open
URL:https://vidireo.nl/event/1330-uur-terras-open-2/
END:VEVENT
BEGIN:VEVENT
DTSTART;TZID=Europe/Amsterdam:20210429T103000
DTEND;TZID=Europe/Amsterdam:20210429T170000
DTSTAMP:20260425T163324
CREATED:20210411T071749Z
LAST-MODIFIED:20210411T071752Z
UID:10001131-1619692200-1619715600@vidireo.nl
SUMMARY:10.30 uur KrulKracht dagbesteding
DESCRIPTION:
URL:https://vidireo.nl/event/10-30-uur-krulkracht-dagbesteding-9/
END:VEVENT
BEGIN:VEVENT
DTSTART;TZID=Europe/Amsterdam:20210427T170000
DTEND;TZID=Europe/Amsterdam:20210427T180000
DTSTAMP:20260425T163324
CREATED:20210411T074233Z
LAST-MODIFIED:20210411T074236Z
UID:10001248-1619542800-1619546400@vidireo.nl
SUMMARY:17:00 tot 18:00 repetitie slagwerkgroep
DESCRIPTION:
URL:https://vidireo.nl/event/1700-tot-1800-repetitie-slagwerkgroep-8/
END:VEVENT
BEGIN:VEVENT
DTSTART;TZID=Europe/Amsterdam:20210427T103000
DTEND;TZID=Europe/Amsterdam:20210427T170000
DTSTAMP:20260425T163324
CREATED:20210411T071552Z
LAST-MODIFIED:20210411T071554Z
UID:10001130-1619519400-1619542800@vidireo.nl
SUMMARY:10.30 uur KrulKracht dagbesteding
DESCRIPTION:
URL:https://vidireo.nl/event/10-30-uur-krulkracht-dagbesteding-8/
END:VEVENT
BEGIN:VEVENT
DTSTART;TZID=Europe/Amsterdam:20210422T103000
DTEND;TZID=Europe/Amsterdam:20210422T170000
DTSTAMP:20260425T163324
CREATED:20210411T071255Z
LAST-MODIFIED:20210411T071258Z
UID:10001239-1619087400-1619110800@vidireo.nl
SUMMARY:10.30 uur KrulKracht dagbesteding
DESCRIPTION:
URL:https://vidireo.nl/event/10-30-uur-krulkracht-dagbesteding-7/
END:VEVENT
BEGIN:VEVENT
DTSTART;TZID=Europe/Amsterdam:20210420T170000
DTEND;TZID=Europe/Amsterdam:20210420T180000
DTSTAMP:20260425T163324
CREATED:20210411T074147Z
LAST-MODIFIED:20210411T074150Z
UID:10001247-1618938000-1618941600@vidireo.nl
SUMMARY:17:00 tot 18:00 repetitie slagwerkgroep
DESCRIPTION:
URL:https://vidireo.nl/event/1700-tot-1800-repetitie-slagwerkgroep-7/
END:VEVENT
BEGIN:VEVENT
DTSTART;TZID=Europe/Amsterdam:20210420T103000
DTEND;TZID=Europe/Amsterdam:20210420T170000
DTSTAMP:20260425T163324
CREATED:20210411T071122Z
LAST-MODIFIED:20210411T071125Z
UID:10001238-1618914600-1618938000@vidireo.nl
SUMMARY:10.30 uur KrulKracht dagbesteding
DESCRIPTION:
URL:https://vidireo.nl/event/10-30-uur-krulkracht-dagbesteding-6/
END:VEVENT
BEGIN:VEVENT
DTSTART;TZID=Europe/Amsterdam:20210415T103000
DTEND;TZID=Europe/Amsterdam:20210415T170000
DTSTAMP:20260425T163324
CREATED:20210411T071008Z
LAST-MODIFIED:20210411T071011Z
UID:10001237-1618482600-1618506000@vidireo.nl
SUMMARY:10.30 uur KrulKracht dagbesteding
DESCRIPTION:
URL:https://vidireo.nl/event/10-30-uur-krulkracht-dagbesteding-5/
END:VEVENT
BEGIN:VEVENT
DTSTART;TZID=Europe/Amsterdam:20210413T170000
DTEND;TZID=Europe/Amsterdam:20210413T180000
DTSTAMP:20260425T163324
CREATED:20210411T074033Z
LAST-MODIFIED:20210411T074036Z
UID:10001246-1618333200-1618336800@vidireo.nl
SUMMARY:17:00 tot 18:00 repetitie slagwerkgroep
DESCRIPTION:
URL:https://vidireo.nl/event/1700-tot-1800-repetitie-slagwerkgroep-6/
END:VEVENT
BEGIN:VEVENT
DTSTART;TZID=Europe/Amsterdam:20210413T103000
DTEND;TZID=Europe/Amsterdam:20210413T170000
DTSTAMP:20260425T163324
CREATED:20210411T070829Z
LAST-MODIFIED:20210411T070832Z
UID:10001236-1618309800-1618333200@vidireo.nl
SUMMARY:10.30 uur KrulKracht dagbesteding
DESCRIPTION:
URL:https://vidireo.nl/event/10-30-uur-krulkracht-dagbesteding-4/
END:VEVENT
BEGIN:VEVENT
DTSTART;TZID=Europe/Amsterdam:20210408T103000
DTEND;TZID=Europe/Amsterdam:20210408T170000
DTSTAMP:20260425T163324
CREATED:20210411T070740Z
LAST-MODIFIED:20210411T070742Z
UID:10001235-1617877800-1617901200@vidireo.nl
SUMMARY:10.30 uur KrulKracht dagbesteding
DESCRIPTION:
URL:https://vidireo.nl/event/10-30-uur-krulkracht-dagbesteding-3/
END:VEVENT
BEGIN:VEVENT
DTSTART;TZID=Europe/Amsterdam:20210406T170000
DTEND;TZID=Europe/Amsterdam:20210406T180000
DTSTAMP:20260425T163324
CREATED:20210411T073933Z
LAST-MODIFIED:20210411T073936Z
UID:10001245-1617728400-1617732000@vidireo.nl
SUMMARY:17:00 tot 18:00 repetitie slagwerkgroep
DESCRIPTION:
URL:https://vidireo.nl/event/1700-tot-1800-repetitie-slagwerkgroep-5/
END:VEVENT
BEGIN:VEVENT
DTSTART;TZID=Europe/Amsterdam:20210406T103000
DTEND;TZID=Europe/Amsterdam:20210406T170000
DTSTAMP:20260425T163324
CREATED:20210411T070658Z
LAST-MODIFIED:20210411T070701Z
UID:10001234-1617705000-1617728400@vidireo.nl
SUMMARY:10.30 uur KrulKracht dagbesteding
DESCRIPTION:
URL:https://vidireo.nl/event/10-30-uur-krulkracht-dagbesteding-2/
END:VEVENT
BEGIN:VEVENT
DTSTART;TZID=Europe/Amsterdam:20210401T103000
DTEND;TZID=Europe/Amsterdam:20210401T170000
DTSTAMP:20260425T163324
CREATED:20210411T070601Z
LAST-MODIFIED:20210411T070604Z
UID:10001233-1617273000-1617296400@vidireo.nl
SUMMARY:10.30 uur KrulKracht dagbesteding
DESCRIPTION:
URL:https://vidireo.nl/event/10-30-uur-krulkracht-dagbesteding/
END:VEVENT
BEGIN:VEVENT
DTSTART;TZID=Europe/Amsterdam:20210330T170000
DTEND;TZID=Europe/Amsterdam:20210330T180000
DTSTAMP:20260425T163324
CREATED:20210321T140024Z
LAST-MODIFIED:20210321T140028Z
UID:10001232-1617123600-1617127200@vidireo.nl
SUMMARY:17:00 tot 18:00 repetitie slagwerkgroep
DESCRIPTION:
URL:https://vidireo.nl/event/1700-tot-1800-repetitie-slagwerkgroep-4/
END:VEVENT
BEGIN:VEVENT
DTSTART;TZID=Europe/Amsterdam:20210330T103000
DTEND;TZID=Europe/Amsterdam:20210330T173000
DTSTAMP:20260425T163324
CREATED:20210321T133813Z
LAST-MODIFIED:20210321T133813Z
UID:10001205-1617100200-1617125400@vidireo.nl
SUMMARY:10:30 uur KrulKracht dagbesteding
DESCRIPTION:
URL:https://vidireo.nl/event/1030-uur-krulkracht-dagbesteding-35/
END:VEVENT
BEGIN:VEVENT
DTSTART;TZID=Europe/Amsterdam:20210325T100000
DTEND;TZID=Europe/Amsterdam:20210325T120000
DTSTAMP:20260425T163324
CREATED:20210321T134804Z
LAST-MODIFIED:20210321T134804Z
UID:10001220-1616666400-1616673600@vidireo.nl
SUMMARY:10:30 uur KrulKracht dagbesteding
DESCRIPTION:
URL:https://vidireo.nl/event/1030-uur-krulkracht-dagbesteding-39/
END:VEVENT
BEGIN:VEVENT
DTSTART;TZID=Europe/Amsterdam:20210323T170000
DTEND;TZID=Europe/Amsterdam:20210323T180000
DTSTAMP:20260425T163324
CREATED:20210321T135919Z
LAST-MODIFIED:20210321T135919Z
UID:10001231-1616518800-1616522400@vidireo.nl
SUMMARY:17:00 tot 18:00 repetitie slagwerkgroep
DESCRIPTION:
URL:https://vidireo.nl/event/1700-tot-1800-repetitie-slagwerkgroep-3/
END:VEVENT
BEGIN:VEVENT
DTSTART;TZID=Europe/Amsterdam:20210323T103000
DTEND;TZID=Europe/Amsterdam:20210323T173000
DTSTAMP:20260425T163324
CREATED:20210321T133701Z
LAST-MODIFIED:20210321T133701Z
UID:10001204-1616495400-1616520600@vidireo.nl
SUMMARY:10:30 uur KrulKracht dagbesteding
DESCRIPTION:
URL:https://vidireo.nl/event/1030-uur-krulkracht-dagbesteding-34/
END:VEVENT
BEGIN:VEVENT
DTSTART;TZID=Europe/Amsterdam:20210318T100000
DTEND;TZID=Europe/Amsterdam:20210318T120000
DTSTAMP:20260425T163324
CREATED:20210321T134656Z
LAST-MODIFIED:20210321T134656Z
UID:10001218-1616061600-1616068800@vidireo.nl
SUMMARY:10:30 uur KrulKracht dagbesteding
DESCRIPTION:
URL:https://vidireo.nl/event/1030-uur-krulkracht-dagbesteding-38/
END:VEVENT
BEGIN:VEVENT
DTSTART;TZID=Europe/Amsterdam:20210316T170000
DTEND;TZID=Europe/Amsterdam:20210316T180000
DTSTAMP:20260425T163324
CREATED:20210321T135801Z
LAST-MODIFIED:20210321T135802Z
UID:10001230-1615914000-1615917600@vidireo.nl
SUMMARY:17:00 tot 18:00 repetitie slagwerkgroep
DESCRIPTION:
URL:https://vidireo.nl/event/1700-tot-1800-repetitie-slagwerkgroep-2/
END:VEVENT
BEGIN:VEVENT
DTSTART;TZID=Europe/Amsterdam:20210316T103000
DTEND;TZID=Europe/Amsterdam:20210316T173000
DTSTAMP:20260425T163324
CREATED:20210321T133541Z
LAST-MODIFIED:20210321T133541Z
UID:10001203-1615890600-1615915800@vidireo.nl
SUMMARY:10:30 uur KrulKracht dagbesteding
DESCRIPTION:
URL:https://vidireo.nl/event/1030-uur-krulkracht-dagbesteding-33/
END:VEVENT
BEGIN:VEVENT
DTSTART;TZID=Europe/Amsterdam:20210311T100000
DTEND;TZID=Europe/Amsterdam:20210311T120000
DTSTAMP:20260425T163324
CREATED:20210321T134611Z
LAST-MODIFIED:20210321T134611Z
UID:10001216-1615456800-1615464000@vidireo.nl
SUMMARY:10:30 uur KrulKracht dagbesteding
DESCRIPTION:
URL:https://vidireo.nl/event/1030-uur-krulkracht-dagbesteding-37/
END:VEVENT
BEGIN:VEVENT
DTSTART;TZID=Europe/Amsterdam:20210309T170000
DTEND;TZID=Europe/Amsterdam:20210309T180000
DTSTAMP:20260425T163324
CREATED:20210321T135658Z
LAST-MODIFIED:20210321T135659Z
UID:10001229-1615309200-1615312800@vidireo.nl
SUMMARY:17:00 tot 18:00 repetitie slagwerkgroep
DESCRIPTION:
URL:https://vidireo.nl/event/1700-tot-1800-repetitie-slagwerkgroep/
END:VEVENT
BEGIN:VEVENT
DTSTART;TZID=Europe/Amsterdam:20210309T103000
DTEND;TZID=Europe/Amsterdam:20210309T173000
DTSTAMP:20260425T163324
CREATED:20210321T132429Z
LAST-MODIFIED:20210321T133018Z
UID:10001201-1615285800-1615311000@vidireo.nl
SUMMARY:10:30 uur KrulKracht dagbesteding
DESCRIPTION:
URL:https://vidireo.nl/event/1030-uur-krulkracht-dagbesteding-26/
END:VEVENT
BEGIN:VEVENT
DTSTART;TZID=Europe/Amsterdam:20210304T103000
DTEND;TZID=Europe/Amsterdam:20210304T173000
DTSTAMP:20260425T163324
CREATED:20210321T134516Z
LAST-MODIFIED:20210321T134516Z
UID:10001214-1614853800-1614879000@vidireo.nl
SUMMARY:10:30 uur KrulKracht dagbesteding
DESCRIPTION:
URL:https://vidireo.nl/event/1030-uur-krulkracht-dagbesteding-36/
END:VEVENT
BEGIN:VEVENT
DTSTART;TZID=Europe/Amsterdam:20210302T080000
DTEND;TZID=Europe/Amsterdam:20210302T173000
DTSTAMP:20260425T163324
CREATED:20210321T133414Z
LAST-MODIFIED:20210321T133414Z
UID:10001202-1614672000-1614706200@vidireo.nl
SUMMARY:10:30 uur KrulKracht dagbesteding
DESCRIPTION:
URL:https://vidireo.nl/event/1030-uur-krulkracht-dagbesteding-32/
END:VEVENT
BEGIN:VEVENT
DTSTART;TZID=Europe/Amsterdam:20210228T140000
DTEND;TZID=Europe/Amsterdam:20210228T170000
DTSTAMP:20260425T163324
CREATED:20210103T184035Z
LAST-MODIFIED:20210112T194448Z
UID:10001194-1614520800-1614531600@vidireo.nl
SUMMARY:14:00 Film Zorgcoöperatie
DESCRIPTION:
URL:https://vidireo.nl/event/1400-film-zorgcooperatie/
END:VEVENT
BEGIN:VEVENT
DTSTART;TZID=Europe/Amsterdam:20210225T103000
DTEND;TZID=Europe/Amsterdam:20210225T170000
DTSTAMP:20260425T163324
CREATED:20210109T145730Z
LAST-MODIFIED:20210109T145732Z
UID:10001120-1614249000-1614272400@vidireo.nl
SUMMARY:10:30 uur KrulKracht dagbesteding
DESCRIPTION:
URL:https://vidireo.nl/event/1030-uur-krulkracht-dagbesteding-31/
END:VEVENT
BEGIN:VEVENT
DTSTART;TZID=Europe/Amsterdam:20210223T103000
DTEND;TZID=Europe/Amsterdam:20210223T170000
DTSTAMP:20260425T163324
CREATED:20210109T145657Z
LAST-MODIFIED:20210109T145659Z
UID:10001118-1614076200-1614099600@vidireo.nl
SUMMARY:10:30 uur KrulKracht dagbesteding
DESCRIPTION:
URL:https://vidireo.nl/event/1030-uur-krulkracht-dagbesteding-30/
END:VEVENT
END:VCALENDAR