BEGIN:VCALENDAR
VERSION:2.0
PRODID:-//VidiReo - ECPv6.15.20//NONSGML v1.0//EN
CALSCALE:GREGORIAN
METHOD:PUBLISH
X-WR-CALNAME:VidiReo
X-ORIGINAL-URL:https://vidireo.nl
X-WR-CALDESC:Evenementen voor VidiReo
REFRESH-INTERVAL;VALUE=DURATION:PT1H
X-Robots-Tag:noindex
X-PUBLISHED-TTL:PT1H
BEGIN:VTIMEZONE
TZID:Europe/Amsterdam
BEGIN:DAYLIGHT
TZOFFSETFROM:+0100
TZOFFSETTO:+0200
TZNAME:CEST
DTSTART:20280326T010000
END:DAYLIGHT
BEGIN:STANDARD
TZOFFSETFROM:+0200
TZOFFSETTO:+0100
TZNAME:CET
DTSTART:20281029T010000
END:STANDARD
BEGIN:DAYLIGHT
TZOFFSETFROM:+0100
TZOFFSETTO:+0200
TZNAME:CEST
DTSTART:20290325T010000
END:DAYLIGHT
BEGIN:STANDARD
TZOFFSETFROM:+0200
TZOFFSETTO:+0100
TZNAME:CET
DTSTART:20291028T010000
END:STANDARD
BEGIN:DAYLIGHT
TZOFFSETFROM:+0100
TZOFFSETTO:+0200
TZNAME:CEST
DTSTART:20300331T010000
END:DAYLIGHT
BEGIN:STANDARD
TZOFFSETFROM:+0200
TZOFFSETTO:+0100
TZNAME:CET
DTSTART:20301027T010000
END:STANDARD
BEGIN:DAYLIGHT
TZOFFSETFROM:+0100
TZOFFSETTO:+0200
TZNAME:CEST
DTSTART:20310330T010000
END:DAYLIGHT
BEGIN:STANDARD
TZOFFSETFROM:+0200
TZOFFSETTO:+0100
TZNAME:CET
DTSTART:20311026T010000
END:STANDARD
END:VTIMEZONE
BEGIN:VEVENT
DTSTART;TZID=Europe/Amsterdam:20291213T193000
DTEND;TZID=Europe/Amsterdam:20291213T223000
DTSTAMP:20260421T133218
CREATED:20230511T143408Z
LAST-MODIFIED:20250811T035544Z
UID:10003073-1891884600-1891895400@vidireo.nl
SUMMARY:Repetitie Mix of Music
DESCRIPTION:
URL:https://vidireo.nl/event/repetitie-mix-of-music-3/2029-12-13/
ATTACH;FMTTYPE=image/png:https://vidireo.nl/wp-content/uploads/2023/05/IMG_1167.png
END:VEVENT
BEGIN:VEVENT
DTSTART;TZID=Europe/Amsterdam:20291220T193000
DTEND;TZID=Europe/Amsterdam:20291220T223000
DTSTAMP:20260421T133218
CREATED:20230511T143408Z
LAST-MODIFIED:20250811T035544Z
UID:10003074-1892489400-1892500200@vidireo.nl
SUMMARY:Repetitie Mix of Music
DESCRIPTION:
URL:https://vidireo.nl/event/repetitie-mix-of-music-3/2029-12-20/
ATTACH;FMTTYPE=image/png:https://vidireo.nl/wp-content/uploads/2023/05/IMG_1167.png
END:VEVENT
BEGIN:VEVENT
DTSTART;TZID=Europe/Amsterdam:20291227T193000
DTEND;TZID=Europe/Amsterdam:20291227T223000
DTSTAMP:20260421T133218
CREATED:20230511T143408Z
LAST-MODIFIED:20250811T035544Z
UID:10003075-1893094200-1893105000@vidireo.nl
SUMMARY:Repetitie Mix of Music
DESCRIPTION:
URL:https://vidireo.nl/event/repetitie-mix-of-music-3/2029-12-27/
ATTACH;FMTTYPE=image/png:https://vidireo.nl/wp-content/uploads/2023/05/IMG_1167.png
END:VEVENT
BEGIN:VEVENT
DTSTART;TZID=Europe/Amsterdam:20300103T193000
DTEND;TZID=Europe/Amsterdam:20300103T223000
DTSTAMP:20260421T133218
CREATED:20230511T143408Z
LAST-MODIFIED:20250811T035544Z
UID:10003076-1893699000-1893709800@vidireo.nl
SUMMARY:Repetitie Mix of Music
DESCRIPTION:
URL:https://vidireo.nl/event/repetitie-mix-of-music-3/2030-01-03/
ATTACH;FMTTYPE=image/png:https://vidireo.nl/wp-content/uploads/2023/05/IMG_1167.png
END:VEVENT
BEGIN:VEVENT
DTSTART;TZID=Europe/Amsterdam:20300110T193000
DTEND;TZID=Europe/Amsterdam:20300110T223000
DTSTAMP:20260421T133218
CREATED:20230511T143408Z
LAST-MODIFIED:20250811T035544Z
UID:10003077-1894303800-1894314600@vidireo.nl
SUMMARY:Repetitie Mix of Music
DESCRIPTION:
URL:https://vidireo.nl/event/repetitie-mix-of-music-3/2030-01-10/
ATTACH;FMTTYPE=image/png:https://vidireo.nl/wp-content/uploads/2023/05/IMG_1167.png
END:VEVENT
BEGIN:VEVENT
DTSTART;TZID=Europe/Amsterdam:20300112T100000
DTEND;TZID=Europe/Amsterdam:20300112T120000
DTSTAMP:20260421T133218
CREATED:20230511T143643Z
LAST-MODIFIED:20250929T044757Z
UID:10003184-1894442400-1894449600@vidireo.nl
SUMMARY:Repair Cafe
DESCRIPTION:
URL:https://vidireo.nl/event/repair-cafe-3/2030-01-12/
ATTACH;FMTTYPE=image/jpeg:https://vidireo.nl/wp-content/uploads/2023/05/IMG_1200.jpeg
END:VEVENT
BEGIN:VEVENT
DTSTART;TZID=Europe/Amsterdam:20300117T193000
DTEND;TZID=Europe/Amsterdam:20300117T223000
DTSTAMP:20260421T133218
CREATED:20230511T143408Z
LAST-MODIFIED:20250811T035544Z
UID:10003078-1894908600-1894919400@vidireo.nl
SUMMARY:Repetitie Mix of Music
DESCRIPTION:
URL:https://vidireo.nl/event/repetitie-mix-of-music-3/2030-01-17/
ATTACH;FMTTYPE=image/png:https://vidireo.nl/wp-content/uploads/2023/05/IMG_1167.png
END:VEVENT
BEGIN:VEVENT
DTSTART;TZID=Europe/Amsterdam:20300124T193000
DTEND;TZID=Europe/Amsterdam:20300124T223000
DTSTAMP:20260421T133218
CREATED:20230511T143408Z
LAST-MODIFIED:20250811T035544Z
UID:10003079-1895513400-1895524200@vidireo.nl
SUMMARY:Repetitie Mix of Music
DESCRIPTION:
URL:https://vidireo.nl/event/repetitie-mix-of-music-3/2030-01-24/
ATTACH;FMTTYPE=image/png:https://vidireo.nl/wp-content/uploads/2023/05/IMG_1167.png
END:VEVENT
BEGIN:VEVENT
DTSTART;TZID=Europe/Amsterdam:20300131T193000
DTEND;TZID=Europe/Amsterdam:20300131T223000
DTSTAMP:20260421T133218
CREATED:20230511T143408Z
LAST-MODIFIED:20250811T035544Z
UID:10003080-1896118200-1896129000@vidireo.nl
SUMMARY:Repetitie Mix of Music
DESCRIPTION:
URL:https://vidireo.nl/event/repetitie-mix-of-music-3/2030-01-31/
ATTACH;FMTTYPE=image/png:https://vidireo.nl/wp-content/uploads/2023/05/IMG_1167.png
END:VEVENT
BEGIN:VEVENT
DTSTART;TZID=Europe/Amsterdam:20300207T193000
DTEND;TZID=Europe/Amsterdam:20300207T223000
DTSTAMP:20260421T133218
CREATED:20230511T143408Z
LAST-MODIFIED:20250811T035544Z
UID:10003081-1896723000-1896733800@vidireo.nl
SUMMARY:Repetitie Mix of Music
DESCRIPTION:
URL:https://vidireo.nl/event/repetitie-mix-of-music-3/2030-02-07/
ATTACH;FMTTYPE=image/png:https://vidireo.nl/wp-content/uploads/2023/05/IMG_1167.png
END:VEVENT
BEGIN:VEVENT
DTSTART;TZID=Europe/Amsterdam:20300209T100000
DTEND;TZID=Europe/Amsterdam:20300209T120000
DTSTAMP:20260421T133219
CREATED:20230511T143643Z
LAST-MODIFIED:20250929T044757Z
UID:10003185-1896861600-1896868800@vidireo.nl
SUMMARY:Repair Cafe
DESCRIPTION:
URL:https://vidireo.nl/event/repair-cafe-3/2030-02-09/
ATTACH;FMTTYPE=image/jpeg:https://vidireo.nl/wp-content/uploads/2023/05/IMG_1200.jpeg
END:VEVENT
BEGIN:VEVENT
DTSTART;TZID=Europe/Amsterdam:20300214T193000
DTEND;TZID=Europe/Amsterdam:20300214T223000
DTSTAMP:20260421T133219
CREATED:20230511T143408Z
LAST-MODIFIED:20250811T035544Z
UID:10003082-1897327800-1897338600@vidireo.nl
SUMMARY:Repetitie Mix of Music
DESCRIPTION:
URL:https://vidireo.nl/event/repetitie-mix-of-music-3/2030-02-14/
ATTACH;FMTTYPE=image/png:https://vidireo.nl/wp-content/uploads/2023/05/IMG_1167.png
END:VEVENT
BEGIN:VEVENT
DTSTART;TZID=Europe/Amsterdam:20300221T193000
DTEND;TZID=Europe/Amsterdam:20300221T223000
DTSTAMP:20260421T133219
CREATED:20230511T143408Z
LAST-MODIFIED:20250811T035544Z
UID:10003083-1897932600-1897943400@vidireo.nl
SUMMARY:Repetitie Mix of Music
DESCRIPTION:
URL:https://vidireo.nl/event/repetitie-mix-of-music-3/2030-02-21/
ATTACH;FMTTYPE=image/png:https://vidireo.nl/wp-content/uploads/2023/05/IMG_1167.png
END:VEVENT
BEGIN:VEVENT
DTSTART;TZID=Europe/Amsterdam:20300228T193000
DTEND;TZID=Europe/Amsterdam:20300228T223000
DTSTAMP:20260421T133219
CREATED:20230511T143408Z
LAST-MODIFIED:20250811T035544Z
UID:10003084-1898537400-1898548200@vidireo.nl
SUMMARY:Repetitie Mix of Music
DESCRIPTION:
URL:https://vidireo.nl/event/repetitie-mix-of-music-3/2030-02-28/
ATTACH;FMTTYPE=image/png:https://vidireo.nl/wp-content/uploads/2023/05/IMG_1167.png
END:VEVENT
BEGIN:VEVENT
DTSTART;TZID=Europe/Amsterdam:20300307T193000
DTEND;TZID=Europe/Amsterdam:20300307T223000
DTSTAMP:20260421T133219
CREATED:20230511T143408Z
LAST-MODIFIED:20250811T035544Z
UID:10003085-1899142200-1899153000@vidireo.nl
SUMMARY:Repetitie Mix of Music
DESCRIPTION:
URL:https://vidireo.nl/event/repetitie-mix-of-music-3/2030-03-07/
ATTACH;FMTTYPE=image/png:https://vidireo.nl/wp-content/uploads/2023/05/IMG_1167.png
END:VEVENT
BEGIN:VEVENT
DTSTART;TZID=Europe/Amsterdam:20300309T100000
DTEND;TZID=Europe/Amsterdam:20300309T120000
DTSTAMP:20260421T133219
CREATED:20230511T143643Z
LAST-MODIFIED:20250929T044757Z
UID:10003186-1899280800-1899288000@vidireo.nl
SUMMARY:Repair Cafe
DESCRIPTION:
URL:https://vidireo.nl/event/repair-cafe-3/2030-03-09/
ATTACH;FMTTYPE=image/jpeg:https://vidireo.nl/wp-content/uploads/2023/05/IMG_1200.jpeg
END:VEVENT
BEGIN:VEVENT
DTSTART;TZID=Europe/Amsterdam:20300314T193000
DTEND;TZID=Europe/Amsterdam:20300314T223000
DTSTAMP:20260421T133219
CREATED:20230511T143408Z
LAST-MODIFIED:20250811T035544Z
UID:10003086-1899747000-1899757800@vidireo.nl
SUMMARY:Repetitie Mix of Music
DESCRIPTION:
URL:https://vidireo.nl/event/repetitie-mix-of-music-3/2030-03-14/
ATTACH;FMTTYPE=image/png:https://vidireo.nl/wp-content/uploads/2023/05/IMG_1167.png
END:VEVENT
BEGIN:VEVENT
DTSTART;TZID=Europe/Amsterdam:20300321T193000
DTEND;TZID=Europe/Amsterdam:20300321T223000
DTSTAMP:20260421T133219
CREATED:20230511T143408Z
LAST-MODIFIED:20250811T035544Z
UID:10003087-1900351800-1900362600@vidireo.nl
SUMMARY:Repetitie Mix of Music
DESCRIPTION:
URL:https://vidireo.nl/event/repetitie-mix-of-music-3/2030-03-21/
ATTACH;FMTTYPE=image/png:https://vidireo.nl/wp-content/uploads/2023/05/IMG_1167.png
END:VEVENT
BEGIN:VEVENT
DTSTART;TZID=Europe/Amsterdam:20300328T193000
DTEND;TZID=Europe/Amsterdam:20300328T223000
DTSTAMP:20260421T133219
CREATED:20230511T143408Z
LAST-MODIFIED:20250811T035544Z
UID:10003088-1900956600-1900967400@vidireo.nl
SUMMARY:Repetitie Mix of Music
DESCRIPTION:
URL:https://vidireo.nl/event/repetitie-mix-of-music-3/2030-03-28/
ATTACH;FMTTYPE=image/png:https://vidireo.nl/wp-content/uploads/2023/05/IMG_1167.png
END:VEVENT
BEGIN:VEVENT
DTSTART;TZID=Europe/Amsterdam:20300404T193000
DTEND;TZID=Europe/Amsterdam:20300404T223000
DTSTAMP:20260421T133219
CREATED:20230511T143408Z
LAST-MODIFIED:20250811T035544Z
UID:10003089-1901561400-1901572200@vidireo.nl
SUMMARY:Repetitie Mix of Music
DESCRIPTION:
URL:https://vidireo.nl/event/repetitie-mix-of-music-3/2030-04-04/
ATTACH;FMTTYPE=image/png:https://vidireo.nl/wp-content/uploads/2023/05/IMG_1167.png
END:VEVENT
BEGIN:VEVENT
DTSTART;TZID=Europe/Amsterdam:20300411T193000
DTEND;TZID=Europe/Amsterdam:20300411T223000
DTSTAMP:20260421T133219
CREATED:20230511T143408Z
LAST-MODIFIED:20250811T035544Z
UID:10003090-1902166200-1902177000@vidireo.nl
SUMMARY:Repetitie Mix of Music
DESCRIPTION:
URL:https://vidireo.nl/event/repetitie-mix-of-music-3/2030-04-11/
ATTACH;FMTTYPE=image/png:https://vidireo.nl/wp-content/uploads/2023/05/IMG_1167.png
END:VEVENT
BEGIN:VEVENT
DTSTART;TZID=Europe/Amsterdam:20300413T100000
DTEND;TZID=Europe/Amsterdam:20300413T120000
DTSTAMP:20260421T133219
CREATED:20230511T143643Z
LAST-MODIFIED:20250929T044757Z
UID:10003187-1902304800-1902312000@vidireo.nl
SUMMARY:Repair Cafe
DESCRIPTION:
URL:https://vidireo.nl/event/repair-cafe-3/2030-04-13/
ATTACH;FMTTYPE=image/jpeg:https://vidireo.nl/wp-content/uploads/2023/05/IMG_1200.jpeg
END:VEVENT
BEGIN:VEVENT
DTSTART;TZID=Europe/Amsterdam:20300418T193000
DTEND;TZID=Europe/Amsterdam:20300418T223000
DTSTAMP:20260421T133219
CREATED:20230511T143408Z
LAST-MODIFIED:20250811T035544Z
UID:10003091-1902771000-1902781800@vidireo.nl
SUMMARY:Repetitie Mix of Music
DESCRIPTION:
URL:https://vidireo.nl/event/repetitie-mix-of-music-3/2030-04-18/
ATTACH;FMTTYPE=image/png:https://vidireo.nl/wp-content/uploads/2023/05/IMG_1167.png
END:VEVENT
BEGIN:VEVENT
DTSTART;TZID=Europe/Amsterdam:20300425T193000
DTEND;TZID=Europe/Amsterdam:20300425T223000
DTSTAMP:20260421T133219
CREATED:20230511T143408Z
LAST-MODIFIED:20250811T035544Z
UID:10003092-1903375800-1903386600@vidireo.nl
SUMMARY:Repetitie Mix of Music
DESCRIPTION:
URL:https://vidireo.nl/event/repetitie-mix-of-music-3/2030-04-25/
ATTACH;FMTTYPE=image/png:https://vidireo.nl/wp-content/uploads/2023/05/IMG_1167.png
END:VEVENT
BEGIN:VEVENT
DTSTART;TZID=Europe/Amsterdam:20300502T193000
DTEND;TZID=Europe/Amsterdam:20300502T223000
DTSTAMP:20260421T133219
CREATED:20230511T143408Z
LAST-MODIFIED:20250811T035544Z
UID:10003093-1903980600-1903991400@vidireo.nl
SUMMARY:Repetitie Mix of Music
DESCRIPTION:
URL:https://vidireo.nl/event/repetitie-mix-of-music-3/2030-05-02/
ATTACH;FMTTYPE=image/png:https://vidireo.nl/wp-content/uploads/2023/05/IMG_1167.png
END:VEVENT
BEGIN:VEVENT
DTSTART;TZID=Europe/Amsterdam:20300509T193000
DTEND;TZID=Europe/Amsterdam:20300509T223000
DTSTAMP:20260421T133219
CREATED:20230511T143408Z
LAST-MODIFIED:20250811T035544Z
UID:10003094-1904585400-1904596200@vidireo.nl
SUMMARY:Repetitie Mix of Music
DESCRIPTION:
URL:https://vidireo.nl/event/repetitie-mix-of-music-3/2030-05-09/
ATTACH;FMTTYPE=image/png:https://vidireo.nl/wp-content/uploads/2023/05/IMG_1167.png
END:VEVENT
BEGIN:VEVENT
DTSTART;TZID=Europe/Amsterdam:20300511T100000
DTEND;TZID=Europe/Amsterdam:20300511T120000
DTSTAMP:20260421T133219
CREATED:20230511T143643Z
LAST-MODIFIED:20250929T044757Z
UID:10003188-1904724000-1904731200@vidireo.nl
SUMMARY:Repair Cafe
DESCRIPTION:
URL:https://vidireo.nl/event/repair-cafe-3/2030-05-11/
ATTACH;FMTTYPE=image/jpeg:https://vidireo.nl/wp-content/uploads/2023/05/IMG_1200.jpeg
END:VEVENT
BEGIN:VEVENT
DTSTART;TZID=Europe/Amsterdam:20300516T193000
DTEND;TZID=Europe/Amsterdam:20300516T223000
DTSTAMP:20260421T133219
CREATED:20230511T143408Z
LAST-MODIFIED:20250811T035544Z
UID:10003095-1905190200-1905201000@vidireo.nl
SUMMARY:Repetitie Mix of Music
DESCRIPTION:
URL:https://vidireo.nl/event/repetitie-mix-of-music-3/2030-05-16/
ATTACH;FMTTYPE=image/png:https://vidireo.nl/wp-content/uploads/2023/05/IMG_1167.png
END:VEVENT
BEGIN:VEVENT
DTSTART;TZID=Europe/Amsterdam:20300523T193000
DTEND;TZID=Europe/Amsterdam:20300523T223000
DTSTAMP:20260421T133219
CREATED:20230511T143408Z
LAST-MODIFIED:20250811T035544Z
UID:10003096-1905795000-1905805800@vidireo.nl
SUMMARY:Repetitie Mix of Music
DESCRIPTION:
URL:https://vidireo.nl/event/repetitie-mix-of-music-3/2030-05-23/
ATTACH;FMTTYPE=image/png:https://vidireo.nl/wp-content/uploads/2023/05/IMG_1167.png
END:VEVENT
BEGIN:VEVENT
DTSTART;TZID=Europe/Amsterdam:20300530T193000
DTEND;TZID=Europe/Amsterdam:20300530T223000
DTSTAMP:20260421T133219
CREATED:20230511T143408Z
LAST-MODIFIED:20250811T035544Z
UID:10003097-1906399800-1906410600@vidireo.nl
SUMMARY:Repetitie Mix of Music
DESCRIPTION:
URL:https://vidireo.nl/event/repetitie-mix-of-music-3/2030-05-30/
ATTACH;FMTTYPE=image/png:https://vidireo.nl/wp-content/uploads/2023/05/IMG_1167.png
END:VEVENT
END:VCALENDAR