BEGIN:VCALENDAR
VERSION:2.0
PRODID:-//VidiReo - ECPv6.15.20//NONSGML v1.0//EN
CALSCALE:GREGORIAN
METHOD:PUBLISH
X-WR-CALNAME:VidiReo
X-ORIGINAL-URL:https://vidireo.nl
X-WR-CALDESC:Evenementen voor VidiReo
REFRESH-INTERVAL;VALUE=DURATION:PT1H
X-Robots-Tag:noindex
X-PUBLISHED-TTL:PT1H
BEGIN:VTIMEZONE
TZID:Europe/Amsterdam
BEGIN:DAYLIGHT
TZOFFSETFROM:+0100
TZOFFSETTO:+0200
TZNAME:CEST
DTSTART:20200329T010000
END:DAYLIGHT
BEGIN:STANDARD
TZOFFSETFROM:+0200
TZOFFSETTO:+0100
TZNAME:CET
DTSTART:20201025T010000
END:STANDARD
BEGIN:DAYLIGHT
TZOFFSETFROM:+0100
TZOFFSETTO:+0200
TZNAME:CEST
DTSTART:20210328T010000
END:DAYLIGHT
BEGIN:STANDARD
TZOFFSETFROM:+0200
TZOFFSETTO:+0100
TZNAME:CET
DTSTART:20211031T010000
END:STANDARD
BEGIN:DAYLIGHT
TZOFFSETFROM:+0100
TZOFFSETTO:+0200
TZNAME:CEST
DTSTART:20220327T010000
END:DAYLIGHT
BEGIN:STANDARD
TZOFFSETFROM:+0200
TZOFFSETTO:+0100
TZNAME:CET
DTSTART:20221030T010000
END:STANDARD
END:VTIMEZONE
BEGIN:VEVENT
DTSTART;TZID=Europe/Amsterdam:20210621T163000
DTEND;TZID=Europe/Amsterdam:20210621T173000
DTSTAMP:20260425T122336
CREATED:20210521T081157Z
LAST-MODIFIED:20210521T081157Z
UID:10001171-1624293000-1624296600@vidireo.nl
SUMMARY:16:30 tot 17:30 uur Jeugdtheater Spons
DESCRIPTION:
URL:https://vidireo.nl/event/1630-tot-1730-uur-jeugdtheater-spons-3/
END:VEVENT
BEGIN:VEVENT
DTSTART;TZID=Europe/Amsterdam:20210617T103000
DTEND;TZID=Europe/Amsterdam:20210617T170000
DTSTAMP:20260425T122336
CREATED:20210521T083855Z
LAST-MODIFIED:20210521T083856Z
UID:10001359-1623925800-1623949200@vidireo.nl
SUMMARY:10:30 KrulKracht dagbesteding
DESCRIPTION:
URL:https://vidireo.nl/event/1030-krulkracht-dagbesteding-9/
END:VEVENT
BEGIN:VEVENT
DTSTART;TZID=Europe/Amsterdam:20210615T200000
DTEND;TZID=Europe/Amsterdam:20210615T220000
DTSTAMP:20260425T122336
CREATED:20210530T061218Z
LAST-MODIFIED:20210530T061219Z
UID:10001393-1623787200-1623794400@vidireo.nl
SUMMARY:20:00 Bigband Ravenstein
DESCRIPTION:
URL:https://vidireo.nl/event/2000-bigband-ravenstein-4/
END:VEVENT
BEGIN:VEVENT
DTSTART;TZID=Europe/Amsterdam:20210615T200000
DTEND;TZID=Europe/Amsterdam:20210615T220000
DTSTAMP:20260425T122336
CREATED:20210530T061056Z
LAST-MODIFIED:20210530T061057Z
UID:10001392-1623787200-1623794400@vidireo.nl
SUMMARY:20:00 Bigband Ravenstein
DESCRIPTION:
URL:https://vidireo.nl/event/2000-bigband-ravenstein-3/
END:VEVENT
BEGIN:VEVENT
DTSTART;TZID=Europe/Amsterdam:20210615T170000
DTEND;TZID=Europe/Amsterdam:20210615T180000
DTSTAMP:20260425T122336
CREATED:20210521T092545Z
LAST-MODIFIED:20210521T092545Z
UID:10001381-1623776400-1623780000@vidireo.nl
SUMMARY:17:00 tot 18:00 slagwerkgroep
DESCRIPTION:
URL:https://vidireo.nl/event/1700-tot-1800-slagwerkgroep-3/
END:VEVENT
BEGIN:VEVENT
DTSTART;TZID=Europe/Amsterdam:20210615T103000
DTEND;TZID=Europe/Amsterdam:20210615T170000
DTSTAMP:20260425T122336
CREATED:20210521T082541Z
LAST-MODIFIED:20210521T082541Z
UID:10001298-1623753000-1623776400@vidireo.nl
SUMMARY:10:30 KrulKracht dagbesteding
DESCRIPTION:
URL:https://vidireo.nl/event/1030-krulkracht-dagbesteding-4/
END:VEVENT
BEGIN:VEVENT
DTSTART;TZID=Europe/Amsterdam:20210614T190000
DTEND;TZID=Europe/Amsterdam:20210614T220000
DTSTAMP:20260425T122336
CREATED:20210530T055838Z
LAST-MODIFIED:20210530T055839Z
UID:10001386-1623697200-1623708000@vidireo.nl
SUMMARY:19:00 Harmonie OBK
DESCRIPTION:
URL:https://vidireo.nl/event/1900-harmonie-obk-3/
END:VEVENT
BEGIN:VEVENT
DTSTART;TZID=Europe/Amsterdam:20210614T163000
DTEND;TZID=Europe/Amsterdam:20210614T173000
DTSTAMP:20260425T122336
CREATED:20210521T081102Z
LAST-MODIFIED:20210521T081102Z
UID:10001169-1623688200-1623691800@vidireo.nl
SUMMARY:16:30 tot 17:30 uur Jeugdtheater Spons
DESCRIPTION:
URL:https://vidireo.nl/event/1630-tot-1730-uur-jeugdtheater-spons-2/
END:VEVENT
BEGIN:VEVENT
DTSTART;TZID=Europe/Amsterdam:20210612T120000
DTEND;TZID=Europe/Amsterdam:20210612T183000
DTSTAMP:20260425T122336
CREATED:20210612T052706Z
LAST-MODIFIED:20210612T052706Z
UID:10001398-1623499200-1623522600@vidireo.nl
SUMMARY:Terras geopend vanaf 12:00 uur
DESCRIPTION:
URL:https://vidireo.nl/event/terras-geopend-vanaf-1200-uur/
END:VEVENT
BEGIN:VEVENT
DTSTART;TZID=Europe/Amsterdam:20210611T140000
DTEND;TZID=Europe/Amsterdam:20210611T170000
DTSTAMP:20260425T122336
CREATED:20210521T090108Z
LAST-MODIFIED:20210521T090109Z
UID:10001377-1623420000-1623430800@vidireo.nl
SUMMARY:14:00 Kienen KBO
DESCRIPTION:
URL:https://vidireo.nl/event/1400-kienen-kbo/
END:VEVENT
BEGIN:VEVENT
DTSTART;TZID=Europe/Amsterdam:20210610T103000
DTEND;TZID=Europe/Amsterdam:20210610T170000
DTSTAMP:20260425T122336
CREATED:20210521T083824Z
LAST-MODIFIED:20210521T083824Z
UID:10001357-1623321000-1623344400@vidireo.nl
SUMMARY:10:30 KrulKracht dagbesteding
DESCRIPTION:
URL:https://vidireo.nl/event/1030-krulkracht-dagbesteding-8/
END:VEVENT
BEGIN:VEVENT
DTSTART;TZID=Europe/Amsterdam:20210609T193000
DTEND;TZID=Europe/Amsterdam:20210609T223000
DTSTAMP:20260425T122336
CREATED:20210521T155148Z
LAST-MODIFIED:20210521T155409Z
UID:10001384-1623267000-1623277800@vidireo.nl
SUMMARY:19:30 UUR FILM de100 jarige man die uit het raam klom
DESCRIPTION:Entree € 5\,00 p.p. \n\n\n\nEen heerlijke verfrissende Zweedse roadmovie Een 100-jarige man\, Allan Karlsson\, besluit dat het niet te laat is om opnieuw te beginnen. Voor velen zou het het avontuur van hun leven zijn maar de onverwachte reis van Allan is niet zijn eerste. Allan ontsnapt uit zijn tehuis\, neemt op het busstation een koffer mee\, die miljoenen kronen blijkt te bevatten\, sluit onderweg vriendschap met een paar zonderlinge figuren en vermoordt en passant zijn criminele achtervolgers. Als de politie hem wil pakken\, blijken de lijken op hele andere plaatsen op te duiken en kan er dus niets bewezen worden. Gebaseerd op de debuutroman en bestseller van auteur Jonas Jonasson
URL:https://vidireo.nl/event/1930-uur-film-de100-jarige-man-die-uit-het-raam-klom/
END:VEVENT
BEGIN:VEVENT
DTSTART;TZID=Europe/Amsterdam:20210608T200000
DTEND;TZID=Europe/Amsterdam:20210608T220000
DTSTAMP:20260425T122336
CREATED:20210530T060950Z
LAST-MODIFIED:20210530T060951Z
UID:10001391-1623182400-1623189600@vidireo.nl
SUMMARY:20:00 Bigband Ravenstein
DESCRIPTION:
URL:https://vidireo.nl/event/2000-bigband-ravenstein-2/
END:VEVENT
BEGIN:VEVENT
DTSTART;TZID=Europe/Amsterdam:20210608T170000
DTEND;TZID=Europe/Amsterdam:20210608T180000
DTSTAMP:20260425T122336
CREATED:20210521T092514Z
LAST-MODIFIED:20210521T092515Z
UID:10001380-1623171600-1623175200@vidireo.nl
SUMMARY:17:00 tot 18:00 slagwerkgroep
DESCRIPTION:
URL:https://vidireo.nl/event/1700-tot-1800-slagwerkgroep-2/
END:VEVENT
BEGIN:VEVENT
DTSTART;TZID=Europe/Amsterdam:20210608T093000
DTEND;TZID=Europe/Amsterdam:20210608T170000
DTSTAMP:20260425T122336
CREATED:20210521T082500Z
LAST-MODIFIED:20210521T082500Z
UID:10001290-1623144600-1623171600@vidireo.nl
SUMMARY:10:30 KrulKracht dagbesteding
DESCRIPTION:
URL:https://vidireo.nl/event/1030-krulkracht-dagbesteding-3/
END:VEVENT
BEGIN:VEVENT
DTSTART;TZID=Europe/Amsterdam:20210607T190000
DTEND;TZID=Europe/Amsterdam:20210607T220000
DTSTAMP:20260425T122336
CREATED:20210530T055644Z
LAST-MODIFIED:20210530T055644Z
UID:10001385-1623092400-1623103200@vidireo.nl
SUMMARY:19:00 Harmonie OBK
DESCRIPTION:
URL:https://vidireo.nl/event/1900-harmonie-obk-2/
END:VEVENT
BEGIN:VEVENT
DTSTART;TZID=Europe/Amsterdam:20210607T163000
DTEND;TZID=Europe/Amsterdam:20210607T173000
DTSTAMP:20260425T122336
CREATED:20210521T080841Z
LAST-MODIFIED:20210521T080841Z
UID:10001287-1623083400-1623087000@vidireo.nl
SUMMARY:16:30 tot 17:30 uur Jeugdtheater Spons
DESCRIPTION:
URL:https://vidireo.nl/event/1630-tot-1730-uur-jeugdtheater-spons/
END:VEVENT
BEGIN:VEVENT
DTSTART;TZID=Europe/Amsterdam:20210603T103000
DTEND;TZID=Europe/Amsterdam:20210603T170000
DTSTAMP:20260425T122336
CREATED:20210521T083748Z
LAST-MODIFIED:20210521T083748Z
UID:10001355-1622716200-1622739600@vidireo.nl
SUMMARY:10:30 KrulKracht dagbesteding
DESCRIPTION:
URL:https://vidireo.nl/event/1030-krulkracht-dagbesteding-7/
END:VEVENT
BEGIN:VEVENT
DTSTART;TZID=Europe/Amsterdam:20210601T200000
DTEND;TZID=Europe/Amsterdam:20210601T220000
DTSTAMP:20260425T122336
CREATED:20210530T060823Z
LAST-MODIFIED:20210530T060823Z
UID:10001390-1622577600-1622584800@vidireo.nl
SUMMARY:20:00 Bigband Ravenstein
DESCRIPTION:
URL:https://vidireo.nl/event/2000-bigband-ravenstein/
END:VEVENT
BEGIN:VEVENT
DTSTART;TZID=Europe/Amsterdam:20210601T170000
DTEND;TZID=Europe/Amsterdam:20210601T180000
DTSTAMP:20260425T122336
CREATED:20210521T092429Z
LAST-MODIFIED:20210521T092429Z
UID:10001379-1622566800-1622570400@vidireo.nl
SUMMARY:17:00 tot 18:00 slagwerkgroep
DESCRIPTION:
URL:https://vidireo.nl/event/1700-tot-1800-slagwerkgroep/
END:VEVENT
BEGIN:VEVENT
DTSTART;TZID=Europe/Amsterdam:20210601T103000
DTEND;TZID=Europe/Amsterdam:20210601T170000
DTSTAMP:20260425T122336
CREATED:20210521T082421Z
LAST-MODIFIED:20210521T082421Z
UID:10001289-1622543400-1622566800@vidireo.nl
SUMMARY:10:30 KrulKracht dagbesteding
DESCRIPTION:
URL:https://vidireo.nl/event/1030-krulkracht-dagbesteding-2/
END:VEVENT
BEGIN:VEVENT
DTSTART;TZID=Europe/Amsterdam:20210531T190000
DTEND;TZID=Europe/Amsterdam:20210531T220000
DTSTAMP:20260425T122336
CREATED:20210530T060407Z
LAST-MODIFIED:20210530T060408Z
UID:10001388-1622487600-1622498400@vidireo.nl
SUMMARY:19:00 Harmonie OBK
DESCRIPTION:
URL:https://vidireo.nl/event/1900-harmonie-obk-5/
END:VEVENT
BEGIN:VEVENT
DTSTART;TZID=Europe/Amsterdam:20210531T163000
DTEND;TZID=Europe/Amsterdam:20210531T173000
DTSTAMP:20260425T122336
CREATED:20210521T075421Z
LAST-MODIFIED:20210521T080228Z
UID:10001285-1622478600-1622482200@vidireo.nl
SUMMARY:16:30 tot 17:30 uur Jeugdtheater Spons
DESCRIPTION:
URL:https://vidireo.nl/event/jeugdtheater-spons/
END:VEVENT
BEGIN:VEVENT
DTSTART;TZID=Europe/Amsterdam:20210527T103000
DTEND;TZID=Europe/Amsterdam:20210527T170000
DTSTAMP:20260425T122336
CREATED:20210411T075559Z
LAST-MODIFIED:20210411T075602Z
UID:10001270-1622111400-1622134800@vidireo.nl
SUMMARY:10:30 uur KrulKracht dagbesteding
DESCRIPTION:
URL:https://vidireo.nl/event/1030-uur-krulkracht-dagbesteding-47/
END:VEVENT
BEGIN:VEVENT
DTSTART;TZID=Europe/Amsterdam:20210525T170000
DTEND;TZID=Europe/Amsterdam:20210525T180000
DTSTAMP:20260425T122336
CREATED:20210411T074957Z
LAST-MODIFIED:20210411T074959Z
UID:10001254-1621962000-1621965600@vidireo.nl
SUMMARY:17:00 tot 18:00 repetitie slagwerkgroep
DESCRIPTION:
URL:https://vidireo.nl/event/1700-tot-1800-repetitie-slagwerkgroep-12/
END:VEVENT
BEGIN:VEVENT
DTSTART;TZID=Europe/Amsterdam:20210525T103000
DTEND;TZID=Europe/Amsterdam:20210525T170000
DTSTAMP:20260425T122336
CREATED:20210411T075327Z
LAST-MODIFIED:20210411T075329Z
UID:10001263-1621938600-1621962000@vidireo.nl
SUMMARY:10:30 uur KrulKracht dagbesteding
DESCRIPTION:
URL:https://vidireo.nl/event/1030-uur-krulkracht-dagbesteding-43/
END:VEVENT
BEGIN:VEVENT
DTSTART;TZID=Europe/Amsterdam:20210520T103000
DTEND;TZID=Europe/Amsterdam:20210520T170000
DTSTAMP:20260425T122336
CREATED:20210411T075527Z
LAST-MODIFIED:20210411T075529Z
UID:10001269-1621506600-1621530000@vidireo.nl
SUMMARY:10:30 uur KrulKracht dagbesteding
DESCRIPTION:
URL:https://vidireo.nl/event/1030-uur-krulkracht-dagbesteding-46/
END:VEVENT
BEGIN:VEVENT
DTSTART;TZID=Europe/Amsterdam:20210518T170000
DTEND;TZID=Europe/Amsterdam:20210518T180000
DTSTAMP:20260425T122336
CREATED:20210411T074920Z
LAST-MODIFIED:20210411T074922Z
UID:10001252-1621357200-1621360800@vidireo.nl
SUMMARY:17:00 tot 18:00 repetitie slagwerkgroep
DESCRIPTION:
URL:https://vidireo.nl/event/1700-tot-1800-repetitie-slagwerkgroep-11/
END:VEVENT
BEGIN:VEVENT
DTSTART;TZID=Europe/Amsterdam:20210518T080000
DTEND;TZID=Europe/Amsterdam:20210518T170000
DTSTAMP:20260425T122336
CREATED:20210411T075243Z
LAST-MODIFIED:20210411T075245Z
UID:10001261-1621324800-1621357200@vidireo.nl
SUMMARY:10:30 uur KrulKracht dagbesteding
DESCRIPTION:
URL:https://vidireo.nl/event/1030-uur-krulkracht-dagbesteding-42/
END:VEVENT
BEGIN:VEVENT
DTSTART;TZID=Europe/Amsterdam:20210513T103000
DTEND;TZID=Europe/Amsterdam:20210513T170000
DTSTAMP:20260425T122336
CREATED:20210411T075443Z
LAST-MODIFIED:20210411T075446Z
UID:10001268-1620901800-1620925200@vidireo.nl
SUMMARY:10:30 uur KrulKracht dagbesteding
DESCRIPTION:
URL:https://vidireo.nl/event/1030-uur-krulkracht-dagbesteding-45/
END:VEVENT
END:VCALENDAR