BEGIN:VCALENDAR
VERSION:2.0
PRODID:-//VidiReo - ECPv6.15.20//NONSGML v1.0//EN
CALSCALE:GREGORIAN
METHOD:PUBLISH
X-WR-CALNAME:VidiReo
X-ORIGINAL-URL:https://vidireo.nl
X-WR-CALDESC:Evenementen voor VidiReo
REFRESH-INTERVAL;VALUE=DURATION:PT1H
X-Robots-Tag:noindex
X-PUBLISHED-TTL:PT1H
BEGIN:VTIMEZONE
TZID:Europe/Amsterdam
BEGIN:DAYLIGHT
TZOFFSETFROM:+0100
TZOFFSETTO:+0200
TZNAME:CEST
DTSTART:20210328T010000
END:DAYLIGHT
BEGIN:STANDARD
TZOFFSETFROM:+0200
TZOFFSETTO:+0100
TZNAME:CET
DTSTART:20211031T010000
END:STANDARD
BEGIN:DAYLIGHT
TZOFFSETFROM:+0100
TZOFFSETTO:+0200
TZNAME:CEST
DTSTART:20220327T010000
END:DAYLIGHT
BEGIN:STANDARD
TZOFFSETFROM:+0200
TZOFFSETTO:+0100
TZNAME:CET
DTSTART:20221030T010000
END:STANDARD
BEGIN:DAYLIGHT
TZOFFSETFROM:+0100
TZOFFSETTO:+0200
TZNAME:CEST
DTSTART:20230326T010000
END:DAYLIGHT
BEGIN:STANDARD
TZOFFSETFROM:+0200
TZOFFSETTO:+0100
TZNAME:CET
DTSTART:20231029T010000
END:STANDARD
BEGIN:DAYLIGHT
TZOFFSETFROM:+0100
TZOFFSETTO:+0200
TZNAME:CEST
DTSTART:20240331T010000
END:DAYLIGHT
BEGIN:STANDARD
TZOFFSETFROM:+0200
TZOFFSETTO:+0100
TZNAME:CET
DTSTART:20241027T010000
END:STANDARD
END:VTIMEZONE
BEGIN:VEVENT
DTSTART;TZID=Europe/Amsterdam:20230119T103000
DTEND;TZID=Europe/Amsterdam:20230119T183000
DTSTAMP:20260422T013548
CREATED:20220815T163403Z
LAST-MODIFIED:20220815T163903Z
UID:10001574-1674124200-1674153000@vidireo.nl
SUMMARY:KrulKracht dagbeleving
DESCRIPTION:
URL:https://vidireo.nl/event/krulkracht-dagbeleving/2023-01-19/
END:VEVENT
BEGIN:VEVENT
DTSTART;TZID=Europe/Amsterdam:20230117T190000
DTEND;TZID=Europe/Amsterdam:20230117T223000
DTSTAMP:20260422T013548
CREATED:20220815T051224Z
LAST-MODIFIED:20220815T051725Z
UID:10001493-1673982000-1673994600@vidireo.nl
SUMMARY:BigBand repetitie
DESCRIPTION:wekelijkse repetitie van de BigBand
URL:https://vidireo.nl/event/bigband-repetitie/2023-01-17/
END:VEVENT
BEGIN:VEVENT
DTSTART;TZID=Europe/Amsterdam:20230117T170000
DTEND;TZID=Europe/Amsterdam:20230117T183000
DTSTAMP:20260422T013548
CREATED:20220815T170323Z
LAST-MODIFIED:20220815T170323Z
UID:10001652-1673974800-1673980200@vidireo.nl
SUMMARY:Slagwerk OBK
DESCRIPTION:
URL:https://vidireo.nl/event/slagwerk-obk/2023-01-17/
END:VEVENT
BEGIN:VEVENT
DTSTART;TZID=Europe/Amsterdam:20230117T103000
DTEND;TZID=Europe/Amsterdam:20230117T183000
DTSTAMP:20260422T013548
CREATED:20220815T163403Z
LAST-MODIFIED:20220815T163903Z
UID:10001573-1673951400-1673980200@vidireo.nl
SUMMARY:KrulKracht dagbeleving
DESCRIPTION:
URL:https://vidireo.nl/event/krulkracht-dagbeleving/2023-01-17/
END:VEVENT
BEGIN:VEVENT
DTSTART;TZID=Europe/Amsterdam:20230116T183000
DTEND;TZID=Europe/Amsterdam:20230116T223000
DTSTAMP:20260422T013548
CREATED:20220815T163644Z
LAST-MODIFIED:20220815T163645Z
UID:10001600-1673893800-1673908200@vidireo.nl
SUMMARY:Harmonie
DESCRIPTION:
URL:https://vidireo.nl/event/harmonie/2023-01-16/
END:VEVENT
BEGIN:VEVENT
DTSTART;TZID=Europe/Amsterdam:20230116T163000
DTEND;TZID=Europe/Amsterdam:20230116T173000
DTSTAMP:20260422T013548
CREATED:20220815T193651Z
LAST-MODIFIED:20220815T193651Z
UID:10001702-1673886600-1673890200@vidireo.nl
SUMMARY:Jeugd Theater Spons
DESCRIPTION:
URL:https://vidireo.nl/event/jeugd-theater-spons/2023-01-16/
END:VEVENT
BEGIN:VEVENT
DTSTART;TZID=Europe/Amsterdam:20230115T140000
DTEND;TZID=Europe/Amsterdam:20230115T160000
DTSTAMP:20260422T013548
CREATED:20220826T084000Z
LAST-MODIFIED:20220826T084000Z
UID:10001333-1673791200-1673798400@vidireo.nl
SUMMARY:Ontmoeten Zorgcooperatie
DESCRIPTION:
URL:https://vidireo.nl/event/ontmoeten-zorgcooperatie/2023-01-15/
END:VEVENT
BEGIN:VEVENT
DTSTART;TZID=Europe/Amsterdam:20230113T140000
DTEND;TZID=Europe/Amsterdam:20230113T160000
DTSTAMP:20260422T013548
CREATED:20220826T084000Z
LAST-MODIFIED:20220826T084000Z
UID:10001332-1673618400-1673625600@vidireo.nl
SUMMARY:Ontmoeten Zorgcooperatie
DESCRIPTION:
URL:https://vidireo.nl/event/ontmoeten-zorgcooperatie/2023-01-13/
END:VEVENT
BEGIN:VEVENT
DTSTART;TZID=Europe/Amsterdam:20230112T103000
DTEND;TZID=Europe/Amsterdam:20230112T183000
DTSTAMP:20260422T013548
CREATED:20220815T163403Z
LAST-MODIFIED:20220815T163903Z
UID:10001572-1673519400-1673548200@vidireo.nl
SUMMARY:KrulKracht dagbeleving
DESCRIPTION:
URL:https://vidireo.nl/event/krulkracht-dagbeleving/2023-01-12/
END:VEVENT
BEGIN:VEVENT
DTSTART;TZID=Europe/Amsterdam:20230111T193000
DTEND;TZID=Europe/Amsterdam:20230111T220000
DTSTAMP:20260422T013548
CREATED:20220815T054325Z
LAST-MODIFIED:20220815T054325Z
UID:10001527-1673465400-1673474400@vidireo.nl
SUMMARY:Film Eiffel
DESCRIPTION:Entree € 5\,00 p.p   \n\n\n\n\n\n“You will never look at it the same way   Na zijn samenwerking aan het Vrijheidsbeeld is Gustave Eiffel op het hoogtepunt van zijn carrière. De Franse regering wilde dat hij iets spectaculairs zou creëren voor de Wereldtentoonstelling van 1889 in Parijs\, maar Eiffel was alleen geïnteresseerd in het grootstedelijke project. Alles verandert als hij zijn jeugdliefde ontmoet. Hun verboden relatie inspireerde hem om de skyline van Parijs voorgoed te veranderen.
URL:https://vidireo.nl/event/film-eiffel/
END:VEVENT
BEGIN:VEVENT
DTSTART;TZID=Europe/Amsterdam:20230111T193000
DTEND;TZID=Europe/Amsterdam:20230111T213000
DTSTAMP:20260422T013548
CREATED:20220824T175130Z
LAST-MODIFIED:20220824T175130Z
UID:10001747-1673465400-1673472600@vidireo.nl
SUMMARY:Vrolijke Vrollie
DESCRIPTION:
URL:https://vidireo.nl/event/vrolijke-vrollie/2023-01-11/
END:VEVENT
BEGIN:VEVENT
DTSTART;TZID=Europe/Amsterdam:20230110T190000
DTEND;TZID=Europe/Amsterdam:20230110T223000
DTSTAMP:20260422T013548
CREATED:20220815T051224Z
LAST-MODIFIED:20220815T051725Z
UID:10001492-1673377200-1673389800@vidireo.nl
SUMMARY:BigBand repetitie
DESCRIPTION:wekelijkse repetitie van de BigBand
URL:https://vidireo.nl/event/bigband-repetitie/2023-01-10/
END:VEVENT
BEGIN:VEVENT
DTSTART;TZID=Europe/Amsterdam:20230110T170000
DTEND;TZID=Europe/Amsterdam:20230110T183000
DTSTAMP:20260422T013548
CREATED:20220815T170323Z
LAST-MODIFIED:20220815T170323Z
UID:10001651-1673370000-1673375400@vidireo.nl
SUMMARY:Slagwerk OBK
DESCRIPTION:
URL:https://vidireo.nl/event/slagwerk-obk/2023-01-10/
END:VEVENT
BEGIN:VEVENT
DTSTART;TZID=Europe/Amsterdam:20230110T103000
DTEND;TZID=Europe/Amsterdam:20230110T183000
DTSTAMP:20260422T013548
CREATED:20220815T163403Z
LAST-MODIFIED:20220815T163903Z
UID:10001571-1673346600-1673375400@vidireo.nl
SUMMARY:KrulKracht dagbeleving
DESCRIPTION:
URL:https://vidireo.nl/event/krulkracht-dagbeleving/2023-01-10/
END:VEVENT
BEGIN:VEVENT
DTSTART;TZID=Europe/Amsterdam:20230109T183000
DTEND;TZID=Europe/Amsterdam:20230109T223000
DTSTAMP:20260422T013548
CREATED:20220815T163644Z
LAST-MODIFIED:20220815T163645Z
UID:10001599-1673289000-1673303400@vidireo.nl
SUMMARY:Harmonie
DESCRIPTION:
URL:https://vidireo.nl/event/harmonie/2023-01-09/
END:VEVENT
BEGIN:VEVENT
DTSTART;TZID=Europe/Amsterdam:20230109T163000
DTEND;TZID=Europe/Amsterdam:20230109T173000
DTSTAMP:20260422T013548
CREATED:20220815T193651Z
LAST-MODIFIED:20220815T193651Z
UID:10001701-1673281800-1673285400@vidireo.nl
SUMMARY:Jeugd Theater Spons
DESCRIPTION:
URL:https://vidireo.nl/event/jeugd-theater-spons/2023-01-09/
END:VEVENT
BEGIN:VEVENT
DTSTART;TZID=Europe/Amsterdam:20230108T140000
DTEND;TZID=Europe/Amsterdam:20230108T160000
DTSTAMP:20260422T013548
CREATED:20220826T084000Z
LAST-MODIFIED:20220826T084000Z
UID:10001331-1673186400-1673193600@vidireo.nl
SUMMARY:Ontmoeten Zorgcooperatie
DESCRIPTION:
URL:https://vidireo.nl/event/ontmoeten-zorgcooperatie/2023-01-08/
END:VEVENT
BEGIN:VEVENT
DTSTART;TZID=Europe/Amsterdam:20230106T140000
DTEND;TZID=Europe/Amsterdam:20230106T160000
DTSTAMP:20260422T013548
CREATED:20220826T084000Z
LAST-MODIFIED:20220826T084000Z
UID:10001330-1673013600-1673020800@vidireo.nl
SUMMARY:Ontmoeten Zorgcooperatie
DESCRIPTION:
URL:https://vidireo.nl/event/ontmoeten-zorgcooperatie/2023-01-06/
END:VEVENT
BEGIN:VEVENT
DTSTART;TZID=Europe/Amsterdam:20230105T103000
DTEND;TZID=Europe/Amsterdam:20230105T183000
DTSTAMP:20260422T013548
CREATED:20220815T163403Z
LAST-MODIFIED:20220815T163903Z
UID:10001570-1672914600-1672943400@vidireo.nl
SUMMARY:KrulKracht dagbeleving
DESCRIPTION:
URL:https://vidireo.nl/event/krulkracht-dagbeleving/2023-01-05/
END:VEVENT
BEGIN:VEVENT
DTSTART;TZID=Europe/Amsterdam:20230103T190000
DTEND;TZID=Europe/Amsterdam:20230103T223000
DTSTAMP:20260422T013548
CREATED:20220815T051224Z
LAST-MODIFIED:20220815T051725Z
UID:10001491-1672772400-1672785000@vidireo.nl
SUMMARY:BigBand repetitie
DESCRIPTION:wekelijkse repetitie van de BigBand
URL:https://vidireo.nl/event/bigband-repetitie/2023-01-03/
END:VEVENT
BEGIN:VEVENT
DTSTART;TZID=Europe/Amsterdam:20230103T170000
DTEND;TZID=Europe/Amsterdam:20230103T183000
DTSTAMP:20260422T013548
CREATED:20220815T170323Z
LAST-MODIFIED:20220815T170323Z
UID:10001650-1672765200-1672770600@vidireo.nl
SUMMARY:Slagwerk OBK
DESCRIPTION:
URL:https://vidireo.nl/event/slagwerk-obk/2023-01-03/
END:VEVENT
BEGIN:VEVENT
DTSTART;TZID=Europe/Amsterdam:20230103T103000
DTEND;TZID=Europe/Amsterdam:20230103T183000
DTSTAMP:20260422T013548
CREATED:20220815T163403Z
LAST-MODIFIED:20220815T163903Z
UID:10001569-1672741800-1672770600@vidireo.nl
SUMMARY:KrulKracht dagbeleving
DESCRIPTION:
URL:https://vidireo.nl/event/krulkracht-dagbeleving/2023-01-03/
END:VEVENT
BEGIN:VEVENT
DTSTART;TZID=Europe/Amsterdam:20230102T183000
DTEND;TZID=Europe/Amsterdam:20230102T223000
DTSTAMP:20260422T013548
CREATED:20220815T163644Z
LAST-MODIFIED:20220815T163645Z
UID:10001598-1672684200-1672698600@vidireo.nl
SUMMARY:Harmonie
DESCRIPTION:
URL:https://vidireo.nl/event/harmonie/2023-01-02/
END:VEVENT
BEGIN:VEVENT
DTSTART;TZID=Europe/Amsterdam:20230102T163000
DTEND;TZID=Europe/Amsterdam:20230102T173000
DTSTAMP:20260422T013548
CREATED:20220815T193651Z
LAST-MODIFIED:20220815T193651Z
UID:10001700-1672677000-1672680600@vidireo.nl
SUMMARY:Jeugd Theater Spons
DESCRIPTION:
URL:https://vidireo.nl/event/jeugd-theater-spons/2023-01-02/
END:VEVENT
BEGIN:VEVENT
DTSTART;TZID=Europe/Amsterdam:20230101T140000
DTEND;TZID=Europe/Amsterdam:20230101T160000
DTSTAMP:20260422T013548
CREATED:20220826T084000Z
LAST-MODIFIED:20220826T084000Z
UID:10001329-1672581600-1672588800@vidireo.nl
SUMMARY:Ontmoeten Zorgcooperatie
DESCRIPTION:
URL:https://vidireo.nl/event/ontmoeten-zorgcooperatie/2023-01-01/
END:VEVENT
BEGIN:VEVENT
DTSTART;TZID=Europe/Amsterdam:20221230T140000
DTEND;TZID=Europe/Amsterdam:20221230T160000
DTSTAMP:20260422T013548
CREATED:20220826T084000Z
LAST-MODIFIED:20220826T084000Z
UID:10001328-1672408800-1672416000@vidireo.nl
SUMMARY:Ontmoeten Zorgcooperatie
DESCRIPTION:
URL:https://vidireo.nl/event/ontmoeten-zorgcooperatie/2022-12-30/
END:VEVENT
BEGIN:VEVENT
DTSTART;TZID=Europe/Amsterdam:20221229T103000
DTEND;TZID=Europe/Amsterdam:20221229T183000
DTSTAMP:20260422T013548
CREATED:20220815T163403Z
LAST-MODIFIED:20220815T163903Z
UID:10001568-1672309800-1672338600@vidireo.nl
SUMMARY:KrulKracht dagbeleving
DESCRIPTION:
URL:https://vidireo.nl/event/krulkracht-dagbeleving/2022-12-29/
END:VEVENT
BEGIN:VEVENT
DTSTART;TZID=Europe/Amsterdam:20221228T193000
DTEND;TZID=Europe/Amsterdam:20221228T213000
DTSTAMP:20260422T013548
CREATED:20220824T175130Z
LAST-MODIFIED:20220824T175130Z
UID:10001746-1672255800-1672263000@vidireo.nl
SUMMARY:Vrolijke Vrollie
DESCRIPTION:
URL:https://vidireo.nl/event/vrolijke-vrollie/2022-12-28/
END:VEVENT
BEGIN:VEVENT
DTSTART;TZID=Europe/Amsterdam:20221227T190000
DTEND;TZID=Europe/Amsterdam:20221227T223000
DTSTAMP:20260422T013548
CREATED:20220815T051224Z
LAST-MODIFIED:20220815T051725Z
UID:10001490-1672167600-1672180200@vidireo.nl
SUMMARY:BigBand repetitie
DESCRIPTION:wekelijkse repetitie van de BigBand
URL:https://vidireo.nl/event/bigband-repetitie/2022-12-27/
END:VEVENT
BEGIN:VEVENT
DTSTART;TZID=Europe/Amsterdam:20221227T170000
DTEND;TZID=Europe/Amsterdam:20221227T183000
DTSTAMP:20260422T013548
CREATED:20220815T170323Z
LAST-MODIFIED:20220815T170323Z
UID:10001649-1672160400-1672165800@vidireo.nl
SUMMARY:Slagwerk OBK
DESCRIPTION:
URL:https://vidireo.nl/event/slagwerk-obk/2022-12-27/
END:VEVENT
END:VCALENDAR