BEGIN:VCALENDAR
VERSION:2.0
PRODID:-//VidiReo - ECPv6.15.20//NONSGML v1.0//EN
CALSCALE:GREGORIAN
METHOD:PUBLISH
X-WR-CALNAME:VidiReo
X-ORIGINAL-URL:https://vidireo.nl
X-WR-CALDESC:Evenementen voor VidiReo
REFRESH-INTERVAL;VALUE=DURATION:PT1H
X-Robots-Tag:noindex
X-PUBLISHED-TTL:PT1H
BEGIN:VTIMEZONE
TZID:Europe/Amsterdam
BEGIN:DAYLIGHT
TZOFFSETFROM:+0100
TZOFFSETTO:+0200
TZNAME:CEST
DTSTART:20220327T010000
END:DAYLIGHT
BEGIN:STANDARD
TZOFFSETFROM:+0200
TZOFFSETTO:+0100
TZNAME:CET
DTSTART:20221030T010000
END:STANDARD
BEGIN:DAYLIGHT
TZOFFSETFROM:+0100
TZOFFSETTO:+0200
TZNAME:CEST
DTSTART:20230326T010000
END:DAYLIGHT
BEGIN:STANDARD
TZOFFSETFROM:+0200
TZOFFSETTO:+0100
TZNAME:CET
DTSTART:20231029T010000
END:STANDARD
BEGIN:DAYLIGHT
TZOFFSETFROM:+0100
TZOFFSETTO:+0200
TZNAME:CEST
DTSTART:20240331T010000
END:DAYLIGHT
BEGIN:STANDARD
TZOFFSETFROM:+0200
TZOFFSETTO:+0100
TZNAME:CET
DTSTART:20241027T010000
END:STANDARD
END:VTIMEZONE
BEGIN:VEVENT
DTSTART;TZID=Europe/Amsterdam:20230207T103000
DTEND;TZID=Europe/Amsterdam:20230207T183000
DTSTAMP:20260421T222744
CREATED:20220815T163403Z
LAST-MODIFIED:20220815T163903Z
UID:10001579-1675765800-1675794600@vidireo.nl
SUMMARY:KrulKracht dagbeleving
DESCRIPTION:
URL:https://vidireo.nl/event/krulkracht-dagbeleving/2023-02-07/
END:VEVENT
BEGIN:VEVENT
DTSTART;TZID=Europe/Amsterdam:20230206T183000
DTEND;TZID=Europe/Amsterdam:20230206T223000
DTSTAMP:20260421T222744
CREATED:20220815T163644Z
LAST-MODIFIED:20220815T163645Z
UID:10001603-1675708200-1675722600@vidireo.nl
SUMMARY:Harmonie
DESCRIPTION:
URL:https://vidireo.nl/event/harmonie/2023-02-06/
END:VEVENT
BEGIN:VEVENT
DTSTART;TZID=Europe/Amsterdam:20230206T163000
DTEND;TZID=Europe/Amsterdam:20230206T173000
DTSTAMP:20260421T222744
CREATED:20220815T193651Z
LAST-MODIFIED:20220815T193651Z
UID:10001705-1675701000-1675704600@vidireo.nl
SUMMARY:Jeugd Theater Spons
DESCRIPTION:
URL:https://vidireo.nl/event/jeugd-theater-spons/2023-02-06/
END:VEVENT
BEGIN:VEVENT
DTSTART;TZID=Europe/Amsterdam:20230205T140000
DTEND;TZID=Europe/Amsterdam:20230205T160000
DTSTAMP:20260421T222744
CREATED:20220826T084000Z
LAST-MODIFIED:20220826T084000Z
UID:10001339-1675605600-1675612800@vidireo.nl
SUMMARY:Ontmoeten Zorgcooperatie
DESCRIPTION:
URL:https://vidireo.nl/event/ontmoeten-zorgcooperatie/2023-02-05/
END:VEVENT
BEGIN:VEVENT
DTSTART;TZID=Europe/Amsterdam:20230203T140000
DTEND;TZID=Europe/Amsterdam:20230203T160000
DTSTAMP:20260421T222744
CREATED:20220826T084000Z
LAST-MODIFIED:20220826T084000Z
UID:10001338-1675432800-1675440000@vidireo.nl
SUMMARY:Ontmoeten Zorgcooperatie
DESCRIPTION:
URL:https://vidireo.nl/event/ontmoeten-zorgcooperatie/2023-02-03/
END:VEVENT
BEGIN:VEVENT
DTSTART;TZID=Europe/Amsterdam:20230202T103000
DTEND;TZID=Europe/Amsterdam:20230202T183000
DTSTAMP:20260421T222744
CREATED:20220815T163403Z
LAST-MODIFIED:20220815T163903Z
UID:10001578-1675333800-1675362600@vidireo.nl
SUMMARY:KrulKracht dagbeleving
DESCRIPTION:
URL:https://vidireo.nl/event/krulkracht-dagbeleving/2023-02-02/
END:VEVENT
BEGIN:VEVENT
DTSTART;TZID=Europe/Amsterdam:20230201T193000
DTEND;TZID=Europe/Amsterdam:20230201T220000
DTSTAMP:20260421T222744
CREATED:20220815T054742Z
LAST-MODIFIED:20220815T054743Z
UID:10001528-1675279800-1675288800@vidireo.nl
SUMMARY:Film Les Beaux Jours
DESCRIPTION:Entree  € 5\,00 p.p. \n\n\n\n\n\n\n\n“Melancholisch en innemend. Eindelijk kan Caroline met pensioen. Een nieuw leven ligt voor haar: tijd om voor haar kinderen te zorgen\, voor haar echtgenoot en bovenal voor zichzelf. Ze leert echter al snel dat deze nieuwe vrijheid synoniem staat voor verveling en leegheid. Vooral wanneer ze als verjaardagscadeau een lidmaatschapskaart voor een seniorenclub krijgt. En vreemd genoeg ontmoet ze er fantastische mensen\, met name een jonge leraar \, die helemaal niet ongevoelig is voor haar charmes
URL:https://vidireo.nl/event/film-les-beaux-jours/
END:VEVENT
BEGIN:VEVENT
DTSTART;TZID=Europe/Amsterdam:20230131T190000
DTEND;TZID=Europe/Amsterdam:20230131T223000
DTSTAMP:20260421T222744
CREATED:20220815T051224Z
LAST-MODIFIED:20220815T051725Z
UID:10001495-1675191600-1675204200@vidireo.nl
SUMMARY:BigBand repetitie
DESCRIPTION:wekelijkse repetitie van de BigBand
URL:https://vidireo.nl/event/bigband-repetitie/2023-01-31/
END:VEVENT
BEGIN:VEVENT
DTSTART;TZID=Europe/Amsterdam:20230131T170000
DTEND;TZID=Europe/Amsterdam:20230131T183000
DTSTAMP:20260421T222744
CREATED:20220815T170323Z
LAST-MODIFIED:20220815T170323Z
UID:10001654-1675184400-1675189800@vidireo.nl
SUMMARY:Slagwerk OBK
DESCRIPTION:
URL:https://vidireo.nl/event/slagwerk-obk/2023-01-31/
END:VEVENT
BEGIN:VEVENT
DTSTART;TZID=Europe/Amsterdam:20230131T103000
DTEND;TZID=Europe/Amsterdam:20230131T183000
DTSTAMP:20260421T222744
CREATED:20220815T163403Z
LAST-MODIFIED:20220815T163903Z
UID:10001577-1675161000-1675189800@vidireo.nl
SUMMARY:KrulKracht dagbeleving
DESCRIPTION:
URL:https://vidireo.nl/event/krulkracht-dagbeleving/2023-01-31/
END:VEVENT
BEGIN:VEVENT
DTSTART;TZID=Europe/Amsterdam:20230130T183000
DTEND;TZID=Europe/Amsterdam:20230130T223000
DTSTAMP:20260421T222744
CREATED:20220815T163644Z
LAST-MODIFIED:20220815T163645Z
UID:10001602-1675103400-1675117800@vidireo.nl
SUMMARY:Harmonie
DESCRIPTION:
URL:https://vidireo.nl/event/harmonie/2023-01-30/
END:VEVENT
BEGIN:VEVENT
DTSTART;TZID=Europe/Amsterdam:20230130T163000
DTEND;TZID=Europe/Amsterdam:20230130T173000
DTSTAMP:20260421T222744
CREATED:20220815T193651Z
LAST-MODIFIED:20220815T193651Z
UID:10001704-1675096200-1675099800@vidireo.nl
SUMMARY:Jeugd Theater Spons
DESCRIPTION:
URL:https://vidireo.nl/event/jeugd-theater-spons/2023-01-30/
END:VEVENT
BEGIN:VEVENT
DTSTART;TZID=Europe/Amsterdam:20230129T140000
DTEND;TZID=Europe/Amsterdam:20230129T160000
DTSTAMP:20260421T222744
CREATED:20220826T084000Z
LAST-MODIFIED:20220826T084000Z
UID:10001337-1675000800-1675008000@vidireo.nl
SUMMARY:Ontmoeten Zorgcooperatie
DESCRIPTION:
URL:https://vidireo.nl/event/ontmoeten-zorgcooperatie/2023-01-29/
END:VEVENT
BEGIN:VEVENT
DTSTART;TZID=Europe/Amsterdam:20230127T140000
DTEND;TZID=Europe/Amsterdam:20230127T160000
DTSTAMP:20260421T222744
CREATED:20220826T084000Z
LAST-MODIFIED:20220826T084000Z
UID:10001336-1674828000-1674835200@vidireo.nl
SUMMARY:Ontmoeten Zorgcooperatie
DESCRIPTION:
URL:https://vidireo.nl/event/ontmoeten-zorgcooperatie/2023-01-27/
END:VEVENT
BEGIN:VEVENT
DTSTART;TZID=Europe/Amsterdam:20230126T103000
DTEND;TZID=Europe/Amsterdam:20230126T183000
DTSTAMP:20260421T222744
CREATED:20220815T163403Z
LAST-MODIFIED:20220815T163903Z
UID:10001576-1674729000-1674757800@vidireo.nl
SUMMARY:KrulKracht dagbeleving
DESCRIPTION:
URL:https://vidireo.nl/event/krulkracht-dagbeleving/2023-01-26/
END:VEVENT
BEGIN:VEVENT
DTSTART;TZID=Europe/Amsterdam:20230125T193000
DTEND;TZID=Europe/Amsterdam:20230125T213000
DTSTAMP:20260421T222744
CREATED:20220824T175130Z
LAST-MODIFIED:20220824T175130Z
UID:10001748-1674675000-1674682200@vidireo.nl
SUMMARY:Vrolijke Vrollie
DESCRIPTION:
URL:https://vidireo.nl/event/vrolijke-vrollie/2023-01-25/
END:VEVENT
BEGIN:VEVENT
DTSTART;TZID=Europe/Amsterdam:20230124T190000
DTEND;TZID=Europe/Amsterdam:20230124T223000
DTSTAMP:20260421T222744
CREATED:20220815T051224Z
LAST-MODIFIED:20220815T051725Z
UID:10001494-1674586800-1674599400@vidireo.nl
SUMMARY:BigBand repetitie
DESCRIPTION:wekelijkse repetitie van de BigBand
URL:https://vidireo.nl/event/bigband-repetitie/2023-01-24/
END:VEVENT
BEGIN:VEVENT
DTSTART;TZID=Europe/Amsterdam:20230124T170000
DTEND;TZID=Europe/Amsterdam:20230124T183000
DTSTAMP:20260421T222744
CREATED:20220815T170323Z
LAST-MODIFIED:20220815T170323Z
UID:10001653-1674579600-1674585000@vidireo.nl
SUMMARY:Slagwerk OBK
DESCRIPTION:
URL:https://vidireo.nl/event/slagwerk-obk/2023-01-24/
END:VEVENT
BEGIN:VEVENT
DTSTART;TZID=Europe/Amsterdam:20230124T103000
DTEND;TZID=Europe/Amsterdam:20230124T183000
DTSTAMP:20260421T222744
CREATED:20220815T163403Z
LAST-MODIFIED:20220815T163903Z
UID:10001575-1674556200-1674585000@vidireo.nl
SUMMARY:KrulKracht dagbeleving
DESCRIPTION:
URL:https://vidireo.nl/event/krulkracht-dagbeleving/2023-01-24/
END:VEVENT
BEGIN:VEVENT
DTSTART;TZID=Europe/Amsterdam:20230123T183000
DTEND;TZID=Europe/Amsterdam:20230123T223000
DTSTAMP:20260421T222744
CREATED:20220815T163644Z
LAST-MODIFIED:20220815T163645Z
UID:10001601-1674498600-1674513000@vidireo.nl
SUMMARY:Harmonie
DESCRIPTION:
URL:https://vidireo.nl/event/harmonie/2023-01-23/
END:VEVENT
BEGIN:VEVENT
DTSTART;TZID=Europe/Amsterdam:20230123T163000
DTEND;TZID=Europe/Amsterdam:20230123T173000
DTSTAMP:20260421T222744
CREATED:20220815T193651Z
LAST-MODIFIED:20220815T193651Z
UID:10001703-1674491400-1674495000@vidireo.nl
SUMMARY:Jeugd Theater Spons
DESCRIPTION:
URL:https://vidireo.nl/event/jeugd-theater-spons/2023-01-23/
END:VEVENT
BEGIN:VEVENT
DTSTART;TZID=Europe/Amsterdam:20230122T141100
DTEND;TZID=Europe/Amsterdam:20230122T164100
DTSTAMP:20260421T222744
CREATED:20230121T124428Z
LAST-MODIFIED:20230121T124542Z
UID:10001352-1674396660-1674405660@vidireo.nl
SUMMARY:Jeugdpronkzitting
DESCRIPTION:Tijdens deze middag staat de onthulling van de Jeugdprins\, Jeugdprinses en de voltallige Jeugdraad van Pomperstad centraal. Ook vinden er hele leuke\, speciale en carnavaleske optredens plaats van kinderen uit Ravenstein en omstreken. Onder begeleiding van een DJ wordt er gedanst en gehost samen met de Stadsprins van Pomperstad en zijn gevolg.
URL:https://vidireo.nl/event/jeugdpronkzitting/
ATTACH;FMTTYPE=image/jpeg:https://vidireo.nl/wp-content/uploads/2023/01/DC0E4E86-3165-4172-91CA-72F90938B2E9.jpeg
END:VEVENT
BEGIN:VEVENT
DTSTART;TZID=Europe/Amsterdam:20230122T140000
DTEND;TZID=Europe/Amsterdam:20230122T160000
DTSTAMP:20260421T222744
CREATED:20220826T084000Z
LAST-MODIFIED:20220826T084000Z
UID:10001335-1674396000-1674403200@vidireo.nl
SUMMARY:Ontmoeten Zorgcooperatie
DESCRIPTION:
URL:https://vidireo.nl/event/ontmoeten-zorgcooperatie/2023-01-22/
END:VEVENT
BEGIN:VEVENT
DTSTART;TZID=Europe/Amsterdam:20230120T140000
DTEND;TZID=Europe/Amsterdam:20230120T160000
DTSTAMP:20260421T222744
CREATED:20220826T084000Z
LAST-MODIFIED:20220826T084000Z
UID:10001334-1674223200-1674230400@vidireo.nl
SUMMARY:Ontmoeten Zorgcooperatie
DESCRIPTION:
URL:https://vidireo.nl/event/ontmoeten-zorgcooperatie/2023-01-20/
END:VEVENT
BEGIN:VEVENT
DTSTART;TZID=Europe/Amsterdam:20230119T103000
DTEND;TZID=Europe/Amsterdam:20230119T183000
DTSTAMP:20260421T222744
CREATED:20220815T163403Z
LAST-MODIFIED:20220815T163903Z
UID:10001574-1674124200-1674153000@vidireo.nl
SUMMARY:KrulKracht dagbeleving
DESCRIPTION:
URL:https://vidireo.nl/event/krulkracht-dagbeleving/2023-01-19/
END:VEVENT
BEGIN:VEVENT
DTSTART;TZID=Europe/Amsterdam:20230117T190000
DTEND;TZID=Europe/Amsterdam:20230117T223000
DTSTAMP:20260421T222744
CREATED:20220815T051224Z
LAST-MODIFIED:20220815T051725Z
UID:10001493-1673982000-1673994600@vidireo.nl
SUMMARY:BigBand repetitie
DESCRIPTION:wekelijkse repetitie van de BigBand
URL:https://vidireo.nl/event/bigband-repetitie/2023-01-17/
END:VEVENT
BEGIN:VEVENT
DTSTART;TZID=Europe/Amsterdam:20230117T170000
DTEND;TZID=Europe/Amsterdam:20230117T183000
DTSTAMP:20260421T222744
CREATED:20220815T170323Z
LAST-MODIFIED:20220815T170323Z
UID:10001652-1673974800-1673980200@vidireo.nl
SUMMARY:Slagwerk OBK
DESCRIPTION:
URL:https://vidireo.nl/event/slagwerk-obk/2023-01-17/
END:VEVENT
BEGIN:VEVENT
DTSTART;TZID=Europe/Amsterdam:20230117T103000
DTEND;TZID=Europe/Amsterdam:20230117T183000
DTSTAMP:20260421T222744
CREATED:20220815T163403Z
LAST-MODIFIED:20220815T163903Z
UID:10001573-1673951400-1673980200@vidireo.nl
SUMMARY:KrulKracht dagbeleving
DESCRIPTION:
URL:https://vidireo.nl/event/krulkracht-dagbeleving/2023-01-17/
END:VEVENT
BEGIN:VEVENT
DTSTART;TZID=Europe/Amsterdam:20230116T183000
DTEND;TZID=Europe/Amsterdam:20230116T223000
DTSTAMP:20260421T222744
CREATED:20220815T163644Z
LAST-MODIFIED:20220815T163645Z
UID:10001600-1673893800-1673908200@vidireo.nl
SUMMARY:Harmonie
DESCRIPTION:
URL:https://vidireo.nl/event/harmonie/2023-01-16/
END:VEVENT
BEGIN:VEVENT
DTSTART;TZID=Europe/Amsterdam:20230116T163000
DTEND;TZID=Europe/Amsterdam:20230116T173000
DTSTAMP:20260421T222744
CREATED:20220815T193651Z
LAST-MODIFIED:20220815T193651Z
UID:10001702-1673886600-1673890200@vidireo.nl
SUMMARY:Jeugd Theater Spons
DESCRIPTION:
URL:https://vidireo.nl/event/jeugd-theater-spons/2023-01-16/
END:VEVENT
END:VCALENDAR