BEGIN:VCALENDAR
VERSION:2.0
PRODID:-//VidiReo - ECPv6.15.20//NONSGML v1.0//EN
CALSCALE:GREGORIAN
METHOD:PUBLISH
X-WR-CALNAME:VidiReo
X-ORIGINAL-URL:https://vidireo.nl
X-WR-CALDESC:Evenementen voor VidiReo
REFRESH-INTERVAL;VALUE=DURATION:PT1H
X-Robots-Tag:noindex
X-PUBLISHED-TTL:PT1H
BEGIN:VTIMEZONE
TZID:Europe/Amsterdam
BEGIN:DAYLIGHT
TZOFFSETFROM:+0100
TZOFFSETTO:+0200
TZNAME:CEST
DTSTART:20250330T010000
END:DAYLIGHT
BEGIN:STANDARD
TZOFFSETFROM:+0200
TZOFFSETTO:+0100
TZNAME:CET
DTSTART:20251026T010000
END:STANDARD
BEGIN:DAYLIGHT
TZOFFSETFROM:+0100
TZOFFSETTO:+0200
TZNAME:CEST
DTSTART:20260329T010000
END:DAYLIGHT
BEGIN:STANDARD
TZOFFSETFROM:+0200
TZOFFSETTO:+0100
TZNAME:CET
DTSTART:20261025T010000
END:STANDARD
BEGIN:DAYLIGHT
TZOFFSETFROM:+0100
TZOFFSETTO:+0200
TZNAME:CEST
DTSTART:20270328T010000
END:DAYLIGHT
BEGIN:STANDARD
TZOFFSETFROM:+0200
TZOFFSETTO:+0100
TZNAME:CET
DTSTART:20271031T010000
END:STANDARD
END:VTIMEZONE
BEGIN:VEVENT
DTSTART;TZID=Europe/Amsterdam:20260421T100000
DTEND;TZID=Europe/Amsterdam:20260421T120000
DTSTAMP:20260421T114816
CREATED:20250811T040926Z
LAST-MODIFIED:20250811T042355Z
UID:10003144-1776765600-1776772800@vidireo.nl
SUMMARY:Kofie drinken 10:00-12:00 uur.
DESCRIPTION:Samen maken we de ochtend een stukje gezelliger. \n\n\n\n. \n\n\n\n\n\nKoffie drinken bij Buurthuis VidiReo Elke dinsdagochtend 10:00 – 12:00 uur \n\n\n\nKom langs voor een kopje koffie\, een goed gesprek en een gezellige sfeer. Iedere dinsdag staat de koffie klaar in Buurthuis VidiReo. Of je nu even wilt bijpraten\, nieuwe mensen wilt ontmoeten of gewoon wilt genieten van een rustig moment je bent van harte welkom. \n\n\n\n📍 Waar: Buurthuis VidiReo🕙 Wanneer: Elke dinsdag van 10:00 tot 12:00 uur🎉 Voor wie: Iedereen uit de buurt \n\n\n\nTot dinsdag.
URL:https://vidireo.nl/event/kofie-drinken-1000-1200-uur-samen-maken-we-de-ochtend-een-stukje-gezelliger/2026-04-21/
ATTACH;FMTTYPE=image/jpeg:https://vidireo.nl/wp-content/uploads/2020/07/buiten-koffie.jpg
END:VEVENT
END:VCALENDAR